Workbook
Name INPUT: [1]Input!$C$10:$V$109
Name INPUT: Input!$C$10:$AU$109
Name No_of_Columns: [1]Input!$AV$10
Name No_of_Columns: Input!$CT$10
Name No_of_Product_Classes: [1]Input!$AV$11
Name No_of_Product_Classes: Input!$CT$11
Name PrClDesc: '[1]Product Group Codes'!$A$4:$B$28
Name PrClDesc: 'Product Group Codes'!$A$4:$B$5

Sheet Certification
A1: OMB Control Number: 1910-1400 (Expiration Date: September 30, 2024) OMB Control Number: 3084-0069 (Expiration Date: April 30, 2027) | L1: Version 5.6 | P1: 13
A2: DOE F 220.8 | N2: Certifier | O2: Submitter | P2: 17
A3: =D3 -> Dishwashers | C3: Product Type: | D3: Dishwashers | J3: Status of This Certification Sheet | K3: =IF(AND(COUNTIF(D11,"Please enter required data")+COUNTIF(K11,"Please enter required data")+COUNTIF(E16:E20,"Please enter required data")+COUNTIF(K16:K20,"Please enter required data")+COUNTIF(E26,"Please enter required data")+COUNTIF(K26,"Please enter required data")=14,COUNTIF(K16:K20,"No entry should be made")=0),"No Data",IF(AND(COUNTIF(D11,"Please enter required data")+COUNTIF(K11,"Please enter required data")+COUNTIF(E16:E20,"Please enter required data")+COUNTIF(K16:K20,"Please enter required data")+COUNTIF(E26,"Please enter required data")+COUNTIF(K26,"Please enter required data")=0,COUNTIF(K16:K20,"No entry should be made")=0),"OK","Error")) -> No Data | N3: =N11 -> 0 | O3: =N12 -> 0 | P3: 20
A4: =RIGHT(L1,LEN(L1)-8) -> 5.6 | P4: 10
J5: Overall Status of Template | K5: =IF(OR(K3="Error",Input!E3="Error"),"Error",IF(OR(K3="No Data",Input!E3="No Data"),"No Data","OK")) -> No Data | N5: =IF(N3=1,"U.S. Manufacturer",IF(N3=2,"Importer","No Type")) -> No Type | O5: =IF(O3=1,IF(N3=1,"U.S. Manufacturer",IF(N3=2,"Importer","No Type")),IF(O3=2,"Third Party Representative","No Type")) -> No Type | P5: 20
D6: Click here for instructions for completing this form | P6: 20
P7: 10
A8: Each Importer and U.S. Manufacturer is legally required to certify the compliance of the products it imports, produces, assembles or manufactures. This party is the "Certifier" on this form. This certification may be submitted by the Importer or U.S. manufacturer or by a Third Party Representative. This party is the "Submitter" on this form. | P8: 40
B9: Certifier - Party Legally Obligated to Certify Compliance | H9: Submitter - Party Submitting This Report | P9: 18
B10: The party responsible for certification is (select one only): | H10: The party submitting this report is (select one only): | P10: 18
D11: =IF(OR(N11=1,N11=2),"","Please enter required data") -> Please enter required data | K11: =IF(OR(N12=1,N12=2),"","Please enter required data") -> Please enter required data | N11: 0 | P11: 28
N12: 0 | P12: 28
P13: 13
B14: Certifier Contact Information | H14: Third Party Representative Contact Information, if Applicable | P14: 13
P15: 13
A16: Full Legal Name of Individual | E16: =IF(ISBLANK(D16),"Please enter required data",IF(ISNONTEXT(D16),"Please enter required data","")) -> Please enter required data | G16: Full Legal Name of Individual | K16: =IF($N$12=1,IF(ISBLANK(J16),"","No entry should be made"),IF(ISBLANK(J16),"Please enter required data",IF(ISNONTEXT(J16),"Please enter required data",""))) -> Please enter required data | N16: aaaaaaaaaaaaaaaaa | P16: 23
A17: Full Legal Name of Company | E17: =IF(ISBLANK(D17),"Please enter required data",IF(ISNONTEXT(D17),"Please enter required data","")) -> Please enter required data | G17: Full Legal Name of Company | K17: =IF($N$12=1,IF(ISBLANK(J17),"","No entry should be made"),IF(ISBLANK(J17),"Please enter required data",IF(ISNONTEXT(J17),"Please enter required data",""))) -> Please enter required data | N17: aaaaaaaaaaaaaaaaa | P17: 23
A18: Complete Company Mailing Address | E18: =IF(ISBLANK(D18),"Please enter required data",IF(ISNONTEXT(D18),"Please enter required data","")) -> Please enter required data | G18: Complete Company Mailing Address | K18: =IF($N$12=1,IF(ISBLANK(J18),"","No entry should be made"),IF(ISBLANK(J18),"Please enter required data",IF(ISNONTEXT(J18),"Please enter required data",""))) -> Please enter required data | N18: aaaaaaaaaaaaaaaaa | P18: 23
A19: Phone Number | E19: =IF(ISBLANK(D19),"Please enter required data","") -> Please enter required data | G19: Phone Number | K19: =IF($N$12=1,IF(ISBLANK(J19),"","No entry should be made"),IF(ISBLANK(J19),"Please enter required data","")) -> Please enter required data | N19: aaaaaaaaaaaaaaaaa | P19: 23
A20: Email Address | E20: =IF(IF(ISERROR(FIND("@",D20)),1,0)+IF(ISERROR(FIND(".",D20)),1,0)>0,"Please enter required data"," ") -> Please enter required data | G20: Email Address | K20: =IF($N$12=1,IF(ISBLANK(J20),"","No entry should be made"),IF(IF(ISERROR(FIND("@",J20)),1,0)+IF(ISERROR(FIND(".",J20)),1,0)>0,"Please enter required data"," ")) -> Please enter required data | N20: aaaaaaaaaaaaaaaaa | P20: 23
P21: 13
P22: 13
B23: ="Compliance Statement "&IF(N12=2,"- Third Party Representative", IF(AND(N11=1,N12=1),"- U.S. Manufacturer",IF(AND(N11=2,N12=1),"- Importer",""))) -> Compliance Statement | P23: 17
B24: =IF(N12=0,"Select one of the options for 'Submitter - Party Submitting This Report' above",IF(N12=1,N24,IF(N12=2,O24,"Error in Submitter Type"))) -> Select one of the options for 'Submitter - Party Submitting This Report' above | N24: I certify that: (1) This certification report is submitted in accordance with 10 CFR Parts 429, 430, and 431; 16 CFR 305; and the Energy Policy and Conservation Act, as amended. (2) The basic models listed in this certification report comply with the applicable conservation standard(s); (3) All required testing has been conducted in conformance with the applicable test requirements prescribed in parts 10 CFR Parts 429, 430 and 431, as appropriate, or in accordance with the terms of an applicable test procedure waiver; (4) All information reported in this certification report is true, accurate, and complete; and (5) I am aware of the penalties associated with violations of the Energy Policy and Conservation Act (Pub. L. 94-163), as amended by Pub. L. 95-619, Pub. L. 100-12, Pub. L. 100-357, and Pub. L. 102-486 (the Act), the regulations thereunder, and 18 U.S.C. 1001 which prohibits knowingly making false statements to the Federal Government. | O24: I certify that: (1) This certification report is submitted in accordance with 10 CFR Parts 429, 430, and 431; 16 CFR 305; and the Energy Policy and Conservation Act, as amended. (2) An authorization granting me the authority to submit this information on behalf of the Certifier is on file with the U.S. Department of Energy. (3) The basic models listed in this certification report comply with the applicable conservation standard(s); (4) All required testing has been conducted in conformance with the applicable test requirements prescribed in 10 CFR Parts 429, 430 and 431, as appropriate, or in accordance with the terms of an applicable test procedure waiver; (5) All information reported in this certification report is true, accurate, and complete; and (6) I am aware of the penalties associated with violations of the Energy Policy and Conservation Act (Pub. L. 94-163), as amended by Pub. L. 95-619, Pub. L. 100-12, Pub. L. 100-357, and Pub. L. 102-486 (the Act), the regulations thereunder, and 18 U.S.C. 1001 which prohibits knowingly making false statements to the Federal Government. | P24: 115
P25: 6
B26: Submitter Signature (Type your Full Legal Name) | E26: =IF(ISBLANK(D26),"Please enter required data",IF(ISNONTEXT(D26),"Please enter required data","")) -> Please enter required data | I26: Date (MM/DD/YYYY) | K26: =IF(ISNUMBER(J26),"","Please enter required data") -> Please enter required data | P26: 38
P27: 13
P28: 13
P29: 13
B30: OMB Control Number: 1910-1400 (Expiration Date: September 30, 2024) | P30: 13
P31: 13
B32: Paperwork Reduction Act Statement | P32: 13
B33: OMB Burden Disclosure Statement | P33: 13
P34: 13
B35: This data is being collected for manufacturers to certify compliance to DOE's energy conservation, water conservation, or design standards. The data you supply will be used by the Department to monitor compliance with the energy conservation, water conservation, and design standards and testing requirements for the consumer products and commercial and industrial equipment mandated by the Energy Policy and Conservation Act, as amended. Public reporting burden for this collection of information is estimated to average 35 hours per response, including the time for reviewing instructions, searching existing data sources, gathering and maintaining the data needed, and completing and reviewing the collection of information. Send comments regarding this burden estimate or any other aspect of this collection of information, including suggestions for reducing this burden, to Office of the Chief Information Officer, Records Management Division, IM-23, Paperwork Reduction Project (1910-1400), U.S. Department of Energy, 1000 Independence Ave SW, Washington, DC, 20585-1290; and to the Office of Management and Budget (OMB), OIRA, Paperwork Reduction Project (1910-1400), Washington, DC 20503. Notwithstanding any other provision of the law, no person is required to respond to, nor shall any person be subject to a penalty for failure to comply with a collection of information subject to the requirements of the Paperwork Reduction Act unless that collection of information displays a currently valid OMB control number. Submission of this data is mandatory. | P35: 185
P36: 13
B37: OMB Control Number: 3084-0069 (Expiration Date: April 30, 2027) | P37: 13
P38: 13
B39: Paperwork Reduction Act Statement | P39: 13
B40: OMB Burden Disclosure Statement | P40: 13
P41: 13
B42: This data is being collected for manufacturers to report required information to the Federal Trade Commission. This information is shared with the public for the purpose of encouraging consumers to comparison shop for energy-efficiency household products. Public reporting burden for this collection of information is estimated to average from 2 minutes per year per basic product model to 15 hours per year per manufacturer, including the time for reviewing instructions, searching existing data sources, gathering and maintaining the data needed, and completing and reviewing the collection of information. Send comments regarding this burden estimate or any other aspect of this collection of information, including suggestions for reducing this burden, to Division of Enforcement, Bureau of Consumer Protection, Federal Trade Commission, 600 Pennsylvania Avenue NW, Washington, DC 20580; and to the Office of Management and Budget (OMB), OIRA, New Executive Office Building, Docket Library Room 10102, 725 17th Street NW, Washington, DC 20503, Attn: Desk Officer for the Federal Trade Commission. Notwithstanding any other provision of the law, no person is required to respond to, nor shall any person be subject to a penalty for failure to comply with a collection of information subject to the requirements of the Paperwork Reduction Act unless that collection of information displays a currently valid OMB control number. Submission of this data is required by the Federal Trade Commission; submission through CCMS is optional. | P42: 172

Sheet Input
A1: =Certification!A3 -> Dishwashers | B1: =Certification!D3 -> Dishwashers | I1: =Certification!L1 -> Version 5.6 | L1: · Please enter your data in the columns shaded in gray below, using a separate line for each model. · Click on the column heading for instructions on how to complete cells in that column. · Cells highlighted in yellow indicate an "Error." "Error" means that information is missing or there is an issue with the entry. · If the "Status" for a row is "Error," you can see an explanation in the columns to the far right.
A2: =Certification!A4 -> 5.6
B3: Status of This Input Sheet | E3: =IF(COUNTA(INPUT)=0,"No Data",IF(COUNTIF(B10:B109,"Error")>0,"Error","OK")) -> No Data | F3: Overall Status of Template | H3: =Certification!K5 -> No Data
B5: Certification Report | F5: Click here for instructions for completing this form | AW5: The cells below provide an explanation for "Errors". | BB5: The cells below provide an explanation for "Errors". | BF5: The cells below provide an explanation for "Errors". | BI5: The cells below provide an explanation for "Errors". | BN5: The cells below provide an explanation for "Errors". | BQ5: The cells below provide an explanation for "Errors". | BV5: The cells below provide an explanation for "Errors". | BZ5: The cells below provide an explanation for "Errors". | CD5: The cells below provide an explanation for "Errors". | CH5: The cells below provide an explanation for "Errors". | CL5: The cells below provide an explanation for "Errors".
AG7: Entry in the Columns Below is Optional | AU7: By annual report date
A8: Line No. | B8: Status | C8: Manufacturer | E8: Brand Name(s) | F8: Basic Model Number | G8: Individual Model Number Covered by Basic Model | H8: Action | I8: Product Group Code | K8: Sample Size (Number of Units Tested) | L8: Is the Certification for this Basic Model Based on a Waiver of DOE's Test Procedure Requirements? | M8: Date of Test Procedure Waiver, if Applicable | N8: Is the Certification based upon any Exception Relief from an Applicable Standard by DOE's Office of Hearing and Appeals? | O8: Date of Exception Relief, if Applicable | R8: Estimated Annual Energy Use (kWh/year) | S8: Water Consumption (Gallons per Cycle) | T8: Capacity (Number of Place Settings) | U8: Does the Dishwasher Have a Soil Sensor? | V8: If Soil-Sensing, the Number of Cycles Required to Reach Calibration | W8: Water Inlet Temperature Used for Testing (Degrees F) | X8: Cycle Selected for Energy Testing | Y8: Is the Selected Test Cycle Soil-Sensing? | Z8: Options Selected for Energy Testing | AA8: Was Testing Conducted Using Cascade Complete Powder or Cascade with the Grease Fighting Power of Dawn Powder? | AB8: Does the Dishwasher Have a Built-In Water Softening System? | AC8: Complete the Cells Below for Dishwashers with Built-In Water Softening Systems Only | AG8: Is this a Water Re-Use System Dishwasher? | AH8: Complete the Cells Below for Water Re-Use System Dishwashers Only | AP8: Does the Dishwasher have a Built-in Reservoir? | AQ8: Complete the Cells Below for Dishwashers with Built-In Reservoirs Only | AU8: Link to EnergyGuide Label Website (Enter link or, if submitting link later, enter 'By annual report date')
AC9: Energy Use Required for Each Regeneration of the Water Softening System (kWh) | AD9: Water Use Required for Each Regeneration of the Water Softening System (Gallons) | AE9: Number of Regeneration Cycles per Year | AF9: What Data and Calculations Were Used to Derive the Values Input for: Energy Use, Water Use, and the Maximum Number of Regeneration Cycles per Year? | AH9: Energy Use Required for a Drain Out Event (kWh) | AI9: Water Use Required for a Drain Out Event (Gallons) | AJ9: Number of Drain Out Events per Year | AK9: Energy Use Required for a Clean Out Event (kWh) | AL9: Water Use Required for a Clean Out Event (Gal) | AM9: Number of Clean Out Events per Year | AN9: Water Fill Volume to Calculate Detergent Dosage (Gallons) | AO9: What Data and Calculations Were Used to Derive the Values Input for: Energy and Water Use for Drain Out and Clean Out Events, Numbers of Drain Out and Clean Out Events per Year, and Water Fill Volume? | AQ9: Manufacturer Stated Reservoir Capacity (Gallons) | AR9: Prewash Fill Water Volume (Gallons) | AS9: Main Wash Fill Water Volume (Gallons) | AT9: Reservoir Water Consumption (Gallons per Cycle) | AW9: =C8&" Status" -> Manufacturer Status | AX9: =D9&" Status" -> Status | AY9: =E8&" Status" -> Brand Name(s) Status | AZ9: =F8&" Status" -> Basic Model Number Status | BA9: =G8&" Status" -> Individual Model Number Covered by Basic Model Status | BB9: =H8&" Status" -> Action Status | BC9: =I8&" Status" -> Product Group Code Status | BD9: =J9&" Status" -> Status | BE9: =K8&" Status" -> Sample Size (Number of Units Tested) Status | BF9: =L8&" Status" -> Is the Certification for this Basic Model Based on a Waiver of DOE's Test Procedure Requirements? Status | BG9: =M8&" Status" -> Date of Test Procedure Waiver, if Applicable Status | BH9: =N8&" Status" -> Is the Certification based upon any Exception Relief from an Applicable Standard by DOE's Office of Hearing and Appeals? Status | BI9: =O8&" Status" -> Date of Exception Relief, if Applicable Status | BJ9: =P9&" Status" -> Status | BK9: =Q9&" Status" -> Status | BL9: =R8&" Status" -> Estimated Annual Energy Use (kWh/year) Status | BM9: =S8&" Status" -> Water Consumption (Gallons per Cycle) Status | BN9: =T8&" Status" -> Capacity (Number of Place Settings) Status | BO9: =U8&" Status" -> Does the Dishwasher Have a Soil Sensor? Status | BP9: =V8&" Status" -> If Soil-Sensing, the Number of Cycles Required to Reach Calibration Status | BQ9: =W8&" Status" -> Water Inlet Temperature Used for Testing (Degrees F) Status | BR9: =X8&" Status" -> Cycle Selected for Energy Testing Status | BS9: =Y8&" Status" -> Is the Selected Test Cycle Soil-Sensing? Status | ... BV9: =AB8&" Status" -> Does the Dishwasher Have a Built-In Water Softening System? Status | BW9: =AC9&" Status" -> Energy Use Required for Each Regeneration of the Water Softening System (kWh) Status | BX9: =AD9&" Status" -> Water Use Required for Each Regeneration of the Water Softening System (Gallons) Status | BY9: =AE9&" Status" -> Number of Regeneration Cycles per Year Status | BZ9: =AF9&" Status" -> What Data and Calculations Were Used to Derive the Values Input for: Energy Use, Water Use, and the Maximum Number of Regeneration Cycles per Year? Status | CA9: =AG8&" Status" -> Is this a Water Re-Use System Dishwasher? Status | CB9: =AH9&" Status" -> Energy Use Required for a Drain Out Event (kWh) Status | CC9: =AI9&" Status" -> Water Use Required for a Drain Out Event (Gallons) Status | CD9: =AJ9&" Status" -> Number of Drain Out Events per Year Status | CE9: =AK9&" Status" -> Energy Use Required for a Clean Out Event (kWh) Status | CF9: =AL9&" Status" -> Water Use Required for a Clean Out Event (Gal) Status | CG9: =AM9&" Status" -> Number of Clean Out Events per Year Status | CH9: =AN9&" Status" -> Water Fill Volume to Calculate Detergent Dosage (Gallons) Status | CI9: =AO9&" Status" -> What Data and Calculations Were Used to Derive the Values Input for: Energy and Water Use for Drain Out and Clean Out Events, Numbers of Drain Out and Clean Out Events per Year, and Water Fill Volume? Status | CJ9: =AP8&" Status" -> Does the Dishwasher have a Built-in Reservoir? Status | CK9: =AQ9&" Status" -> Manufacturer Stated Reservoir Capacity (Gallons) Status | CL9: =AR9&" Status" -> Prewash Fill Water Volume (Gallons) Status | CM9: =AS9&" Status" -> Main Wash Fill Water Volume (Gallons) Status | CN9: =AT9&" Status" -> Reservoir Water Consumption (Gallons per Cycle) Status | CO9: =AU8&" Status" -> Link to EnergyGuide Label Website (Enter link or, if submitting link later, enter 'By annual report date') Status | CS9: The cells below will not be changeable or visible in the final version, but show the ability to modify template easily for additional product classes or for changes in required factors. | CV9: Product Group Code Description | CX9: Do not change this column's width. Entries below force row height to be at least 2 lines
A10: 1 | B10: =IF(COUNTIF(AW10:CO10,"")=No_of_Columns,"",IF(COUNTIF(AW10:CO10,"ok")=No_of_Columns,"ok","Error")) | AW10: =IF(COUNTA($C10:$AU10)=0,"",IF(ISBLANK($C10),"Empty cell","ok")) | AX10: =IF(COUNTA($C10:$AU10)=0,"","ok") | AY10: =IF(COUNTA($C10:$AU10)=0,"",IF(ISBLANK($E10),"Empty cell","ok")) | AZ10: =IF(COUNTA($C10:$AU10)=0,"",IF(ISBLANK($F10),"Empty cell","ok")) | BA10: =IF(COUNTA($C10:$AU10)=0,"",IF(ISBLANK($G10),"Empty cell","ok")) | BB10: =IF(COUNTA($C10:$AU10)=0,"",IF(ISBLANK($H10),"Empty cell",IF(OR($H10="n",$H10="d",$H10="c",$H10="e",$H10="f"),"ok","Should be n, d, c, e, or f"))) | BC10: =IF(COUNTA($C10:$AU10)=0,"",IF(ISBLANK($I10),"Empty cell",IF($I10<1,"Prod. Gr. Code should be an int. betw. 1 and "&No_of_Product_Classes,IF($I10>No_of_Product_Classes,"Prod. Gr. Code should be an int. betw. 1 and "&No_of_Product_Classes,IF($I10=INT($I10),"ok","Prod. Gr. Code should be an int. betw. 1 and "&No_of_Product_Classes))))) | BD10: =IF(COUNTA($C10:$AU10)=0,"","ok") | BE10: =IF(COUNTA($C10:$AU10)=0,"",IF(H10="d","ok",IF(ISBLANK($K10),"Empty cell",IF(ISNUMBER(K10)=FALSE,"Entry should be a positive integer",IF($K10<1,"Entry should be a positive integer",IF($K10=INT($K10),"ok","Entry should be a positive integer")))))) | BF10: =IF(COUNTA($C10:$AU10)=0,"",IF(H10="d","ok",IF(ISBLANK(L10),"Empty cell",IF(L10="yes","ok",IF(L10="y","ok",IF(L10="no","ok",IF(L10="n","ok","Entry should be either 'yes', 'y', 'no' or 'n'"))))))) | BG10: =IF(COUNTA($C10:$AU10)=0,"",IF(H10="d","ok",IF(ISBLANK(L10),IF(ISBLANK(M10),"ok","Waiver question not answered"),IF(OR(L10="yes",L10="y"),IF(ISBLANK(M10),"Empty cell",IF(ISNUMBER(M10),IF(M10<1,"Entry should be a date in M/D/YYYY format","ok"),"Entry should be a date in M/D/YYYY format")),IF(OR(L10="no",L10="n"),IF(ISBLANK(M10),"ok","No entry should be made in cell"),IF(ISBLANK(M10),"ok","No entry should be made in cell")))))) | BH10: =IF(COUNTA($C10:$AU10)=0,"",IF(H10="d","ok",IF(ISBLANK(N10),"Empty cell",IF(N10="yes","ok",IF(N10="y","ok",IF(N10="no","ok",IF(N10="n","ok","Entry should be either 'yes', 'y', 'no' or 'n'"))))))) | BI10: =IF(COUNTA($C10:$AU10)=0,"",IF(H10="d","ok",IF(ISBLANK(N10),IF(ISBLANK(O10),"ok","Exemption question not answered"),IF(OR(N10="yes",N10="y"),IF(ISBLANK(O10),"Empty cell",IF(ISNUMBER(O10),IF(O10<1,"Entry should be a date in M/D/YYYY format","ok"),"Entry should be a date in M/D/YYYY format")),IF(OR(N10="no",N10="n"),IF(ISBLANK(O10),"ok","No entry should be made in cell"),IF(ISBLANK(O10),"ok","No entry should be made in cell")))))) | BJ10: =IF(COUNTA($C10:$AU10)=0,"","ok") | BK10: =IF(COUNTA($C10:$AU10)=0,"","ok") | BL10: =IF(COUNTA($C10:$AU10)=0,"",IF(H10="d","ok",IF(ISBLANK($R10),"Empty cell",IF(ISNUMBER($R10),IF($R10>0,"ok","Entry should be greater than 0"),"Entry should be a number")))) | BM10: =IF(COUNTA($C10:$AU10)=0,"",IF(H10="d","ok",IF(ISBLANK($S10),"Empty cell",IF(ISNUMBER($S10),IF($S10>0,"ok","Entry should be greater than 0"),"Entry should be a number")))) | BN10: =IF(COUNTA($C10:$AU10)=0,"",IF(H10="d","ok",IF(ISBLANK($T10),"Empty cell",IF(ISNUMBER($T10)=FALSE,"Entry should be a positive integer",IF($T10<1,"Entry should be a positive integer",IF($T10=INT($T10),"ok","Entry should be a positive integer")))))) | BO10: =IF(COUNTA($C10:$AU10)=0,"",IF(H10="d","ok",IF(ISBLANK(U10),"Empty cell",IF(U10="yes","ok",IF(U10="y","ok",IF(U10="no","ok",IF(U10="n","ok","Entry should be either 'yes', 'y', 'no' or 'n'"))))))) | BP10: =IF(COUNTA($C10:$AU10)=0,"",IF($H10="d","ok",IF(ISBLANK(U10),IF(ISBLANK(V10),"ok","Soil sensor question not answered"),IF(OR(U10="yes",U10="y"),IF(ISBLANK(V10),"Empty cell",IF(ISNUMBER(V10),IF(INT(V10)=V10,IF(V10<=0,"Entry should be a positive integer","ok"),"Entry should be a positive integer"),"Entry should be a positive integer")),IF(OR(U10="no",U10="n"),IF(ISBLANK(V10),"ok","No entry should be made in cell"),IF(ISBLANK(V10),"ok","No entry should be made in cell")))))) | BQ10: =IF(COUNTA($C10:$AU10)=0,"",IF(H10="d","ok",IF(ISBLANK($W10),"Empty cell",IF(ISNUMBER($W10),IF($W10>0,"ok","Entry should be greater than 0"),"Entry should be a number")))) | BR10: =IF(COUNTA($C10:$AU10)=0,"",IF($H10="d","ok",IF(ISBLANK($X10),"Empty cell","ok"))) | BS10: =IF(COUNTA($C10:$AU10)=0,"",IF(H10="d","ok",IF(ISBLANK(Y10),"Empty cell",IF(Y10="yes","ok",IF(Y10="y","ok",IF(Y10="no","ok",IF(Y10="n","ok","Entry should be either 'yes', 'y', 'no' or 'n'"))))))) | BT10: =IF(COUNTA($C10:$AU10)=0,"",IF($H10="d","ok",IF(ISBLANK($Z10),"Empty cell","ok"))) | BU10: =IF(COUNTA($C10:$AU10)=0,"",IF(H10="d","ok",IF(ISBLANK(AA10),"Empty cell",IF(AA10="C","ok",IF(AA10="D","ok","Entry should be either 'C' or 'D''"))))) | BV10: =IF(COUNTA($C10:$AU10)=0,"",IF($H10="d","ok",IF(ISBLANK(AB10),"Empty cell",IF(AB10="yes","ok",IF(AB10="y","ok",IF(AB10="no","ok",IF(AB10="n","ok","Entry should be either 'yes', 'y', 'no' or 'n'"))))))) | BW10: =IF(COUNTA($C10:$AU10)=0,"",IF($H10="d","ok",IF(ISBLANK($AB10),IF(ISBLANK(AC10),"ok","Built-In Water Softening System question not answered"),IF(OR($AB10="yes",$AB10="y"),IF(ISBLANK(AC10),"Empty cell",IF(ISNUMBER(AC10),IF(AC10<=0,"Entry should be a positive number","ok"),"Entry should be a positive number")),IF(OR($AB10="no",$AB10="n"),IF(ISBLANK(AC10),"ok","No entry should be made in cell"),IF(ISBLANK(AC10),"ok","No entry should be made in cell")))))) | BX10: =IF(COUNTA($C10:$AU10)=0,"",IF($H10="d","ok",IF(ISBLANK($AB10),IF(ISBLANK(AD10),"ok","Built-In Water Softening System question not answered"),IF(OR($AB10="yes",$AB10="y"),IF(ISBLANK(AD10),"Empty cell",IF(ISNUMBER(AD10),IF(AD10<=0,"Entry should be a positive number","ok"),"Entry should be a positive number")),IF(OR($AB10="no",$AB10="n"),IF(ISBLANK(AD10),"ok","No entry should be made in cell"),IF(ISBLANK(AD10),"ok","No entry should be made in cell")))))) | BY10: =IF(COUNTA($C10:$AU10)=0,"",IF($H10="d","ok",IF(ISBLANK($AB10),IF(ISBLANK(AE10),"ok","Built-In Water Softening System question not answered"),IF(OR($AB10="yes",$AB10="y"),IF(ISBLANK(AE10),"Empty cell",IF(ISNUMBER(AE10),IF(INT(AE10)=AE10,IF(AE10<=0,"Entry should be a positive integer","ok"),"Entry should be a positive integer"),"Entry should be a positive integer")),IF(OR($AB10="no",$AB10="n"),IF(ISBLANK(AE10),"ok","No entry should be made in cell"),IF(ISBLANK(AE10),"ok","No entry should be made in cell")))))) | BZ10: =IF(COUNTA($C10:$AU10)=0,"",IF($H10="d","ok",IF(ISBLANK($AB10),IF(ISBLANK(AF10),"ok","Built-In Water Softening System question not answered"),IF(OR($AB10="yes",$AB10="y"),IF(ISBLANK(AF10),"Empty cell","ok"),IF(OR($AB10="no",$AB10="n"),IF(ISBLANK(AF10),"ok","No entry should be made in cell"),IF(ISBLANK(AF10),"ok","No entry should be made in cell")))))) | CA10: =IF(COUNTA($C10:$AU10)=0,"",IF(ISBLANK(AG10),"ok",IF(AG10="yes","ok",IF(AG10="y","ok",IF(AG10="no","ok",IF(AG10="n","ok","Entry should be either 'yes', 'y', 'no' or 'n'")))))) | CB10: =IF(COUNTA($C10:$AU10)=0,"",IF($H10="d","ok",IF(ISBLANK($AG10),IF(ISBLANK(AH10),"ok","Water Re-Use System question not answered"),IF(OR($AG10="yes",$AG10="y"),IF(ISBLANK(AH10),"ok",IF(ISNUMBER(AH10),IF(AH10<=0,"Entry should be a positive number","ok"),"Entry should be a positive number")),IF(OR($AG10="no",$AG10="n"),IF(ISBLANK(AH10),"ok","No entry should be made in cell"),IF(ISBLANK(AH10),"ok","No entry should be made in cell")))))) | CC10: =IF(COUNTA($C10:$AU10)=0,"",IF($H10="d","ok",IF(ISBLANK($AG10),IF(ISBLANK(AI10),"ok","Water Re-Use System question not answered"),IF(OR($AG10="yes",$AG10="y"),IF(ISBLANK(AI10),"ok",IF(ISNUMBER(AI10),IF(AI10<=0,"Entry should be a positive number","ok"),"Entry should be a positive number")),IF(OR($AG10="no",$AG10="n"),IF(ISBLANK(AI10),"ok","No entry should be made in cell"),IF(ISBLANK(AI10),"ok","No entry should be made in cell")))))) | CD10: =IF(COUNTA($C10:$AU10)=0,"",IF($H10="d","ok",IF(ISBLANK($AG10),IF(ISBLANK(AJ10),"ok","Water Re-Use System question not answered"),IF(OR($AG10="yes",$AG10="y"),IF(ISBLANK(AJ10),"ok",IF(ISNUMBER(AJ10),IF(INT(AJ10)=AJ10,IF(AJ10<=0,"Entry should be a positive integer","ok"),"Entry should be a positive integer"),"Entry should be a positive integer")),IF(OR($AG10="no",$AG10="n"),IF(ISBLANK(AJ10),"ok","No entry should be made in cell"),IF(ISBLANK(AJ10),"ok","No entry should be made in cell")))))) | CE10: =IF(COUNTA($C10:$AU10)=0,"",IF($H10="d","ok",IF(ISBLANK($AG10),IF(ISBLANK(AK10),"ok","Water Re-Use System question not answered"),IF(OR($AG10="yes",$AG10="y"),IF(ISBLANK(AK10),"ok",IF(ISNUMBER(AK10),IF(AK10<=0,"Entry should be a positive number","ok"),"Entry should be a positive number")),IF(OR($AG10="no",$AG10="n"),IF(ISBLANK(AK10),"ok","No entry should be made in cell"),IF(ISBLANK(AK10),"ok","No entry should be made in cell")))))) | CF10: =IF(COUNTA($C10:$AU10)=0,"",IF($H10="d","ok",IF(ISBLANK($AG10),IF(ISBLANK(AL10),"ok","Water Re-Use System question not answered"),IF(OR($AG10="yes",$AG10="y"),IF(ISBLANK(AL10),"ok",IF(ISNUMBER(AL10),IF(AL10<=0,"Entry should be a positive number","ok"),"Entry should be a positive number")),IF(OR($AG10="no",$AG10="n"),IF(ISBLANK(AL10),"ok","No entry should be made in cell"),IF(ISBLANK(AL10),"ok","No entry should be made in cell")))))) | CG10: =IF(COUNTA($C10:$AU10)=0,"",IF($H10="d","ok",IF(ISBLANK($AG10),IF(ISBLANK(AM10),"ok","Water Re-Use System question not answered"),IF(OR($AG10="yes",$AG10="y"),IF(ISBLANK(AM10),"ok",IF(ISNUMBER(AM10),IF(INT(AM10)=AM10,IF(AM10<=0,"Entry should be a positive integer","ok"),"Entry should be a positive integer"),"Entry should be a positive integer")),IF(OR($AG10="no",$AG10="n"),IF(ISBLANK(AM10),"ok","No entry should be made in cell"),IF(ISBLANK(AM10),"ok","No entry should be made in cell")))))) | CH10: =IF(COUNTA($C10:$AU10)=0,"",IF($H10="d","ok",IF(ISBLANK($AG10),IF(ISBLANK(AN10),"ok","Water Re-Use System question not answered"),IF(OR($AG10="yes",$AG10="y"),IF(ISBLANK(AN10),"ok",IF(ISNUMBER(AN10),IF(AN10<=0,"Entry should be a positive number","ok"),"Entry should be a positive number")),IF(OR($AG10="no",$AG10="n"),IF(ISBLANK(AN10),"ok","No entry should be made in cell"),IF(ISBLANK(AN10),"ok","No entry should be made in cell")))))) | CI10: =IF(COUNTA($C10:$AU10)=0,"",IF($H10="d","ok",IF(ISBLANK($AG10),IF(ISBLANK(AO10),"ok","Water Re-Use System question not answered"),IF(OR($AG10="yes",$AG10="y"),IF(ISBLANK(AO10),"ok","ok"),IF(OR($AG10="no",$AG10="n"),IF(ISBLANK(AO10),"ok","No entry should be made in cell"),IF(ISBLANK(AO10),"ok","No entry should be made in cell")))))) | CJ10: =IF(COUNTA($C10:$AU10)=0,"",IF($H10="d","ok",IF(ISBLANK(AP10),"ok",IF(AP10="yes","ok",IF(AP10="y","ok",IF(AP10="no","ok",IF(AP10="n","ok","Entry should be either 'yes', 'y', 'no' or 'n'"))))))) | CK10: =IF(COUNTA($C10:$AU10)=0,"",IF($H10="d","ok",IF(ISBLANK($AP10),IF(ISBLANK(AQ10),"ok","Built-in Reservoir question not answered"),IF(OR($AP10="yes",$AP10="y"),IF(ISBLANK(AQ10),"ok",IF(ISNUMBER(AQ10),IF(AQ10<=0,"Entry should be a positive number","ok"),"Entry should be a positive number")),IF(OR($AP10="no",$AP10="n"),IF(ISBLANK(AQ10),"ok","No entry should be made in cell"),IF(ISBLANK(AQ10),"ok","No entry should be made in cell")))))) | CL10: =IF(COUNTA($C10:$AU10)=0,"",IF($H10="d","ok",IF(ISBLANK($AP10),IF(ISBLANK(AR10),"ok","Built-in Reservoir question not answered"),IF(OR($AP10="yes",$AP10="y"),IF(ISBLANK(AR10),"ok",IF(ISNUMBER(AR10),IF(AR10<0,"Entry should be a number >= 0","ok"),"Entry should be a number >= 0")),IF(OR($AP10="no",$AP10="n"),IF(ISBLANK(AR10),"ok","No entry should be made in cell"),IF(ISBLANK(AR10),"ok","No entry should be made in cell")))))) | CM10: =IF(COUNTA($C10:$AU10)=0,"",IF($H10="d","ok",IF(ISBLANK($AP10),IF(ISBLANK(AS10),"ok","Built-in Reservoir question not answered"),IF(OR($AP10="yes",$AP10="y"),IF(ISBLANK(AS10),"ok",IF(ISNUMBER(AS10),IF(AS10<=0,"Entry should be a positive number","ok"),"Entry should be a positive number")),IF(OR($AP10="no",$AP10="n"),IF(ISBLANK(AS10),"ok","No entry should be made in cell"),IF(ISBLANK(AS10),"ok","No entry should be made in cell")))))) | CN10: =IF(COUNTA($C10:$AU10)=0,"",IF($H10="d","ok",IF(ISBLANK($AP10),IF(ISBLANK(AT10),"ok","Built-in Reservoir question not answered"),IF(OR($AP10="yes",$AP10="y"),IF(ISBLANK(AT10),"ok",IF(ISNUMBER(AT10),IF(AT10<=0,"Entry should be a positive number","ok"),"Entry should be a positive number")),IF(OR($AP10="no",$AP10="n"),IF(ISBLANK(AT10),"ok","No entry should be made in cell"),IF(ISBLANK(AT10),"ok","No entry should be made in cell")))))) | CO10: =IF(COUNTA($C10:$AU10)=0,"",IF(H10="d","ok",IF(ISBLANK(AU10),"Empty cell",IF(OR(LEFT(AU10,7)="http://",LEFT(AU10,8)="https://",LEFT(AU10,6)="ftp://",LEFT(AU10,7)="sftp://",AU10="By annual report date"),"ok","Entry must begin with http://, https://, ftp:// or sftp://or be 'By annual report date'")))) | CS10: Number of Columns | CT10: 45 | CV10: =IF(BC10="ok",VLOOKUP(I10,PrClDesc,2),"") | CX10: aaaaaa
A11: 2 | B11: =IF(COUNTIF(AW11:CO11,"")=No_of_Columns,"",IF(COUNTIF(AW11:CO11,"ok")=No_of_Columns,"ok","Error")) | AW11: =IF(COUNTA($C11:$AU11)=0,"",IF(ISBLANK($C11),"Empty cell","ok")) | AX11: =IF(COUNTA($C11:$AU11)=0,"","ok") | AY11: =IF(COUNTA($C11:$AU11)=0,"",IF(ISBLANK($E11),"Empty cell","ok")) | AZ11: =IF(COUNTA($C11:$AU11)=0,"",IF(ISBLANK($F11),"Empty cell","ok")) | BA11: =IF(COUNTA($C11:$AU11)=0,"",IF(ISBLANK($G11),"Empty cell","ok")) | BB11: =IF(COUNTA($C11:$AU11)=0,"",IF(ISBLANK($H11),"Empty cell",IF(OR($H11="n",$H11="d",$H11="c",$H11="e",$H11="f"),"ok","Should be n, d, c, e, or f"))) | BC11: =IF(COUNTA($C11:$AU11)=0,"",IF(ISBLANK($I11),"Empty cell",IF($I11<1,"Prod. Gr. Code should be an int. betw. 1 and "&No_of_Product_Classes,IF($I11>No_of_Product_Classes,"Prod. Gr. Code should be an int. betw. 1 and "&No_of_Product_Classes,IF($I11=INT($I11),"ok","Prod. Gr. Code should be an int. betw. 1 and "&No_of_Product_Classes))))) | BD11: =IF(COUNTA($C11:$AU11)=0,"","ok") | BE11: =IF(COUNTA($C11:$AU11)=0,"",IF(H11="d","ok",IF(ISBLANK($K11),"Empty cell",IF(ISNUMBER(K11)=FALSE,"Entry should be a positive integer",IF($K11<1,"Entry should be a positive integer",IF($K11=INT($K11),"ok","Entry should be a positive integer")))))) | BF11: =IF(COUNTA($C11:$AU11)=0,"",IF(H11="d","ok",IF(ISBLANK(L11),"Empty cell",IF(L11="yes","ok",IF(L11="y","ok",IF(L11="no","ok",IF(L11="n","ok","Entry should be either 'yes', 'y', 'no' or 'n'"))))))) | BG11: =IF(COUNTA($C11:$AU11)=0,"",IF(H11="d","ok",IF(ISBLANK(L11),IF(ISBLANK(M11),"ok","Waiver question not answered"),IF(OR(L11="yes",L11="y"),IF(ISBLANK(M11),"Empty cell",IF(ISNUMBER(M11),IF(M11<1,"Entry should be a date in M/D/YYYY format","ok"),"Entry should be a date in M/D/YYYY format")),IF(OR(L11="no",L11="n"),IF(ISBLANK(M11),"ok","No entry should be made in cell"),IF(ISBLANK(M11),"ok","No entry should be made in cell")))))) | BH11: =IF(COUNTA($C11:$AU11)=0,"",IF(H11="d","ok",IF(ISBLANK(N11),"Empty cell",IF(N11="yes","ok",IF(N11="y","ok",IF(N11="no","ok",IF(N11="n","ok","Entry should be either 'yes', 'y', 'no' or 'n'"))))))) | BI11: =IF(COUNTA($C11:$AU11)=0,"",IF(H11="d","ok",IF(ISBLANK(N11),IF(ISBLANK(O11),"ok","Exemption question not answered"),IF(OR(N11="yes",N11="y"),IF(ISBLANK(O11),"Empty cell",IF(ISNUMBER(O11),IF(O11<1,"Entry should be a date in M/D/YYYY format","ok"),"Entry should be a date in M/D/YYYY format")),IF(OR(N11="no",N11="n"),IF(ISBLANK(O11),"ok","No entry should be made in cell"),IF(ISBLANK(O11),"ok","No entry should be made in cell")))))) | BJ11: =IF(COUNTA($C11:$AU11)=0,"","ok") | BK11: =IF(COUNTA($C11:$AU11)=0,"","ok") | BL11: =IF(COUNTA($C11:$AU11)=0,"",IF(H11="d","ok",IF(ISBLANK($R11),"Empty cell",IF(ISNUMBER($R11),IF($R11>0,"ok","Entry should be greater than 0"),"Entry should be a number")))) | BM11: =IF(COUNTA($C11:$AU11)=0,"",IF(H11="d","ok",IF(ISBLANK($S11),"Empty cell",IF(ISNUMBER($S11),IF($S11>0,"ok","Entry should be greater than 0"),"Entry should be a number")))) | BN11: =IF(COUNTA($C11:$AU11)=0,"",IF(H11="d","ok",IF(ISBLANK($T11),"Empty cell",IF(ISNUMBER($T11)=FALSE,"Entry should be a positive integer",IF($T11<1,"Entry should be a positive integer",IF($T11=INT($T11),"ok","Entry should be a positive integer")))))) | BO11: =IF(COUNTA($C11:$AU11)=0,"",IF(H11="d","ok",IF(ISBLANK(U11),"Empty cell",IF(U11="yes","ok",IF(U11="y","ok",IF(U11="no","ok",IF(U11="n","ok","Entry should be either 'yes', 'y', 'no' or 'n'"))))))) | BP11: =IF(COUNTA($C11:$AU11)=0,"",IF($H11="d","ok",IF(ISBLANK(U11),IF(ISBLANK(V11),"ok","Soil sensor question not answered"),IF(OR(U11="yes",U11="y"),IF(ISBLANK(V11),"Empty cell",IF(ISNUMBER(V11),IF(INT(V11)=V11,IF(V11<=0,"Entry should be a positive integer","ok"),"Entry should be a positive integer"),"Entry should be a positive integer")),IF(OR(U11="no",U11="n"),IF(ISBLANK(V11),"ok","No entry should be made in cell"),IF(ISBLANK(V11),"ok","No entry should be made in cell")))))) | BQ11: =IF(COUNTA($C11:$AU11)=0,"",IF(H11="d","ok",IF(ISBLANK($W11),"Empty cell",IF(ISNUMBER($W11),IF($W11>0,"ok","Entry should be greater than 0"),"Entry should be a number")))) | BR11: =IF(COUNTA($C11:$AU11)=0,"",IF($H11="d","ok",IF(ISBLANK($X11),"Empty cell","ok"))) | BS11: =IF(COUNTA($C11:$AU11)=0,"",IF(H11="d","ok",IF(ISBLANK(Y11),"Empty cell",IF(Y11="yes","ok",IF(Y11="y","ok",IF(Y11="no","ok",IF(Y11="n","ok","Entry should be either 'yes', 'y', 'no' or 'n'"))))))) | BT11: =IF(COUNTA($C11:$AU11)=0,"",IF($H11="d","ok",IF(ISBLANK($Z11),"Empty cell","ok"))) | BU11: =IF(COUNTA($C11:$AU11)=0,"",IF(H11="d","ok",IF(ISBLANK(AA11),"Empty cell",IF(AA11="C","ok",IF(AA11="D","ok","Entry should be either 'C' or 'D''"))))) | BV11: =IF(COUNTA($C11:$AU11)=0,"",IF($H11="d","ok",IF(ISBLANK(AB11),"Empty cell",IF(AB11="yes","ok",IF(AB11="y","ok",IF(AB11="no","ok",IF(AB11="n","ok","Entry should be either 'yes', 'y', 'no' or 'n'"))))))) | BW11: =IF(COUNTA($C11:$AU11)=0,"",IF($H11="d","ok",IF(ISBLANK($AB11),IF(ISBLANK(AC11),"ok","Built-In Water Softening System question not answered"),IF(OR($AB11="yes",$AB11="y"),IF(ISBLANK(AC11),"Empty cell",IF(ISNUMBER(AC11),IF(AC11<=0,"Entry should be a positive number","ok"),"Entry should be a positive number")),IF(OR($AB11="no",$AB11="n"),IF(ISBLANK(AC11),"ok","No entry should be made in cell"),IF(ISBLANK(AC11),"ok","No entry should be made in cell")))))) | BX11: =IF(COUNTA($C11:$AU11)=0,"",IF($H11="d","ok",IF(ISBLANK($AB11),IF(ISBLANK(AD11),"ok","Built-In Water Softening System question not answered"),IF(OR($AB11="yes",$AB11="y"),IF(ISBLANK(AD11),"Empty cell",IF(ISNUMBER(AD11),IF(AD11<=0,"Entry should be a positive number","ok"),"Entry should be a positive number")),IF(OR($AB11="no",$AB11="n"),IF(ISBLANK(AD11),"ok","No entry should be made in cell"),IF(ISBLANK(AD11),"ok","No entry should be made in cell")))))) | BY11: =IF(COUNTA($C11:$AU11)=0,"",IF($H11="d","ok",IF(ISBLANK($AB11),IF(ISBLANK(AE11),"ok","Built-In Water Softening System question not answered"),IF(OR($AB11="yes",$AB11="y"),IF(ISBLANK(AE11),"Empty cell",IF(ISNUMBER(AE11),IF(INT(AE11)=AE11,IF(AE11<=0,"Entry should be a positive integer","ok"),"Entry should be a positive integer"),"Entry should be a positive integer")),IF(OR($AB11="no",$AB11="n"),IF(ISBLANK(AE11),"ok","No entry should be made in cell"),IF(ISBLANK(AE11),"ok","No entry should be made in cell")))))) | BZ11: =IF(COUNTA($C11:$AU11)=0,"",IF($H11="d","ok",IF(ISBLANK($AB11),IF(ISBLANK(AF11),"ok","Built-In Water Softening System question not answered"),IF(OR($AB11="yes",$AB11="y"),IF(ISBLANK(AF11),"Empty cell","ok"),IF(OR($AB11="no",$AB11="n"),IF(ISBLANK(AF11),"ok","No entry should be made in cell"),IF(ISBLANK(AF11),"ok","No entry should be made in cell")))))) | CA11: =IF(COUNTA($C11:$AU11)=0,"",IF(ISBLANK(AG11),"ok",IF(AG11="yes","ok",IF(AG11="y","ok",IF(AG11="no","ok",IF(AG11="n","ok","Entry should be either 'yes', 'y', 'no' or 'n'")))))) | CB11: =IF(COUNTA($C11:$AU11)=0,"",IF($H11="d","ok",IF(ISBLANK($AG11),IF(ISBLANK(AH11),"ok","Water Re-Use System question not answered"),IF(OR($AG11="yes",$AG11="y"),IF(ISBLANK(AH11),"ok",IF(ISNUMBER(AH11),IF(AH11<=0,"Entry should be a positive number","ok"),"Entry should be a positive number")),IF(OR($AG11="no",$AG11="n"),IF(ISBLANK(AH11),"ok","No entry should be made in cell"),IF(ISBLANK(AH11),"ok","No entry should be made in cell")))))) | CC11: =IF(COUNTA($C11:$AU11)=0,"",IF($H11="d","ok",IF(ISBLANK($AG11),IF(ISBLANK(AI11),"ok","Water Re-Use System question not answered"),IF(OR($AG11="yes",$AG11="y"),IF(ISBLANK(AI11),"ok",IF(ISNUMBER(AI11),IF(AI11<=0,"Entry should be a positive number","ok"),"Entry should be a positive number")),IF(OR($AG11="no",$AG11="n"),IF(ISBLANK(AI11),"ok","No entry should be made in cell"),IF(ISBLANK(AI11),"ok","No entry should be made in cell")))))) | CD11: =IF(COUNTA($C11:$AU11)=0,"",IF($H11="d","ok",IF(ISBLANK($AG11),IF(ISBLANK(AJ11),"ok","Water Re-Use System question not answered"),IF(OR($AG11="yes",$AG11="y"),IF(ISBLANK(AJ11),"ok",IF(ISNUMBER(AJ11),IF(INT(AJ11)=AJ11,IF(AJ11<=0,"Entry should be a positive integer","ok"),"Entry should be a positive integer"),"Entry should be a positive integer")),IF(OR($AG11="no",$AG11="n"),IF(ISBLANK(AJ11),"ok","No entry should be made in cell"),IF(ISBLANK(AJ11),"ok","No entry should be made in cell")))))) | CE11: =IF(COUNTA($C11:$AU11)=0,"",IF($H11="d","ok",IF(ISBLANK($AG11),IF(ISBLANK(AK11),"ok","Water Re-Use System question not answered"),IF(OR($AG11="yes",$AG11="y"),IF(ISBLANK(AK11),"ok",IF(ISNUMBER(AK11),IF(AK11<=0,"Entry should be a positive number","ok"),"Entry should be a positive number")),IF(OR($AG11="no",$AG11="n"),IF(ISBLANK(AK11),"ok","No entry should be made in cell"),IF(ISBLANK(AK11),"ok","No entry should be made in cell")))))) | CF11: =IF(COUNTA($C11:$AU11)=0,"",IF($H11="d","ok",IF(ISBLANK($AG11),IF(ISBLANK(AL11),"ok","Water Re-Use System question not answered"),IF(OR($AG11="yes",$AG11="y"),IF(ISBLANK(AL11),"Empty cell",IF(ISNUMBER(AL11),IF(AL11<=0,"Entry should be a positive number","ok"),"Entry should be a positive number")),IF(OR($AG11="no",$AG11="n"),IF(ISBLANK(AL11),"ok","No entry should be made in cell"),IF(ISBLANK(AL11),"ok","No entry should be made in cell")))))) | CG11: =IF(COUNTA($C11:$AU11)=0,"",IF($H11="d","ok",IF(ISBLANK($AG11),IF(ISBLANK(AM11),"ok","Water Re-Use System question not answered"),IF(OR($AG11="yes",$AG11="y"),IF(ISBLANK(AM11),"ok",IF(ISNUMBER(AM11),IF(INT(AM11)=AM11,IF(AM11<=0,"Entry should be a positive integer","ok"),"Entry should be a positive integer"),"Entry should be a positive integer")),IF(OR($AG11="no",$AG11="n"),IF(ISBLANK(AM11),"ok","No entry should be made in cell"),IF(ISBLANK(AM11),"ok","No entry should be made in cell")))))) | CH11: =IF(COUNTA($C11:$AU11)=0,"",IF($H11="d","ok",IF(ISBLANK($AG11),IF(ISBLANK(AN11),"ok","Water Re-Use System question not answered"),IF(OR($AG11="yes",$AG11="y"),IF(ISBLANK(AN11),"ok",IF(ISNUMBER(AN11),IF(AN11<=0,"Entry should be a positive number","ok"),"Entry should be a positive number")),IF(OR($AG11="no",$AG11="n"),IF(ISBLANK(AN11),"ok","No entry should be made in cell"),IF(ISBLANK(AN11),"ok","No entry should be made in cell")))))) | CI11: =IF(COUNTA($C11:$AU11)=0,"",IF($H11="d","ok",IF(ISBLANK($AG11),IF(ISBLANK(AO11),"ok","Water Re-Use System question not answered"),IF(OR($AG11="yes",$AG11="y"),IF(ISBLANK(AO11),"ok","ok"),IF(OR($AG11="no",$AG11="n"),IF(ISBLANK(AO11),"ok","No entry should be made in cell"),IF(ISBLANK(AO11),"ok","No entry should be made in cell")))))) | CJ11: =IF(COUNTA($C11:$AU11)=0,"",IF($H11="d","ok",IF(ISBLANK(AP11),"ok",IF(AP11="yes","ok",IF(AP11="y","ok",IF(AP11="no","ok",IF(AP11="n","ok","Entry should be either 'yes', 'y', 'no' or 'n'"))))))) | CK11: =IF(COUNTA($C11:$AU11)=0,"",IF($H11="d","ok",IF(ISBLANK($AP11),IF(ISBLANK(AQ11),"ok","Built-in Reservoir question not answered"),IF(OR($AP11="yes",$AP11="y"),IF(ISBLANK(AQ11),"ok",IF(ISNUMBER(AQ11),IF(AQ11<=0,"Entry should be a positive number","ok"),"Entry should be a positive number")),IF(OR($AP11="no",$AP11="n"),IF(ISBLANK(AQ11),"ok","No entry should be made in cell"),IF(ISBLANK(AQ11),"ok","No entry should be made in cell")))))) | CL11: =IF(COUNTA($C11:$AU11)=0,"",IF($H11="d","ok",IF(ISBLANK($AP11),IF(ISBLANK(AR11),"ok","Built-in Reservoir question not answered"),IF(OR($AP11="yes",$AP11="y"),IF(ISBLANK(AR11),"ok",IF(ISNUMBER(AR11),IF(AR11<0,"Entry should be a number >= 0","ok"),"Entry should be a number >= 0")),IF(OR($AP11="no",$AP11="n"),IF(ISBLANK(AR11),"ok","No entry should be made in cell"),IF(ISBLANK(AR11),"ok","No entry should be made in cell")))))) | CM11: =IF(COUNTA($C11:$AU11)=0,"",IF($H11="d","ok",IF(ISBLANK($AP11),IF(ISBLANK(AS11),"ok","Built-in Reservoir question not answered"),IF(OR($AP11="yes",$AP11="y"),IF(ISBLANK(AS11),"ok",IF(ISNUMBER(AS11),IF(AS11<=0,"Entry should be a positive number","ok"),"Entry should be a positive number")),IF(OR($AP11="no",$AP11="n"),IF(ISBLANK(AS11),"ok","No entry should be made in cell"),IF(ISBLANK(AS11),"ok","No entry should be made in cell")))))) | CN11: =IF(COUNTA($C11:$AU11)=0,"",IF($H11="d","ok",IF(ISBLANK($AP11),IF(ISBLANK(AT11),"ok","Built-in Reservoir question not answered"),IF(OR($AP11="yes",$AP11="y"),IF(ISBLANK(AT11),"ok",IF(ISNUMBER(AT11),IF(AT11<=0,"Entry should be a positive number","ok"),"Entry should be a positive number")),IF(OR($AP11="no",$AP11="n"),IF(ISBLANK(AT11),"ok","No entry should be made in cell"),IF(ISBLANK(AT11),"ok","No entry should be made in cell")))))) | CO11: =IF(COUNTA($C11:$AU11)=0,"",IF(H11="d","ok",IF(ISBLANK(AU11),"Empty cell",IF(OR(LEFT(AU11,7)="http://",LEFT(AU11,8)="https://",LEFT(AU11,6)="ftp://",LEFT(AU11,7)="sftp://",AU11="By annual report date"),"ok","Entry must begin with http://, https://, ftp:// or sftp://or be 'By annual report date'")))) | CS11: Number of Product Classes | CT11: 2 | CV11: =IF(BC11="ok",VLOOKUP(I11,PrClDesc,2),"") | CX11: aaaaaa
A12: 3 | B12: =IF(COUNTIF(AW12:CO12,"")=No_of_Columns,"",IF(COUNTIF(AW12:CO12,"ok")=No_of_Columns,"ok","Error")) | AW12: =IF(COUNTA($C12:$AU12)=0,"",IF(ISBLANK($C12),"Empty cell","ok")) | AX12: =IF(COUNTA($C12:$AU12)=0,"","ok") | AY12: =IF(COUNTA($C12:$AU12)=0,"",IF(ISBLANK($E12),"Empty cell","ok")) | AZ12: =IF(COUNTA($C12:$AU12)=0,"",IF(ISBLANK($F12),"Empty cell","ok")) | BA12: =IF(COUNTA($C12:$AU12)=0,"",IF(ISBLANK($G12),"Empty cell","ok")) | BB12: =IF(COUNTA($C12:$AU12)=0,"",IF(ISBLANK($H12),"Empty cell",IF(OR($H12="n",$H12="d",$H12="c",$H12="e",$H12="f"),"ok","Should be n, d, c, e, or f"))) | BC12: =IF(COUNTA($C12:$AU12)=0,"",IF(ISBLANK($I12),"Empty cell",IF($I12<1,"Prod. Gr. Code should be an int. betw. 1 and "&No_of_Product_Classes,IF($I12>No_of_Product_Classes,"Prod. Gr. Code should be an int. betw. 1 and "&No_of_Product_Classes,IF($I12=INT($I12),"ok","Prod. Gr. Code should be an int. betw. 1 and "&No_of_Product_Classes))))) | BD12: =IF(COUNTA($C12:$AU12)=0,"","ok") | BE12: =IF(COUNTA($C12:$AU12)=0,"",IF(H12="d","ok",IF(ISBLANK($K12),"Empty cell",IF(ISNUMBER(K12)=FALSE,"Entry should be a positive integer",IF($K12<1,"Entry should be a positive integer",IF($K12=INT($K12),"ok","Entry should be a positive integer")))))) | BF12: =IF(COUNTA($C12:$AU12)=0,"",IF(H12="d","ok",IF(ISBLANK(L12),"Empty cell",IF(L12="yes","ok",IF(L12="y","ok",IF(L12="no","ok",IF(L12="n","ok","Entry should be either 'yes', 'y', 'no' or 'n'"))))))) | BG12: =IF(COUNTA($C12:$AU12)=0,"",IF(H12="d","ok",IF(ISBLANK(L12),IF(ISBLANK(M12),"ok","Waiver question not answered"),IF(OR(L12="yes",L12="y"),IF(ISBLANK(M12),"Empty cell",IF(ISNUMBER(M12),IF(M12<1,"Entry should be a date in M/D/YYYY format","ok"),"Entry should be a date in M/D/YYYY format")),IF(OR(L12="no",L12="n"),IF(ISBLANK(M12),"ok","No entry should be made in cell"),IF(ISBLANK(M12),"ok","No entry should be made in cell")))))) | BH12: =IF(COUNTA($C12:$AU12)=0,"",IF(H12="d","ok",IF(ISBLANK(N12),"Empty cell",IF(N12="yes","ok",IF(N12="y","ok",IF(N12="no","ok",IF(N12="n","ok","Entry should be either 'yes', 'y', 'no' or 'n'"))))))) | BI12: =IF(COUNTA($C12:$AU12)=0,"",IF(H12="d","ok",IF(ISBLANK(N12),IF(ISBLANK(O12),"ok","Exemption question not answered"),IF(OR(N12="yes",N12="y"),IF(ISBLANK(O12),"Empty cell",IF(ISNUMBER(O12),IF(O12<1,"Entry should be a date in M/D/YYYY format","ok"),"Entry should be a date in M/D/YYYY format")),IF(OR(N12="no",N12="n"),IF(ISBLANK(O12),"ok","No entry should be made in cell"),IF(ISBLANK(O12),"ok","No entry should be made in cell")))))) | BJ12: =IF(COUNTA($C12:$AU12)=0,"","ok") | BK12: =IF(COUNTA($C12:$AU12)=0,"","ok") | BL12: =IF(COUNTA($C12:$AU12)=0,"",IF(H12="d","ok",IF(ISBLANK($R12),"Empty cell",IF(ISNUMBER($R12),IF($R12>0,"ok","Entry should be greater than 0"),"Entry should be a number")))) | BM12: =IF(COUNTA($C12:$AU12)=0,"",IF(H12="d","ok",IF(ISBLANK($S12),"Empty cell",IF(ISNUMBER($S12),IF($S12>0,"ok","Entry should be greater than 0"),"Entry should be a number")))) | BN12: =IF(COUNTA($C12:$AU12)=0,"",IF(H12="d","ok",IF(ISBLANK($T12),"Empty cell",IF(ISNUMBER($T12)=FALSE,"Entry should be a positive integer",IF($T12<1,"Entry should be a positive integer",IF($T12=INT($T12),"ok","Entry should be a positive integer")))))) | BO12: =IF(COUNTA($C12:$AU12)=0,"",IF(H12="d","ok",IF(ISBLANK(U12),"Empty cell",IF(U12="yes","ok",IF(U12="y","ok",IF(U12="no","ok",IF(U12="n","ok","Entry should be either 'yes', 'y', 'no' or 'n'"))))))) | BP12: =IF(COUNTA($C12:$AU12)=0,"",IF($H12="d","ok",IF(ISBLANK(U12),IF(ISBLANK(V12),"ok","Soil sensor question not answered"),IF(OR(U12="yes",U12="y"),IF(ISBLANK(V12),"Empty cell",IF(ISNUMBER(V12),IF(INT(V12)=V12,IF(V12<=0,"Entry should be a positive integer","ok"),"Entry should be a positive integer"),"Entry should be a positive integer")),IF(OR(U12="no",U12="n"),IF(ISBLANK(V12),"ok","No entry should be made in cell"),IF(ISBLANK(V12),"ok","No entry should be made in cell")))))) | BQ12: =IF(COUNTA($C12:$AU12)=0,"",IF(H12="d","ok",IF(ISBLANK($W12),"Empty cell",IF(ISNUMBER($W12),IF($W12>0,"ok","Entry should be greater than 0"),"Entry should be a number")))) | BR12: =IF(COUNTA($C12:$AU12)=0,"",IF($H12="d","ok",IF(ISBLANK($X12),"Empty cell","ok"))) | BS12: =IF(COUNTA($C12:$AU12)=0,"",IF(H12="d","ok",IF(ISBLANK(Y12),"Empty cell",IF(Y12="yes","ok",IF(Y12="y","ok",IF(Y12="no","ok",IF(Y12="n","ok","Entry should be either 'yes', 'y', 'no' or 'n'"))))))) | BT12: =IF(COUNTA($C12:$AU12)=0,"",IF($H12="d","ok",IF(ISBLANK($Z12),"Empty cell","ok"))) | BU12: =IF(COUNTA($C12:$AU12)=0,"",IF(H12="d","ok",IF(ISBLANK(AA12),"Empty cell",IF(AA12="C","ok",IF(AA12="D","ok","Entry should be either 'C' or 'D''"))))) | BV12: =IF(COUNTA($C12:$AU12)=0,"",IF($H12="d","ok",IF(ISBLANK(AB12),"Empty cell",IF(AB12="yes","ok",IF(AB12="y","ok",IF(AB12="no","ok",IF(AB12="n","ok","Entry should be either 'yes', 'y', 'no' or 'n'"))))))) | BW12: =IF(COUNTA($C12:$AU12)=0,"",IF($H12="d","ok",IF(ISBLANK($AB12),IF(ISBLANK(AC12),"ok","Built-In Water Softening System question not answered"),IF(OR($AB12="yes",$AB12="y"),IF(ISBLANK(AC12),"Empty cell",IF(ISNUMBER(AC12),IF(AC12<=0,"Entry should be a positive number","ok"),"Entry should be a positive number")),IF(OR($AB12="no",$AB12="n"),IF(ISBLANK(AC12),"ok","No entry should be made in cell"),IF(ISBLANK(AC12),"ok","No entry should be made in cell")))))) | BX12: =IF(COUNTA($C12:$AU12)=0,"",IF($H12="d","ok",IF(ISBLANK($AB12),IF(ISBLANK(AD12),"ok","Built-In Water Softening System question not answered"),IF(OR($AB12="yes",$AB12="y"),IF(ISBLANK(AD12),"Empty cell",IF(ISNUMBER(AD12),IF(AD12<=0,"Entry should be a positive number","ok"),"Entry should be a positive number")),IF(OR($AB12="no",$AB12="n"),IF(ISBLANK(AD12),"ok","No entry should be made in cell"),IF(ISBLANK(AD12),"ok","No entry should be made in cell")))))) | BY12: =IF(COUNTA($C12:$AU12)=0,"",IF($H12="d","ok",IF(ISBLANK($AB12),IF(ISBLANK(AE12),"ok","Built-In Water Softening System question not answered"),IF(OR($AB12="yes",$AB12="y"),IF(ISBLANK(AE12),"Empty cell",IF(ISNUMBER(AE12),IF(INT(AE12)=AE12,IF(AE12<=0,"Entry should be a positive integer","ok"),"Entry should be a positive integer"),"Entry should be a positive integer")),IF(OR($AB12="no",$AB12="n"),IF(ISBLANK(AE12),"ok","No entry should be made in cell"),IF(ISBLANK(AE12),"ok","No entry should be made in cell")))))) | BZ12: =IF(COUNTA($C12:$AU12)=0,"",IF($H12="d","ok",IF(ISBLANK($AB12),IF(ISBLANK(AF12),"ok","Built-In Water Softening System question not answered"),IF(OR($AB12="yes",$AB12="y"),IF(ISBLANK(AF12),"Empty cell","ok"),IF(OR($AB12="no",$AB12="n"),IF(ISBLANK(AF12),"ok","No entry should be made in cell"),IF(ISBLANK(AF12),"ok","No entry should be made in cell")))))) | CA12: =IF(COUNTA($C12:$AU12)=0,"",IF(ISBLANK(AG12),"ok",IF(AG12="yes","ok",IF(AG12="y","ok",IF(AG12="no","ok",IF(AG12="n","ok","Entry should be either 'yes', 'y', 'no' or 'n'")))))) | CB12: =IF(COUNTA($C12:$AU12)=0,"",IF($H12="d","ok",IF(ISBLANK($AG12),IF(ISBLANK(AH12),"ok","Water Re-Use System question not answered"),IF(OR($AG12="yes",$AG12="y"),IF(ISBLANK(AH12),"ok",IF(ISNUMBER(AH12),IF(AH12<=0,"Entry should be a positive number","ok"),"Entry should be a positive number")),IF(OR($AG12="no",$AG12="n"),IF(ISBLANK(AH12),"ok","No entry should be made in cell"),IF(ISBLANK(AH12),"ok","No entry should be made in cell")))))) | CC12: =IF(COUNTA($C12:$AU12)=0,"",IF($H12="d","ok",IF(ISBLANK($AG12),IF(ISBLANK(AI12),"ok","Water Re-Use System question not answered"),IF(OR($AG12="yes",$AG12="y"),IF(ISBLANK(AI12),"ok",IF(ISNUMBER(AI12),IF(AI12<=0,"Entry should be a positive number","ok"),"Entry should be a positive number")),IF(OR($AG12="no",$AG12="n"),IF(ISBLANK(AI12),"ok","No entry should be made in cell"),IF(ISBLANK(AI12),"ok","No entry should be made in cell")))))) | CD12: =IF(COUNTA($C12:$AU12)=0,"",IF($H12="d","ok",IF(ISBLANK($AG12),IF(ISBLANK(AJ12),"ok","Water Re-Use System question not answered"),IF(OR($AG12="yes",$AG12="y"),IF(ISBLANK(AJ12),"ok",IF(ISNUMBER(AJ12),IF(INT(AJ12)=AJ12,IF(AJ12<=0,"Entry should be a positive integer","ok"),"Entry should be a positive integer"),"Entry should be a positive integer")),IF(OR($AG12="no",$AG12="n"),IF(ISBLANK(AJ12),"ok","No entry should be made in cell"),IF(ISBLANK(AJ12),"ok","No entry should be made in cell")))))) | CE12: =IF(COUNTA($C12:$AU12)=0,"",IF($H12="d","ok",IF(ISBLANK($AG12),IF(ISBLANK(AK12),"ok","Water Re-Use System question not answered"),IF(OR($AG12="yes",$AG12="y"),IF(ISBLANK(AK12),"ok",IF(ISNUMBER(AK12),IF(AK12<=0,"Entry should be a positive number","ok"),"Entry should be a positive number")),IF(OR($AG12="no",$AG12="n"),IF(ISBLANK(AK12),"ok","No entry should be made in cell"),IF(ISBLANK(AK12),"ok","No entry should be made in cell")))))) | CF12: =IF(COUNTA($C12:$AU12)=0,"",IF($H12="d","ok",IF(ISBLANK($AG12),IF(ISBLANK(AL12),"ok","Water Re-Use System question not answered"),IF(OR($AG12="yes",$AG12="y"),IF(ISBLANK(AL12),"Empty cell",IF(ISNUMBER(AL12),IF(AL12<=0,"Entry should be a positive number","ok"),"Entry should be a positive number")),IF(OR($AG12="no",$AG12="n"),IF(ISBLANK(AL12),"ok","No entry should be made in cell"),IF(ISBLANK(AL12),"ok","No entry should be made in cell")))))) | CG12: =IF(COUNTA($C12:$AU12)=0,"",IF($H12="d","ok",IF(ISBLANK($AG12),IF(ISBLANK(AM12),"ok","Water Re-Use System question not answered"),IF(OR($AG12="yes",$AG12="y"),IF(ISBLANK(AM12),"ok",IF(ISNUMBER(AM12),IF(INT(AM12)=AM12,IF(AM12<=0,"Entry should be a positive integer","ok"),"Entry should be a positive integer"),"Entry should be a positive integer")),IF(OR($AG12="no",$AG12="n"),IF(ISBLANK(AM12),"ok","No entry should be made in cell"),IF(ISBLANK(AM12),"ok","No entry should be made in cell")))))) | CH12: =IF(COUNTA($C12:$AU12)=0,"",IF($H12="d","ok",IF(ISBLANK($AG12),IF(ISBLANK(AN12),"ok","Water Re-Use System question not answered"),IF(OR($AG12="yes",$AG12="y"),IF(ISBLANK(AN12),"ok",IF(ISNUMBER(AN12),IF(AN12<=0,"Entry should be a positive number","ok"),"Entry should be a positive number")),IF(OR($AG12="no",$AG12="n"),IF(ISBLANK(AN12),"ok","No entry should be made in cell"),IF(ISBLANK(AN12),"ok","No entry should be made in cell")))))) | CI12: =IF(COUNTA($C12:$AU12)=0,"",IF($H12="d","ok",IF(ISBLANK($AG12),IF(ISBLANK(AO12),"ok","Water Re-Use System question not answered"),IF(OR($AG12="yes",$AG12="y"),IF(ISBLANK(AO12),"ok","ok"),IF(OR($AG12="no",$AG12="n"),IF(ISBLANK(AO12),"ok","No entry should be made in cell"),IF(ISBLANK(AO12),"ok","No entry should be made in cell")))))) | CJ12: =IF(COUNTA($C12:$AU12)=0,"",IF($H12="d","ok",IF(ISBLANK(AP12),"ok",IF(AP12="yes","ok",IF(AP12="y","ok",IF(AP12="no","ok",IF(AP12="n","ok","Entry should be either 'yes', 'y', 'no' or 'n'"))))))) | CK12: =IF(COUNTA($C12:$AU12)=0,"",IF($H12="d","ok",IF(ISBLANK($AP12),IF(ISBLANK(AQ12),"ok","Built-in Reservoir question not answered"),IF(OR($AP12="yes",$AP12="y"),IF(ISBLANK(AQ12),"ok",IF(ISNUMBER(AQ12),IF(AQ12<=0,"Entry should be a positive number","ok"),"Entry should be a positive number")),IF(OR($AP12="no",$AP12="n"),IF(ISBLANK(AQ12),"ok","No entry should be made in cell"),IF(ISBLANK(AQ12),"ok","No entry should be made in cell")))))) | CL12: =IF(COUNTA($C12:$AU12)=0,"",IF($H12="d","ok",IF(ISBLANK($AP12),IF(ISBLANK(AR12),"ok","Built-in Reservoir question not answered"),IF(OR($AP12="yes",$AP12="y"),IF(ISBLANK(AR12),"ok",IF(ISNUMBER(AR12),IF(AR12<0,"Entry should be a number >= 0","ok"),"Entry should be a number >= 0")),IF(OR($AP12="no",$AP12="n"),IF(ISBLANK(AR12),"ok","No entry should be made in cell"),IF(ISBLANK(AR12),"ok","No entry should be made in cell")))))) | CM12: =IF(COUNTA($C12:$AU12)=0,"",IF($H12="d","ok",IF(ISBLANK($AP12),IF(ISBLANK(AS12),"ok","Built-in Reservoir question not answered"),IF(OR($AP12="yes",$AP12="y"),IF(ISBLANK(AS12),"ok",IF(ISNUMBER(AS12),IF(AS12<=0,"Entry should be a positive number","ok"),"Entry should be a positive number")),IF(OR($AP12="no",$AP12="n"),IF(ISBLANK(AS12),"ok","No entry should be made in cell"),IF(ISBLANK(AS12),"ok","No entry should be made in cell")))))) | CN12: =IF(COUNTA($C12:$AU12)=0,"",IF($H12="d","ok",IF(ISBLANK($AP12),IF(ISBLANK(AT12),"ok","Built-in Reservoir question not answered"),IF(OR($AP12="yes",$AP12="y"),IF(ISBLANK(AT12),"ok",IF(ISNUMBER(AT12),IF(AT12<=0,"Entry should be a positive number","ok"),"Entry should be a positive number")),IF(OR($AP12="no",$AP12="n"),IF(ISBLANK(AT12),"ok","No entry should be made in cell"),IF(ISBLANK(AT12),"ok","No entry should be made in cell")))))) | CO12: =IF(COUNTA($C12:$AU12)=0,"",IF(H12="d","ok",IF(ISBLANK(AU12),"Empty cell",IF(OR(LEFT(AU12,7)="http://",LEFT(AU12,8)="https://",LEFT(AU12,6)="ftp://",LEFT(AU12,7)="sftp://",AU12="By annual report date"),"ok","Entry must begin with http://, https://, ftp:// or sftp://or be 'By annual report date'")))) | CV12: =IF(BC12="ok",VLOOKUP(I12,PrClDesc,2),"") | CX12: aaaaaa
A13: 4 | B13: =IF(COUNTIF(AW13:CO13,"")=No_of_Columns,"",IF(COUNTIF(AW13:CO13,"ok")=No_of_Columns,"ok","Error")) | AW13: =IF(COUNTA($C13:$AU13)=0,"",IF(ISBLANK($C13),"Empty cell","ok")) | AX13: =IF(COUNTA($C13:$AU13)=0,"","ok") | AY13: =IF(COUNTA($C13:$AU13)=0,"",IF(ISBLANK($E13),"Empty cell","ok")) | AZ13: =IF(COUNTA($C13:$AU13)=0,"",IF(ISBLANK($F13),"Empty cell","ok")) | BA13: =IF(COUNTA($C13:$AU13)=0,"",IF(ISBLANK($G13),"Empty cell","ok")) | BB13: =IF(COUNTA($C13:$AU13)=0,"",IF(ISBLANK($H13),"Empty cell",IF(OR($H13="n",$H13="d",$H13="c",$H13="e",$H13="f"),"ok","Should be n, d, c, e, or f"))) | BC13: =IF(COUNTA($C13:$AU13)=0,"",IF(ISBLANK($I13),"Empty cell",IF($I13<1,"Prod. Gr. Code should be an int. betw. 1 and "&No_of_Product_Classes,IF($I13>No_of_Product_Classes,"Prod. Gr. Code should be an int. betw. 1 and "&No_of_Product_Classes,IF($I13=INT($I13),"ok","Prod. Gr. Code should be an int. betw. 1 and "&No_of_Product_Classes))))) | BD13: =IF(COUNTA($C13:$AU13)=0,"","ok") | BE13: =IF(COUNTA($C13:$AU13)=0,"",IF(H13="d","ok",IF(ISBLANK($K13),"Empty cell",IF(ISNUMBER(K13)=FALSE,"Entry should be a positive integer",IF($K13<1,"Entry should be a positive integer",IF($K13=INT($K13),"ok","Entry should be a positive integer")))))) | BF13: =IF(COUNTA($C13:$AU13)=0,"",IF(H13="d","ok",IF(ISBLANK(L13),"Empty cell",IF(L13="yes","ok",IF(L13="y","ok",IF(L13="no","ok",IF(L13="n","ok","Entry should be either 'yes', 'y', 'no' or 'n'"))))))) | BG13: =IF(COUNTA($C13:$AU13)=0,"",IF(H13="d","ok",IF(ISBLANK(L13),IF(ISBLANK(M13),"ok","Waiver question not answered"),IF(OR(L13="yes",L13="y"),IF(ISBLANK(M13),"Empty cell",IF(ISNUMBER(M13),IF(M13<1,"Entry should be a date in M/D/YYYY format","ok"),"Entry should be a date in M/D/YYYY format")),IF(OR(L13="no",L13="n"),IF(ISBLANK(M13),"ok","No entry should be made in cell"),IF(ISBLANK(M13),"ok","No entry should be made in cell")))))) | BH13: =IF(COUNTA($C13:$AU13)=0,"",IF(H13="d","ok",IF(ISBLANK(N13),"Empty cell",IF(N13="yes","ok",IF(N13="y","ok",IF(N13="no","ok",IF(N13="n","ok","Entry should be either 'yes', 'y', 'no' or 'n'"))))))) | BI13: =IF(COUNTA($C13:$AU13)=0,"",IF(H13="d","ok",IF(ISBLANK(N13),IF(ISBLANK(O13),"ok","Exemption question not answered"),IF(OR(N13="yes",N13="y"),IF(ISBLANK(O13),"Empty cell",IF(ISNUMBER(O13),IF(O13<1,"Entry should be a date in M/D/YYYY format","ok"),"Entry should be a date in M/D/YYYY format")),IF(OR(N13="no",N13="n"),IF(ISBLANK(O13),"ok","No entry should be made in cell"),IF(ISBLANK(O13),"ok","No entry should be made in cell")))))) | BJ13: =IF(COUNTA($C13:$AU13)=0,"","ok") | BK13: =IF(COUNTA($C13:$AU13)=0,"","ok") | BL13: =IF(COUNTA($C13:$AU13)=0,"",IF(H13="d","ok",IF(ISBLANK($R13),"Empty cell",IF(ISNUMBER($R13),IF($R13>0,"ok","Entry should be greater than 0"),"Entry should be a number")))) | BM13: =IF(COUNTA($C13:$AU13)=0,"",IF(H13="d","ok",IF(ISBLANK($S13),"Empty cell",IF(ISNUMBER($S13),IF($S13>0,"ok","Entry should be greater than 0"),"Entry should be a number")))) | BN13: =IF(COUNTA($C13:$AU13)=0,"",IF(H13="d","ok",IF(ISBLANK($T13),"Empty cell",IF(ISNUMBER($T13)=FALSE,"Entry should be a positive integer",IF($T13<1,"Entry should be a positive integer",IF($T13=INT($T13),"ok","Entry should be a positive integer")))))) | BO13: =IF(COUNTA($C13:$AU13)=0,"",IF(H13="d","ok",IF(ISBLANK(U13),"Empty cell",IF(U13="yes","ok",IF(U13="y","ok",IF(U13="no","ok",IF(U13="n","ok","Entry should be either 'yes', 'y', 'no' or 'n'"))))))) | BP13: =IF(COUNTA($C13:$AU13)=0,"",IF($H13="d","ok",IF(ISBLANK(U13),IF(ISBLANK(V13),"ok","Soil sensor question not answered"),IF(OR(U13="yes",U13="y"),IF(ISBLANK(V13),"Empty cell",IF(ISNUMBER(V13),IF(INT(V13)=V13,IF(V13<=0,"Entry should be a positive integer","ok"),"Entry should be a positive integer"),"Entry should be a positive integer")),IF(OR(U13="no",U13="n"),IF(ISBLANK(V13),"ok","No entry should be made in cell"),IF(ISBLANK(V13),"ok","No entry should be made in cell")))))) | BQ13: =IF(COUNTA($C13:$AU13)=0,"",IF(H13="d","ok",IF(ISBLANK($W13),"Empty cell",IF(ISNUMBER($W13),IF($W13>0,"ok","Entry should be greater than 0"),"Entry should be a number")))) | BR13: =IF(COUNTA($C13:$AU13)=0,"",IF($H13="d","ok",IF(ISBLANK($X13),"Empty cell","ok"))) | BS13: =IF(COUNTA($C13:$AU13)=0,"",IF(H13="d","ok",IF(ISBLANK(Y13),"Empty cell",IF(Y13="yes","ok",IF(Y13="y","ok",IF(Y13="no","ok",IF(Y13="n","ok","Entry should be either 'yes', 'y', 'no' or 'n'"))))))) | BT13: =IF(COUNTA($C13:$AU13)=0,"",IF($H13="d","ok",IF(ISBLANK($Z13),"Empty cell","ok"))) | BU13: =IF(COUNTA($C13:$AU13)=0,"",IF(H13="d","ok",IF(ISBLANK(AA13),"Empty cell",IF(AA13="C","ok",IF(AA13="D","ok","Entry should be either 'C' or 'D''"))))) | BV13: =IF(COUNTA($C13:$AU13)=0,"",IF($H13="d","ok",IF(ISBLANK(AB13),"Empty cell",IF(AB13="yes","ok",IF(AB13="y","ok",IF(AB13="no","ok",IF(AB13="n","ok","Entry should be either 'yes', 'y', 'no' or 'n'"))))))) | BW13: =IF(COUNTA($C13:$AU13)=0,"",IF($H13="d","ok",IF(ISBLANK($AB13),IF(ISBLANK(AC13),"ok","Built-In Water Softening System question not answered"),IF(OR($AB13="yes",$AB13="y"),IF(ISBLANK(AC13),"Empty cell",IF(ISNUMBER(AC13),IF(AC13<=0,"Entry should be a positive number","ok"),"Entry should be a positive number")),IF(OR($AB13="no",$AB13="n"),IF(ISBLANK(AC13),"ok","No entry should be made in cell"),IF(ISBLANK(AC13),"ok","No entry should be made in cell")))))) | BX13: =IF(COUNTA($C13:$AU13)=0,"",IF($H13="d","ok",IF(ISBLANK($AB13),IF(ISBLANK(AD13),"ok","Built-In Water Softening System question not answered"),IF(OR($AB13="yes",$AB13="y"),IF(ISBLANK(AD13),"Empty cell",IF(ISNUMBER(AD13),IF(AD13<=0,"Entry should be a positive number","ok"),"Entry should be a positive number")),IF(OR($AB13="no",$AB13="n"),IF(ISBLANK(AD13),"ok","No entry should be made in cell"),IF(ISBLANK(AD13),"ok","No entry should be made in cell")))))) | BY13: =IF(COUNTA($C13:$AU13)=0,"",IF($H13="d","ok",IF(ISBLANK($AB13),IF(ISBLANK(AE13),"ok","Built-In Water Softening System question not answered"),IF(OR($AB13="yes",$AB13="y"),IF(ISBLANK(AE13),"Empty cell",IF(ISNUMBER(AE13),IF(INT(AE13)=AE13,IF(AE13<=0,"Entry should be a positive integer","ok"),"Entry should be a positive integer"),"Entry should be a positive integer")),IF(OR($AB13="no",$AB13="n"),IF(ISBLANK(AE13),"ok","No entry should be made in cell"),IF(ISBLANK(AE13),"ok","No entry should be made in cell")))))) | BZ13: =IF(COUNTA($C13:$AU13)=0,"",IF($H13="d","ok",IF(ISBLANK($AB13),IF(ISBLANK(AF13),"ok","Built-In Water Softening System question not answered"),IF(OR($AB13="yes",$AB13="y"),IF(ISBLANK(AF13),"Empty cell","ok"),IF(OR($AB13="no",$AB13="n"),IF(ISBLANK(AF13),"ok","No entry should be made in cell"),IF(ISBLANK(AF13),"ok","No entry should be made in cell")))))) | CA13: =IF(COUNTA($C13:$AU13)=0,"",IF(ISBLANK(AG13),"ok",IF(AG13="yes","ok",IF(AG13="y","ok",IF(AG13="no","ok",IF(AG13="n","ok","Entry should be either 'yes', 'y', 'no' or 'n'")))))) | CB13: =IF(COUNTA($C13:$AU13)=0,"",IF($H13="d","ok",IF(ISBLANK($AG13),IF(ISBLANK(AH13),"ok","Water Re-Use System question not answered"),IF(OR($AG13="yes",$AG13="y"),IF(ISBLANK(AH13),"ok",IF(ISNUMBER(AH13),IF(AH13<=0,"Entry should be a positive number","ok"),"Entry should be a positive number")),IF(OR($AG13="no",$AG13="n"),IF(ISBLANK(AH13),"ok","No entry should be made in cell"),IF(ISBLANK(AH13),"ok","No entry should be made in cell")))))) | CC13: =IF(COUNTA($C13:$AU13)=0,"",IF($H13="d","ok",IF(ISBLANK($AG13),IF(ISBLANK(AI13),"ok","Water Re-Use System question not answered"),IF(OR($AG13="yes",$AG13="y"),IF(ISBLANK(AI13),"ok",IF(ISNUMBER(AI13),IF(AI13<=0,"Entry should be a positive number","ok"),"Entry should be a positive number")),IF(OR($AG13="no",$AG13="n"),IF(ISBLANK(AI13),"ok","No entry should be made in cell"),IF(ISBLANK(AI13),"ok","No entry should be made in cell")))))) | CD13: =IF(COUNTA($C13:$AU13)=0,"",IF($H13="d","ok",IF(ISBLANK($AG13),IF(ISBLANK(AJ13),"ok","Water Re-Use System question not answered"),IF(OR($AG13="yes",$AG13="y"),IF(ISBLANK(AJ13),"ok",IF(ISNUMBER(AJ13),IF(INT(AJ13)=AJ13,IF(AJ13<=0,"Entry should be a positive integer","ok"),"Entry should be a positive integer"),"Entry should be a positive integer")),IF(OR($AG13="no",$AG13="n"),IF(ISBLANK(AJ13),"ok","No entry should be made in cell"),IF(ISBLANK(AJ13),"ok","No entry should be made in cell")))))) | CE13: =IF(COUNTA($C13:$AU13)=0,"",IF($H13="d","ok",IF(ISBLANK($AG13),IF(ISBLANK(AK13),"ok","Water Re-Use System question not answered"),IF(OR($AG13="yes",$AG13="y"),IF(ISBLANK(AK13),"ok",IF(ISNUMBER(AK13),IF(AK13<=0,"Entry should be a positive number","ok"),"Entry should be a positive number")),IF(OR($AG13="no",$AG13="n"),IF(ISBLANK(AK13),"ok","No entry should be made in cell"),IF(ISBLANK(AK13),"ok","No entry should be made in cell")))))) | CF13: =IF(COUNTA($C13:$AU13)=0,"",IF($H13="d","ok",IF(ISBLANK($AG13),IF(ISBLANK(AL13),"ok","Water Re-Use System question not answered"),IF(OR($AG13="yes",$AG13="y"),IF(ISBLANK(AL13),"Empty cell",IF(ISNUMBER(AL13),IF(AL13<=0,"Entry should be a positive number","ok"),"Entry should be a positive number")),IF(OR($AG13="no",$AG13="n"),IF(ISBLANK(AL13),"ok","No entry should be made in cell"),IF(ISBLANK(AL13),"ok","No entry should be made in cell")))))) | CG13: =IF(COUNTA($C13:$AU13)=0,"",IF($H13="d","ok",IF(ISBLANK($AG13),IF(ISBLANK(AM13),"ok","Water Re-Use System question not answered"),IF(OR($AG13="yes",$AG13="y"),IF(ISBLANK(AM13),"ok",IF(ISNUMBER(AM13),IF(INT(AM13)=AM13,IF(AM13<=0,"Entry should be a positive integer","ok"),"Entry should be a positive integer"),"Entry should be a positive integer")),IF(OR($AG13="no",$AG13="n"),IF(ISBLANK(AM13),"ok","No entry should be made in cell"),IF(ISBLANK(AM13),"ok","No entry should be made in cell")))))) | CH13: =IF(COUNTA($C13:$AU13)=0,"",IF($H13="d","ok",IF(ISBLANK($AG13),IF(ISBLANK(AN13),"ok","Water Re-Use System question not answered"),IF(OR($AG13="yes",$AG13="y"),IF(ISBLANK(AN13),"ok",IF(ISNUMBER(AN13),IF(AN13<=0,"Entry should be a positive number","ok"),"Entry should be a positive number")),IF(OR($AG13="no",$AG13="n"),IF(ISBLANK(AN13),"ok","No entry should be made in cell"),IF(ISBLANK(AN13),"ok","No entry should be made in cell")))))) | CI13: =IF(COUNTA($C13:$AU13)=0,"",IF($H13="d","ok",IF(ISBLANK($AG13),IF(ISBLANK(AO13),"ok","Water Re-Use System question not answered"),IF(OR($AG13="yes",$AG13="y"),IF(ISBLANK(AO13),"ok","ok"),IF(OR($AG13="no",$AG13="n"),IF(ISBLANK(AO13),"ok","No entry should be made in cell"),IF(ISBLANK(AO13),"ok","No entry should be made in cell")))))) | CJ13: =IF(COUNTA($C13:$AU13)=0,"",IF($H13="d","ok",IF(ISBLANK(AP13),"ok",IF(AP13="yes","ok",IF(AP13="y","ok",IF(AP13="no","ok",IF(AP13="n","ok","Entry should be either 'yes', 'y', 'no' or 'n'"))))))) | CK13: =IF(COUNTA($C13:$AU13)=0,"",IF($H13="d","ok",IF(ISBLANK($AP13),IF(ISBLANK(AQ13),"ok","Built-in Reservoir question not answered"),IF(OR($AP13="yes",$AP13="y"),IF(ISBLANK(AQ13),"ok",IF(ISNUMBER(AQ13),IF(AQ13<=0,"Entry should be a positive number","ok"),"Entry should be a positive number")),IF(OR($AP13="no",$AP13="n"),IF(ISBLANK(AQ13),"ok","No entry should be made in cell"),IF(ISBLANK(AQ13),"ok","No entry should be made in cell")))))) | CL13: =IF(COUNTA($C13:$AU13)=0,"",IF($H13="d","ok",IF(ISBLANK($AP13),IF(ISBLANK(AR13),"ok","Built-in Reservoir question not answered"),IF(OR($AP13="yes",$AP13="y"),IF(ISBLANK(AR13),"ok",IF(ISNUMBER(AR13),IF(AR13<0,"Entry should be a number >= 0","ok"),"Entry should be a number >= 0")),IF(OR($AP13="no",$AP13="n"),IF(ISBLANK(AR13),"ok","No entry should be made in cell"),IF(ISBLANK(AR13),"ok","No entry should be made in cell")))))) | CM13: =IF(COUNTA($C13:$AU13)=0,"",IF($H13="d","ok",IF(ISBLANK($AP13),IF(ISBLANK(AS13),"ok","Built-in Reservoir question not answered"),IF(OR($AP13="yes",$AP13="y"),IF(ISBLANK(AS13),"ok",IF(ISNUMBER(AS13),IF(AS13<=0,"Entry should be a positive number","ok"),"Entry should be a positive number")),IF(OR($AP13="no",$AP13="n"),IF(ISBLANK(AS13),"ok","No entry should be made in cell"),IF(ISBLANK(AS13),"ok","No entry should be made in cell")))))) | CN13: =IF(COUNTA($C13:$AU13)=0,"",IF($H13="d","ok",IF(ISBLANK($AP13),IF(ISBLANK(AT13),"ok","Built-in Reservoir question not answered"),IF(OR($AP13="yes",$AP13="y"),IF(ISBLANK(AT13),"ok",IF(ISNUMBER(AT13),IF(AT13<=0,"Entry should be a positive number","ok"),"Entry should be a positive number")),IF(OR($AP13="no",$AP13="n"),IF(ISBLANK(AT13),"ok","No entry should be made in cell"),IF(ISBLANK(AT13),"ok","No entry should be made in cell")))))) | CO13: =IF(COUNTA($C13:$AU13)=0,"",IF(H13="d","ok",IF(ISBLANK(AU13),"Empty cell",IF(OR(LEFT(AU13,7)="http://",LEFT(AU13,8)="https://",LEFT(AU13,6)="ftp://",LEFT(AU13,7)="sftp://",AU13="By annual report date"),"ok","Entry must begin with http://, https://, ftp:// or sftp://or be 'By annual report date'")))) | CV13: =IF(BC13="ok",VLOOKUP(I13,PrClDesc,2),"") | CX13: aaaaaa
A14: 5 | B14: =IF(COUNTIF(AW14:CO14,"")=No_of_Columns,"",IF(COUNTIF(AW14:CO14,"ok")=No_of_Columns,"ok","Error")) | AW14: =IF(COUNTA($C14:$AU14)=0,"",IF(ISBLANK($C14),"Empty cell","ok")) | AX14: =IF(COUNTA($C14:$AU14)=0,"","ok") | AY14: =IF(COUNTA($C14:$AU14)=0,"",IF(ISBLANK($E14),"Empty cell","ok")) | AZ14: =IF(COUNTA($C14:$AU14)=0,"",IF(ISBLANK($F14),"Empty cell","ok")) | BA14: =IF(COUNTA($C14:$AU14)=0,"",IF(ISBLANK($G14),"Empty cell","ok")) | BB14: =IF(COUNTA($C14:$AU14)=0,"",IF(ISBLANK($H14),"Empty cell",IF(OR($H14="n",$H14="d",$H14="c",$H14="e",$H14="f"),"ok","Should be n, d, c, e, or f"))) | BC14: =IF(COUNTA($C14:$AU14)=0,"",IF(ISBLANK($I14),"Empty cell",IF($I14<1,"Prod. Gr. Code should be an int. betw. 1 and "&No_of_Product_Classes,IF($I14>No_of_Product_Classes,"Prod. Gr. Code should be an int. betw. 1 and "&No_of_Product_Classes,IF($I14=INT($I14),"ok","Prod. Gr. Code should be an int. betw. 1 and "&No_of_Product_Classes))))) | BD14: =IF(COUNTA($C14:$AU14)=0,"","ok") | BE14: =IF(COUNTA($C14:$AU14)=0,"",IF(H14="d","ok",IF(ISBLANK($K14),"Empty cell",IF(ISNUMBER(K14)=FALSE,"Entry should be a positive integer",IF($K14<1,"Entry should be a positive integer",IF($K14=INT($K14),"ok","Entry should be a positive integer")))))) | BF14: =IF(COUNTA($C14:$AU14)=0,"",IF(H14="d","ok",IF(ISBLANK(L14),"Empty cell",IF(L14="yes","ok",IF(L14="y","ok",IF(L14="no","ok",IF(L14="n","ok","Entry should be either 'yes', 'y', 'no' or 'n'"))))))) | BG14: =IF(COUNTA($C14:$AU14)=0,"",IF(H14="d","ok",IF(ISBLANK(L14),IF(ISBLANK(M14),"ok","Waiver question not answered"),IF(OR(L14="yes",L14="y"),IF(ISBLANK(M14),"Empty cell",IF(ISNUMBER(M14),IF(M14<1,"Entry should be a date in M/D/YYYY format","ok"),"Entry should be a date in M/D/YYYY format")),IF(OR(L14="no",L14="n"),IF(ISBLANK(M14),"ok","No entry should be made in cell"),IF(ISBLANK(M14),"ok","No entry should be made in cell")))))) | BH14: =IF(COUNTA($C14:$AU14)=0,"",IF(H14="d","ok",IF(ISBLANK(N14),"Empty cell",IF(N14="yes","ok",IF(N14="y","ok",IF(N14="no","ok",IF(N14="n","ok","Entry should be either 'yes', 'y', 'no' or 'n'"))))))) | BI14: =IF(COUNTA($C14:$AU14)=0,"",IF(H14="d","ok",IF(ISBLANK(N14),IF(ISBLANK(O14),"ok","Exemption question not answered"),IF(OR(N14="yes",N14="y"),IF(ISBLANK(O14),"Empty cell",IF(ISNUMBER(O14),IF(O14<1,"Entry should be a date in M/D/YYYY format","ok"),"Entry should be a date in M/D/YYYY format")),IF(OR(N14="no",N14="n"),IF(ISBLANK(O14),"ok","No entry should be made in cell"),IF(ISBLANK(O14),"ok","No entry should be made in cell")))))) | BJ14: =IF(COUNTA($C14:$AU14)=0,"","ok") | BK14: =IF(COUNTA($C14:$AU14)=0,"","ok") | BL14: =IF(COUNTA($C14:$AU14)=0,"",IF(H14="d","ok",IF(ISBLANK($R14),"Empty cell",IF(ISNUMBER($R14),IF($R14>0,"ok","Entry should be greater than 0"),"Entry should be a number")))) | BM14: =IF(COUNTA($C14:$AU14)=0,"",IF(H14="d","ok",IF(ISBLANK($S14),"Empty cell",IF(ISNUMBER($S14),IF($S14>0,"ok","Entry should be greater than 0"),"Entry should be a number")))) | BN14: =IF(COUNTA($C14:$AU14)=0,"",IF(H14="d","ok",IF(ISBLANK($T14),"Empty cell",IF(ISNUMBER($T14)=FALSE,"Entry should be a positive integer",IF($T14<1,"Entry should be a positive integer",IF($T14=INT($T14),"ok","Entry should be a positive integer")))))) | BO14: =IF(COUNTA($C14:$AU14)=0,"",IF(H14="d","ok",IF(ISBLANK(U14),"Empty cell",IF(U14="yes","ok",IF(U14="y","ok",IF(U14="no","ok",IF(U14="n","ok","Entry should be either 'yes', 'y', 'no' or 'n'"))))))) | BP14: =IF(COUNTA($C14:$AU14)=0,"",IF($H14="d","ok",IF(ISBLANK(U14),IF(ISBLANK(V14),"ok","Soil sensor question not answered"),IF(OR(U14="yes",U14="y"),IF(ISBLANK(V14),"Empty cell",IF(ISNUMBER(V14),IF(INT(V14)=V14,IF(V14<=0,"Entry should be a positive integer","ok"),"Entry should be a positive integer"),"Entry should be a positive integer")),IF(OR(U14="no",U14="n"),IF(ISBLANK(V14),"ok","No entry should be made in cell"),IF(ISBLANK(V14),"ok","No entry should be made in cell")))))) | BQ14: =IF(COUNTA($C14:$AU14)=0,"",IF(H14="d","ok",IF(ISBLANK($W14),"Empty cell",IF(ISNUMBER($W14),IF($W14>0,"ok","Entry should be greater than 0"),"Entry should be a number")))) | BR14: =IF(COUNTA($C14:$AU14)=0,"",IF($H14="d","ok",IF(ISBLANK($X14),"Empty cell","ok"))) | BS14: =IF(COUNTA($C14:$AU14)=0,"",IF(H14="d","ok",IF(ISBLANK(Y14),"Empty cell",IF(Y14="yes","ok",IF(Y14="y","ok",IF(Y14="no","ok",IF(Y14="n","ok","Entry should be either 'yes', 'y', 'no' or 'n'"))))))) | BT14: =IF(COUNTA($C14:$AU14)=0,"",IF($H14="d","ok",IF(ISBLANK($Z14),"Empty cell","ok"))) | BU14: =IF(COUNTA($C14:$AU14)=0,"",IF(H14="d","ok",IF(ISBLANK(AA14),"Empty cell",IF(AA14="C","ok",IF(AA14="D","ok","Entry should be either 'C' or 'D''"))))) | BV14: =IF(COUNTA($C14:$AU14)=0,"",IF($H14="d","ok",IF(ISBLANK(AB14),"Empty cell",IF(AB14="yes","ok",IF(AB14="y","ok",IF(AB14="no","ok",IF(AB14="n","ok","Entry should be either 'yes', 'y', 'no' or 'n'"))))))) | BW14: =IF(COUNTA($C14:$AU14)=0,"",IF($H14="d","ok",IF(ISBLANK($AB14),IF(ISBLANK(AC14),"ok","Built-In Water Softening System question not answered"),IF(OR($AB14="yes",$AB14="y"),IF(ISBLANK(AC14),"Empty cell",IF(ISNUMBER(AC14),IF(AC14<=0,"Entry should be a positive number","ok"),"Entry should be a positive number")),IF(OR($AB14="no",$AB14="n"),IF(ISBLANK(AC14),"ok","No entry should be made in cell"),IF(ISBLANK(AC14),"ok","No entry should be made in cell")))))) | BX14: =IF(COUNTA($C14:$AU14)=0,"",IF($H14="d","ok",IF(ISBLANK($AB14),IF(ISBLANK(AD14),"ok","Built-In Water Softening System question not answered"),IF(OR($AB14="yes",$AB14="y"),IF(ISBLANK(AD14),"Empty cell",IF(ISNUMBER(AD14),IF(AD14<=0,"Entry should be a positive number","ok"),"Entry should be a positive number")),IF(OR($AB14="no",$AB14="n"),IF(ISBLANK(AD14),"ok","No entry should be made in cell"),IF(ISBLANK(AD14),"ok","No entry should be made in cell")))))) | BY14: =IF(COUNTA($C14:$AU14)=0,"",IF($H14="d","ok",IF(ISBLANK($AB14),IF(ISBLANK(AE14),"ok","Built-In Water Softening System question not answered"),IF(OR($AB14="yes",$AB14="y"),IF(ISBLANK(AE14),"Empty cell",IF(ISNUMBER(AE14),IF(INT(AE14)=AE14,IF(AE14<=0,"Entry should be a positive integer","ok"),"Entry should be a positive integer"),"Entry should be a positive integer")),IF(OR($AB14="no",$AB14="n"),IF(ISBLANK(AE14),"ok","No entry should be made in cell"),IF(ISBLANK(AE14),"ok","No entry should be made in cell")))))) | BZ14: =IF(COUNTA($C14:$AU14)=0,"",IF($H14="d","ok",IF(ISBLANK($AB14),IF(ISBLANK(AF14),"ok","Built-In Water Softening System question not answered"),IF(OR($AB14="yes",$AB14="y"),IF(ISBLANK(AF14),"Empty cell","ok"),IF(OR($AB14="no",$AB14="n"),IF(ISBLANK(AF14),"ok","No entry should be made in cell"),IF(ISBLANK(AF14),"ok","No entry should be made in cell")))))) | CA14: =IF(COUNTA($C14:$AU14)=0,"",IF(ISBLANK(AG14),"ok",IF(AG14="yes","ok",IF(AG14="y","ok",IF(AG14="no","ok",IF(AG14="n","ok","Entry should be either 'yes', 'y', 'no' or 'n'")))))) | CB14: =IF(COUNTA($C14:$AU14)=0,"",IF($H14="d","ok",IF(ISBLANK($AG14),IF(ISBLANK(AH14),"ok","Water Re-Use System question not answered"),IF(OR($AG14="yes",$AG14="y"),IF(ISBLANK(AH14),"ok",IF(ISNUMBER(AH14),IF(AH14<=0,"Entry should be a positive number","ok"),"Entry should be a positive number")),IF(OR($AG14="no",$AG14="n"),IF(ISBLANK(AH14),"ok","No entry should be made in cell"),IF(ISBLANK(AH14),"ok","No entry should be made in cell")))))) | CC14: =IF(COUNTA($C14:$AU14)=0,"",IF($H14="d","ok",IF(ISBLANK($AG14),IF(ISBLANK(AI14),"ok","Water Re-Use System question not answered"),IF(OR($AG14="yes",$AG14="y"),IF(ISBLANK(AI14),"ok",IF(ISNUMBER(AI14),IF(AI14<=0,"Entry should be a positive number","ok"),"Entry should be a positive number")),IF(OR($AG14="no",$AG14="n"),IF(ISBLANK(AI14),"ok","No entry should be made in cell"),IF(ISBLANK(AI14),"ok","No entry should be made in cell")))))) | CD14: =IF(COUNTA($C14:$AU14)=0,"",IF($H14="d","ok",IF(ISBLANK($AG14),IF(ISBLANK(AJ14),"ok","Water Re-Use System question not answered"),IF(OR($AG14="yes",$AG14="y"),IF(ISBLANK(AJ14),"ok",IF(ISNUMBER(AJ14),IF(INT(AJ14)=AJ14,IF(AJ14<=0,"Entry should be a positive integer","ok"),"Entry should be a positive integer"),"Entry should be a positive integer")),IF(OR($AG14="no",$AG14="n"),IF(ISBLANK(AJ14),"ok","No entry should be made in cell"),IF(ISBLANK(AJ14),"ok","No entry should be made in cell")))))) | CE14: =IF(COUNTA($C14:$AU14)=0,"",IF($H14="d","ok",IF(ISBLANK($AG14),IF(ISBLANK(AK14),"ok","Water Re-Use System question not answered"),IF(OR($AG14="yes",$AG14="y"),IF(ISBLANK(AK14),"ok",IF(ISNUMBER(AK14),IF(AK14<=0,"Entry should be a positive number","ok"),"Entry should be a positive number")),IF(OR($AG14="no",$AG14="n"),IF(ISBLANK(AK14),"ok","No entry should be made in cell"),IF(ISBLANK(AK14),"ok","No entry should be made in cell")))))) | CF14: =IF(COUNTA($C14:$AU14)=0,"",IF($H14="d","ok",IF(ISBLANK($AG14),IF(ISBLANK(AL14),"ok","Water Re-Use System question not answered"),IF(OR($AG14="yes",$AG14="y"),IF(ISBLANK(AL14),"Empty cell",IF(ISNUMBER(AL14),IF(AL14<=0,"Entry should be a positive number","ok"),"Entry should be a positive number")),IF(OR($AG14="no",$AG14="n"),IF(ISBLANK(AL14),"ok","No entry should be made in cell"),IF(ISBLANK(AL14),"ok","No entry should be made in cell")))))) | CG14: =IF(COUNTA($C14:$AU14)=0,"",IF($H14="d","ok",IF(ISBLANK($AG14),IF(ISBLANK(AM14),"ok","Water Re-Use System question not answered"),IF(OR($AG14="yes",$AG14="y"),IF(ISBLANK(AM14),"ok",IF(ISNUMBER(AM14),IF(INT(AM14)=AM14,IF(AM14<=0,"Entry should be a positive integer","ok"),"Entry should be a positive integer"),"Entry should be a positive integer")),IF(OR($AG14="no",$AG14="n"),IF(ISBLANK(AM14),"ok","No entry should be made in cell"),IF(ISBLANK(AM14),"ok","No entry should be made in cell")))))) | CH14: =IF(COUNTA($C14:$AU14)=0,"",IF($H14="d","ok",IF(ISBLANK($AG14),IF(ISBLANK(AN14),"ok","Water Re-Use System question not answered"),IF(OR($AG14="yes",$AG14="y"),IF(ISBLANK(AN14),"ok",IF(ISNUMBER(AN14),IF(AN14<=0,"Entry should be a positive number","ok"),"Entry should be a positive number")),IF(OR($AG14="no",$AG14="n"),IF(ISBLANK(AN14),"ok","No entry should be made in cell"),IF(ISBLANK(AN14),"ok","No entry should be made in cell")))))) | CI14: =IF(COUNTA($C14:$AU14)=0,"",IF($H14="d","ok",IF(ISBLANK($AG14),IF(ISBLANK(AO14),"ok","Water Re-Use System question not answered"),IF(OR($AG14="yes",$AG14="y"),IF(ISBLANK(AO14),"ok","ok"),IF(OR($AG14="no",$AG14="n"),IF(ISBLANK(AO14),"ok","No entry should be made in cell"),IF(ISBLANK(AO14),"ok","No entry should be made in cell")))))) | CJ14: =IF(COUNTA($C14:$AU14)=0,"",IF($H14="d","ok",IF(ISBLANK(AP14),"ok",IF(AP14="yes","ok",IF(AP14="y","ok",IF(AP14="no","ok",IF(AP14="n","ok","Entry should be either 'yes', 'y', 'no' or 'n'"))))))) | CK14: =IF(COUNTA($C14:$AU14)=0,"",IF($H14="d","ok",IF(ISBLANK($AP14),IF(ISBLANK(AQ14),"ok","Built-in Reservoir question not answered"),IF(OR($AP14="yes",$AP14="y"),IF(ISBLANK(AQ14),"ok",IF(ISNUMBER(AQ14),IF(AQ14<=0,"Entry should be a positive number","ok"),"Entry should be a positive number")),IF(OR($AP14="no",$AP14="n"),IF(ISBLANK(AQ14),"ok","No entry should be made in cell"),IF(ISBLANK(AQ14),"ok","No entry should be made in cell")))))) | CL14: =IF(COUNTA($C14:$AU14)=0,"",IF($H14="d","ok",IF(ISBLANK($AP14),IF(ISBLANK(AR14),"ok","Built-in Reservoir question not answered"),IF(OR($AP14="yes",$AP14="y"),IF(ISBLANK(AR14),"ok",IF(ISNUMBER(AR14),IF(AR14<0,"Entry should be a number >= 0","ok"),"Entry should be a number >= 0")),IF(OR($AP14="no",$AP14="n"),IF(ISBLANK(AR14),"ok","No entry should be made in cell"),IF(ISBLANK(AR14),"ok","No entry should be made in cell")))))) | CM14: =IF(COUNTA($C14:$AU14)=0,"",IF($H14="d","ok",IF(ISBLANK($AP14),IF(ISBLANK(AS14),"ok","Built-in Reservoir question not answered"),IF(OR($AP14="yes",$AP14="y"),IF(ISBLANK(AS14),"ok",IF(ISNUMBER(AS14),IF(AS14<=0,"Entry should be a positive number","ok"),"Entry should be a positive number")),IF(OR($AP14="no",$AP14="n"),IF(ISBLANK(AS14),"ok","No entry should be made in cell"),IF(ISBLANK(AS14),"ok","No entry should be made in cell")))))) | CN14: =IF(COUNTA($C14:$AU14)=0,"",IF($H14="d","ok",IF(ISBLANK($AP14),IF(ISBLANK(AT14),"ok","Built-in Reservoir question not answered"),IF(OR($AP14="yes",$AP14="y"),IF(ISBLANK(AT14),"ok",IF(ISNUMBER(AT14),IF(AT14<=0,"Entry should be a positive number","ok"),"Entry should be a positive number")),IF(OR($AP14="no",$AP14="n"),IF(ISBLANK(AT14),"ok","No entry should be made in cell"),IF(ISBLANK(AT14),"ok","No entry should be made in cell")))))) | CO14: =IF(COUNTA($C14:$AU14)=0,"",IF(H14="d","ok",IF(ISBLANK(AU14),"Empty cell",IF(OR(LEFT(AU14,7)="http://",LEFT(AU14,8)="https://",LEFT(AU14,6)="ftp://",LEFT(AU14,7)="sftp://",AU14="By annual report date"),"ok","Entry must begin with http://, https://, ftp:// or sftp://or be 'By annual report date'")))) | CV14: =IF(BC14="ok",VLOOKUP(I14,PrClDesc,2),"") | CX14: aaaaaa
A15: 6 | B15: =IF(COUNTIF(AW15:CO15,"")=No_of_Columns,"",IF(COUNTIF(AW15:CO15,"ok")=No_of_Columns,"ok","Error")) | AW15: =IF(COUNTA($C15:$AU15)=0,"",IF(ISBLANK($C15),"Empty cell","ok")) | AX15: =IF(COUNTA($C15:$AU15)=0,"","ok") | AY15: =IF(COUNTA($C15:$AU15)=0,"",IF(ISBLANK($E15),"Empty cell","ok")) | AZ15: =IF(COUNTA($C15:$AU15)=0,"",IF(ISBLANK($F15),"Empty cell","ok")) | BA15: =IF(COUNTA($C15:$AU15)=0,"",IF(ISBLANK($G15),"Empty cell","ok")) | BB15: =IF(COUNTA($C15:$AU15)=0,"",IF(ISBLANK($H15),"Empty cell",IF(OR($H15="n",$H15="d",$H15="c",$H15="e",$H15="f"),"ok","Should be n, d, c, e, or f"))) | BC15: =IF(COUNTA($C15:$AU15)=0,"",IF(ISBLANK($I15),"Empty cell",IF($I15<1,"Prod. Gr. Code should be an int. betw. 1 and "&No_of_Product_Classes,IF($I15>No_of_Product_Classes,"Prod. Gr. Code should be an int. betw. 1 and "&No_of_Product_Classes,IF($I15=INT($I15),"ok","Prod. Gr. Code should be an int. betw. 1 and "&No_of_Product_Classes))))) | BD15: =IF(COUNTA($C15:$AU15)=0,"","ok") | BE15: =IF(COUNTA($C15:$AU15)=0,"",IF(H15="d","ok",IF(ISBLANK($K15),"Empty cell",IF(ISNUMBER(K15)=FALSE,"Entry should be a positive integer",IF($K15<1,"Entry should be a positive integer",IF($K15=INT($K15),"ok","Entry should be a positive integer")))))) | BF15: =IF(COUNTA($C15:$AU15)=0,"",IF(H15="d","ok",IF(ISBLANK(L15),"Empty cell",IF(L15="yes","ok",IF(L15="y","ok",IF(L15="no","ok",IF(L15="n","ok","Entry should be either 'yes', 'y', 'no' or 'n'"))))))) | BG15: =IF(COUNTA($C15:$AU15)=0,"",IF(H15="d","ok",IF(ISBLANK(L15),IF(ISBLANK(M15),"ok","Waiver question not answered"),IF(OR(L15="yes",L15="y"),IF(ISBLANK(M15),"Empty cell",IF(ISNUMBER(M15),IF(M15<1,"Entry should be a date in M/D/YYYY format","ok"),"Entry should be a date in M/D/YYYY format")),IF(OR(L15="no",L15="n"),IF(ISBLANK(M15),"ok","No entry should be made in cell"),IF(ISBLANK(M15),"ok","No entry should be made in cell")))))) | BH15: =IF(COUNTA($C15:$AU15)=0,"",IF(H15="d","ok",IF(ISBLANK(N15),"Empty cell",IF(N15="yes","ok",IF(N15="y","ok",IF(N15="no","ok",IF(N15="n","ok","Entry should be either 'yes', 'y', 'no' or 'n'"))))))) | BI15: =IF(COUNTA($C15:$AU15)=0,"",IF(H15="d","ok",IF(ISBLANK(N15),IF(ISBLANK(O15),"ok","Exemption question not answered"),IF(OR(N15="yes",N15="y"),IF(ISBLANK(O15),"Empty cell",IF(ISNUMBER(O15),IF(O15<1,"Entry should be a date in M/D/YYYY format","ok"),"Entry should be a date in M/D/YYYY format")),IF(OR(N15="no",N15="n"),IF(ISBLANK(O15),"ok","No entry should be made in cell"),IF(ISBLANK(O15),"ok","No entry should be made in cell")))))) | BJ15: =IF(COUNTA($C15:$AU15)=0,"","ok") | BK15: =IF(COUNTA($C15:$AU15)=0,"","ok") | BL15: =IF(COUNTA($C15:$AU15)=0,"",IF(H15="d","ok",IF(ISBLANK($R15),"Empty cell",IF(ISNUMBER($R15),IF($R15>0,"ok","Entry should be greater than 0"),"Entry should be a number")))) | BM15: =IF(COUNTA($C15:$AU15)=0,"",IF(H15="d","ok",IF(ISBLANK($S15),"Empty cell",IF(ISNUMBER($S15),IF($S15>0,"ok","Entry should be greater than 0"),"Entry should be a number")))) | BN15: =IF(COUNTA($C15:$AU15)=0,"",IF(H15="d","ok",IF(ISBLANK($T15),"Empty cell",IF(ISNUMBER($T15)=FALSE,"Entry should be a positive integer",IF($T15<1,"Entry should be a positive integer",IF($T15=INT($T15),"ok","Entry should be a positive integer")))))) | BO15: =IF(COUNTA($C15:$AU15)=0,"",IF(H15="d","ok",IF(ISBLANK(U15),"Empty cell",IF(U15="yes","ok",IF(U15="y","ok",IF(U15="no","ok",IF(U15="n","ok","Entry should be either 'yes', 'y', 'no' or 'n'"))))))) | BP15: =IF(COUNTA($C15:$AU15)=0,"",IF($H15="d","ok",IF(ISBLANK(U15),IF(ISBLANK(V15),"ok","Soil sensor question not answered"),IF(OR(U15="yes",U15="y"),IF(ISBLANK(V15),"Empty cell",IF(ISNUMBER(V15),IF(INT(V15)=V15,IF(V15<=0,"Entry should be a positive integer","ok"),"Entry should be a positive integer"),"Entry should be a positive integer")),IF(OR(U15="no",U15="n"),IF(ISBLANK(V15),"ok","No entry should be made in cell"),IF(ISBLANK(V15),"ok","No entry should be made in cell")))))) | BQ15: =IF(COUNTA($C15:$AU15)=0,"",IF(H15="d","ok",IF(ISBLANK($W15),"Empty cell",IF(ISNUMBER($W15),IF($W15>0,"ok","Entry should be greater than 0"),"Entry should be a number")))) | BR15: =IF(COUNTA($C15:$AU15)=0,"",IF($H15="d","ok",IF(ISBLANK($X15),"Empty cell","ok"))) | BS15: =IF(COUNTA($C15:$AU15)=0,"",IF(H15="d","ok",IF(ISBLANK(Y15),"Empty cell",IF(Y15="yes","ok",IF(Y15="y","ok",IF(Y15="no","ok",IF(Y15="n","ok","Entry should be either 'yes', 'y', 'no' or 'n'"))))))) | BT15: =IF(COUNTA($C15:$AU15)=0,"",IF($H15="d","ok",IF(ISBLANK($Z15),"Empty cell","ok"))) | BU15: =IF(COUNTA($C15:$AU15)=0,"",IF(H15="d","ok",IF(ISBLANK(AA15),"Empty cell",IF(AA15="C","ok",IF(AA15="D","ok","Entry should be either 'C' or 'D''"))))) | BV15: =IF(COUNTA($C15:$AU15)=0,"",IF($H15="d","ok",IF(ISBLANK(AB15),"Empty cell",IF(AB15="yes","ok",IF(AB15="y","ok",IF(AB15="no","ok",IF(AB15="n","ok","Entry should be either 'yes', 'y', 'no' or 'n'"))))))) | BW15: =IF(COUNTA($C15:$AU15)=0,"",IF($H15="d","ok",IF(ISBLANK($AB15),IF(ISBLANK(AC15),"ok","Built-In Water Softening System question not answered"),IF(OR($AB15="yes",$AB15="y"),IF(ISBLANK(AC15),"Empty cell",IF(ISNUMBER(AC15),IF(AC15<=0,"Entry should be a positive number","ok"),"Entry should be a positive number")),IF(OR($AB15="no",$AB15="n"),IF(ISBLANK(AC15),"ok","No entry should be made in cell"),IF(ISBLANK(AC15),"ok","No entry should be made in cell")))))) | BX15: =IF(COUNTA($C15:$AU15)=0,"",IF($H15="d","ok",IF(ISBLANK($AB15),IF(ISBLANK(AD15),"ok","Built-In Water Softening System question not answered"),IF(OR($AB15="yes",$AB15="y"),IF(ISBLANK(AD15),"Empty cell",IF(ISNUMBER(AD15),IF(AD15<=0,"Entry should be a positive number","ok"),"Entry should be a positive number")),IF(OR($AB15="no",$AB15="n"),IF(ISBLANK(AD15),"ok","No entry should be made in cell"),IF(ISBLANK(AD15),"ok","No entry should be made in cell")))))) | BY15: =IF(COUNTA($C15:$AU15)=0,"",IF($H15="d","ok",IF(ISBLANK($AB15),IF(ISBLANK(AE15),"ok","Built-In Water Softening System question not answered"),IF(OR($AB15="yes",$AB15="y"),IF(ISBLANK(AE15),"Empty cell",IF(ISNUMBER(AE15),IF(INT(AE15)=AE15,IF(AE15<=0,"Entry should be a positive integer","ok"),"Entry should be a positive integer"),"Entry should be a positive integer")),IF(OR($AB15="no",$AB15="n"),IF(ISBLANK(AE15),"ok","No entry should be made in cell"),IF(ISBLANK(AE15),"ok","No entry should be made in cell")))))) | BZ15: =IF(COUNTA($C15:$AU15)=0,"",IF($H15="d","ok",IF(ISBLANK($AB15),IF(ISBLANK(AF15),"ok","Built-In Water Softening System question not answered"),IF(OR($AB15="yes",$AB15="y"),IF(ISBLANK(AF15),"Empty cell","ok"),IF(OR($AB15="no",$AB15="n"),IF(ISBLANK(AF15),"ok","No entry should be made in cell"),IF(ISBLANK(AF15),"ok","No entry should be made in cell")))))) | CA15: =IF(COUNTA($C15:$AU15)=0,"",IF(ISBLANK(AG15),"ok",IF(AG15="yes","ok",IF(AG15="y","ok",IF(AG15="no","ok",IF(AG15="n","ok","Entry should be either 'yes', 'y', 'no' or 'n'")))))) | CB15: =IF(COUNTA($C15:$AU15)=0,"",IF($H15="d","ok",IF(ISBLANK($AG15),IF(ISBLANK(AH15),"ok","Water Re-Use System question not answered"),IF(OR($AG15="yes",$AG15="y"),IF(ISBLANK(AH15),"ok",IF(ISNUMBER(AH15),IF(AH15<=0,"Entry should be a positive number","ok"),"Entry should be a positive number")),IF(OR($AG15="no",$AG15="n"),IF(ISBLANK(AH15),"ok","No entry should be made in cell"),IF(ISBLANK(AH15),"ok","No entry should be made in cell")))))) | CC15: =IF(COUNTA($C15:$AU15)=0,"",IF($H15="d","ok",IF(ISBLANK($AG15),IF(ISBLANK(AI15),"ok","Water Re-Use System question not answered"),IF(OR($AG15="yes",$AG15="y"),IF(ISBLANK(AI15),"ok",IF(ISNUMBER(AI15),IF(AI15<=0,"Entry should be a positive number","ok"),"Entry should be a positive number")),IF(OR($AG15="no",$AG15="n"),IF(ISBLANK(AI15),"ok","No entry should be made in cell"),IF(ISBLANK(AI15),"ok","No entry should be made in cell")))))) | CD15: =IF(COUNTA($C15:$AU15)=0,"",IF($H15="d","ok",IF(ISBLANK($AG15),IF(ISBLANK(AJ15),"ok","Water Re-Use System question not answered"),IF(OR($AG15="yes",$AG15="y"),IF(ISBLANK(AJ15),"ok",IF(ISNUMBER(AJ15),IF(INT(AJ15)=AJ15,IF(AJ15<=0,"Entry should be a positive integer","ok"),"Entry should be a positive integer"),"Entry should be a positive integer")),IF(OR($AG15="no",$AG15="n"),IF(ISBLANK(AJ15),"ok","No entry should be made in cell"),IF(ISBLANK(AJ15),"ok","No entry should be made in cell")))))) | CE15: =IF(COUNTA($C15:$AU15)=0,"",IF($H15="d","ok",IF(ISBLANK($AG15),IF(ISBLANK(AK15),"ok","Water Re-Use System question not answered"),IF(OR($AG15="yes",$AG15="y"),IF(ISBLANK(AK15),"ok",IF(ISNUMBER(AK15),IF(AK15<=0,"Entry should be a positive number","ok"),"Entry should be a positive number")),IF(OR($AG15="no",$AG15="n"),IF(ISBLANK(AK15),"ok","No entry should be made in cell"),IF(ISBLANK(AK15),"ok","No entry should be made in cell")))))) | CF15: =IF(COUNTA($C15:$AU15)=0,"",IF($H15="d","ok",IF(ISBLANK($AG15),IF(ISBLANK(AL15),"ok","Water Re-Use System question not answered"),IF(OR($AG15="yes",$AG15="y"),IF(ISBLANK(AL15),"Empty cell",IF(ISNUMBER(AL15),IF(AL15<=0,"Entry should be a positive number","ok"),"Entry should be a positive number")),IF(OR($AG15="no",$AG15="n"),IF(ISBLANK(AL15),"ok","No entry should be made in cell"),IF(ISBLANK(AL15),"ok","No entry should be made in cell")))))) | CG15: =IF(COUNTA($C15:$AU15)=0,"",IF($H15="d","ok",IF(ISBLANK($AG15),IF(ISBLANK(AM15),"ok","Water Re-Use System question not answered"),IF(OR($AG15="yes",$AG15="y"),IF(ISBLANK(AM15),"ok",IF(ISNUMBER(AM15),IF(INT(AM15)=AM15,IF(AM15<=0,"Entry should be a positive integer","ok"),"Entry should be a positive integer"),"Entry should be a positive integer")),IF(OR($AG15="no",$AG15="n"),IF(ISBLANK(AM15),"ok","No entry should be made in cell"),IF(ISBLANK(AM15),"ok","No entry should be made in cell")))))) | CH15: =IF(COUNTA($C15:$AU15)=0,"",IF($H15="d","ok",IF(ISBLANK($AG15),IF(ISBLANK(AN15),"ok","Water Re-Use System question not answered"),IF(OR($AG15="yes",$AG15="y"),IF(ISBLANK(AN15),"ok",IF(ISNUMBER(AN15),IF(AN15<=0,"Entry should be a positive number","ok"),"Entry should be a positive number")),IF(OR($AG15="no",$AG15="n"),IF(ISBLANK(AN15),"ok","No entry should be made in cell"),IF(ISBLANK(AN15),"ok","No entry should be made in cell")))))) | CI15: =IF(COUNTA($C15:$AU15)=0,"",IF($H15="d","ok",IF(ISBLANK($AG15),IF(ISBLANK(AO15),"ok","Water Re-Use System question not answered"),IF(OR($AG15="yes",$AG15="y"),IF(ISBLANK(AO15),"ok","ok"),IF(OR($AG15="no",$AG15="n"),IF(ISBLANK(AO15),"ok","No entry should be made in cell"),IF(ISBLANK(AO15),"ok","No entry should be made in cell")))))) | CJ15: =IF(COUNTA($C15:$AU15)=0,"",IF($H15="d","ok",IF(ISBLANK(AP15),"ok",IF(AP15="yes","ok",IF(AP15="y","ok",IF(AP15="no","ok",IF(AP15="n","ok","Entry should be either 'yes', 'y', 'no' or 'n'"))))))) | CK15: =IF(COUNTA($C15:$AU15)=0,"",IF($H15="d","ok",IF(ISBLANK($AP15),IF(ISBLANK(AQ15),"ok","Built-in Reservoir question not answered"),IF(OR($AP15="yes",$AP15="y"),IF(ISBLANK(AQ15),"ok",IF(ISNUMBER(AQ15),IF(AQ15<=0,"Entry should be a positive number","ok"),"Entry should be a positive number")),IF(OR($AP15="no",$AP15="n"),IF(ISBLANK(AQ15),"ok","No entry should be made in cell"),IF(ISBLANK(AQ15),"ok","No entry should be made in cell")))))) | CL15: =IF(COUNTA($C15:$AU15)=0,"",IF($H15="d","ok",IF(ISBLANK($AP15),IF(ISBLANK(AR15),"ok","Built-in Reservoir question not answered"),IF(OR($AP15="yes",$AP15="y"),IF(ISBLANK(AR15),"ok",IF(ISNUMBER(AR15),IF(AR15<0,"Entry should be a number >= 0","ok"),"Entry should be a number >= 0")),IF(OR($AP15="no",$AP15="n"),IF(ISBLANK(AR15),"ok","No entry should be made in cell"),IF(ISBLANK(AR15),"ok","No entry should be made in cell")))))) | CM15: =IF(COUNTA($C15:$AU15)=0,"",IF($H15="d","ok",IF(ISBLANK($AP15),IF(ISBLANK(AS15),"ok","Built-in Reservoir question not answered"),IF(OR($AP15="yes",$AP15="y"),IF(ISBLANK(AS15),"ok",IF(ISNUMBER(AS15),IF(AS15<=0,"Entry should be a positive number","ok"),"Entry should be a positive number")),IF(OR($AP15="no",$AP15="n"),IF(ISBLANK(AS15),"ok","No entry should be made in cell"),IF(ISBLANK(AS15),"ok","No entry should be made in cell")))))) | CN15: =IF(COUNTA($C15:$AU15)=0,"",IF($H15="d","ok",IF(ISBLANK($AP15),IF(ISBLANK(AT15),"ok","Built-in Reservoir question not answered"),IF(OR($AP15="yes",$AP15="y"),IF(ISBLANK(AT15),"ok",IF(ISNUMBER(AT15),IF(AT15<=0,"Entry should be a positive number","ok"),"Entry should be a positive number")),IF(OR($AP15="no",$AP15="n"),IF(ISBLANK(AT15),"ok","No entry should be made in cell"),IF(ISBLANK(AT15),"ok","No entry should be made in cell")))))) | CO15: =IF(COUNTA($C15:$AU15)=0,"",IF(H15="d","ok",IF(ISBLANK(AU15),"Empty cell",IF(OR(LEFT(AU15,7)="http://",LEFT(AU15,8)="https://",LEFT(AU15,6)="ftp://",LEFT(AU15,7)="sftp://",AU15="By annual report date"),"ok","Entry must begin with http://, https://, ftp:// or sftp://or be 'By annual report date'")))) | CV15: =IF(BC15="ok",VLOOKUP(I15,PrClDesc,2),"") | CX15: aaaaaa
A16: 7 | B16: =IF(COUNTIF(AW16:CO16,"")=No_of_Columns,"",IF(COUNTIF(AW16:CO16,"ok")=No_of_Columns,"ok","Error")) | AW16: =IF(COUNTA($C16:$AU16)=0,"",IF(ISBLANK($C16),"Empty cell","ok")) | AX16: =IF(COUNTA($C16:$AU16)=0,"","ok") | AY16: =IF(COUNTA($C16:$AU16)=0,"",IF(ISBLANK($E16),"Empty cell","ok")) | AZ16: =IF(COUNTA($C16:$AU16)=0,"",IF(ISBLANK($F16),"Empty cell","ok")) | BA16: =IF(COUNTA($C16:$AU16)=0,"",IF(ISBLANK($G16),"Empty cell","ok")) | BB16: =IF(COUNTA($C16:$AU16)=0,"",IF(ISBLANK($H16),"Empty cell",IF(OR($H16="n",$H16="d",$H16="c",$H16="e",$H16="f"),"ok","Should be n, d, c, e, or f"))) | BC16: =IF(COUNTA($C16:$AU16)=0,"",IF(ISBLANK($I16),"Empty cell",IF($I16<1,"Prod. Gr. Code should be an int. betw. 1 and "&No_of_Product_Classes,IF($I16>No_of_Product_Classes,"Prod. Gr. Code should be an int. betw. 1 and "&No_of_Product_Classes,IF($I16=INT($I16),"ok","Prod. Gr. Code should be an int. betw. 1 and "&No_of_Product_Classes))))) | BD16: =IF(COUNTA($C16:$AU16)=0,"","ok") | BE16: =IF(COUNTA($C16:$AU16)=0,"",IF(H16="d","ok",IF(ISBLANK($K16),"Empty cell",IF(ISNUMBER(K16)=FALSE,"Entry should be a positive integer",IF($K16<1,"Entry should be a positive integer",IF($K16=INT($K16),"ok","Entry should be a positive integer")))))) | BF16: =IF(COUNTA($C16:$AU16)=0,"",IF(H16="d","ok",IF(ISBLANK(L16),"Empty cell",IF(L16="yes","ok",IF(L16="y","ok",IF(L16="no","ok",IF(L16="n","ok","Entry should be either 'yes', 'y', 'no' or 'n'"))))))) | BG16: =IF(COUNTA($C16:$AU16)=0,"",IF(H16="d","ok",IF(ISBLANK(L16),IF(ISBLANK(M16),"ok","Waiver question not answered"),IF(OR(L16="yes",L16="y"),IF(ISBLANK(M16),"Empty cell",IF(ISNUMBER(M16),IF(M16<1,"Entry should be a date in M/D/YYYY format","ok"),"Entry should be a date in M/D/YYYY format")),IF(OR(L16="no",L16="n"),IF(ISBLANK(M16),"ok","No entry should be made in cell"),IF(ISBLANK(M16),"ok","No entry should be made in cell")))))) | BH16: =IF(COUNTA($C16:$AU16)=0,"",IF(H16="d","ok",IF(ISBLANK(N16),"Empty cell",IF(N16="yes","ok",IF(N16="y","ok",IF(N16="no","ok",IF(N16="n","ok","Entry should be either 'yes', 'y', 'no' or 'n'"))))))) | BI16: =IF(COUNTA($C16:$AU16)=0,"",IF(H16="d","ok",IF(ISBLANK(N16),IF(ISBLANK(O16),"ok","Exemption question not answered"),IF(OR(N16="yes",N16="y"),IF(ISBLANK(O16),"Empty cell",IF(ISNUMBER(O16),IF(O16<1,"Entry should be a date in M/D/YYYY format","ok"),"Entry should be a date in M/D/YYYY format")),IF(OR(N16="no",N16="n"),IF(ISBLANK(O16),"ok","No entry should be made in cell"),IF(ISBLANK(O16),"ok","No entry should be made in cell")))))) | BJ16: =IF(COUNTA($C16:$AU16)=0,"","ok") | BK16: =IF(COUNTA($C16:$AU16)=0,"","ok") | BL16: =IF(COUNTA($C16:$AU16)=0,"",IF(H16="d","ok",IF(ISBLANK($R16),"Empty cell",IF(ISNUMBER($R16),IF($R16>0,"ok","Entry should be greater than 0"),"Entry should be a number")))) | BM16: =IF(COUNTA($C16:$AU16)=0,"",IF(H16="d","ok",IF(ISBLANK($S16),"Empty cell",IF(ISNUMBER($S16),IF($S16>0,"ok","Entry should be greater than 0"),"Entry should be a number")))) | BN16: =IF(COUNTA($C16:$AU16)=0,"",IF(H16="d","ok",IF(ISBLANK($T16),"Empty cell",IF(ISNUMBER($T16)=FALSE,"Entry should be a positive integer",IF($T16<1,"Entry should be a positive integer",IF($T16=INT($T16),"ok","Entry should be a positive integer")))))) | BO16: =IF(COUNTA($C16:$AU16)=0,"",IF(H16="d","ok",IF(ISBLANK(U16),"Empty cell",IF(U16="yes","ok",IF(U16="y","ok",IF(U16="no","ok",IF(U16="n","ok","Entry should be either 'yes', 'y', 'no' or 'n'"))))))) | BP16: =IF(COUNTA($C16:$AU16)=0,"",IF($H16="d","ok",IF(ISBLANK(U16),IF(ISBLANK(V16),"ok","Soil sensor question not answered"),IF(OR(U16="yes",U16="y"),IF(ISBLANK(V16),"Empty cell",IF(ISNUMBER(V16),IF(INT(V16)=V16,IF(V16<=0,"Entry should be a positive integer","ok"),"Entry should be a positive integer"),"Entry should be a positive integer")),IF(OR(U16="no",U16="n"),IF(ISBLANK(V16),"ok","No entry should be made in cell"),IF(ISBLANK(V16),"ok","No entry should be made in cell")))))) | BQ16: =IF(COUNTA($C16:$AU16)=0,"",IF(H16="d","ok",IF(ISBLANK($W16),"Empty cell",IF(ISNUMBER($W16),IF($W16>0,"ok","Entry should be greater than 0"),"Entry should be a number")))) | BR16: =IF(COUNTA($C16:$AU16)=0,"",IF($H16="d","ok",IF(ISBLANK($X16),"Empty cell","ok"))) | BS16: =IF(COUNTA($C16:$AU16)=0,"",IF(H16="d","ok",IF(ISBLANK(Y16),"Empty cell",IF(Y16="yes","ok",IF(Y16="y","ok",IF(Y16="no","ok",IF(Y16="n","ok","Entry should be either 'yes', 'y', 'no' or 'n'"))))))) | BT16: =IF(COUNTA($C16:$AU16)=0,"",IF($H16="d","ok",IF(ISBLANK($Z16),"Empty cell","ok"))) | BU16: =IF(COUNTA($C16:$AU16)=0,"",IF(H16="d","ok",IF(ISBLANK(AA16),"Empty cell",IF(AA16="C","ok",IF(AA16="D","ok","Entry should be either 'C' or 'D''"))))) | BV16: =IF(COUNTA($C16:$AU16)=0,"",IF($H16="d","ok",IF(ISBLANK(AB16),"Empty cell",IF(AB16="yes","ok",IF(AB16="y","ok",IF(AB16="no","ok",IF(AB16="n","ok","Entry should be either 'yes', 'y', 'no' or 'n'"))))))) | BW16: =IF(COUNTA($C16:$AU16)=0,"",IF($H16="d","ok",IF(ISBLANK($AB16),IF(ISBLANK(AC16),"ok","Built-In Water Softening System question not answered"),IF(OR($AB16="yes",$AB16="y"),IF(ISBLANK(AC16),"Empty cell",IF(ISNUMBER(AC16),IF(AC16<=0,"Entry should be a positive number","ok"),"Entry should be a positive number")),IF(OR($AB16="no",$AB16="n"),IF(ISBLANK(AC16),"ok","No entry should be made in cell"),IF(ISBLANK(AC16),"ok","No entry should be made in cell")))))) | BX16: =IF(COUNTA($C16:$AU16)=0,"",IF($H16="d","ok",IF(ISBLANK($AB16),IF(ISBLANK(AD16),"ok","Built-In Water Softening System question not answered"),IF(OR($AB16="yes",$AB16="y"),IF(ISBLANK(AD16),"Empty cell",IF(ISNUMBER(AD16),IF(AD16<=0,"Entry should be a positive number","ok"),"Entry should be a positive number")),IF(OR($AB16="no",$AB16="n"),IF(ISBLANK(AD16),"ok","No entry should be made in cell"),IF(ISBLANK(AD16),"ok","No entry should be made in cell")))))) | BY16: =IF(COUNTA($C16:$AU16)=0,"",IF($H16="d","ok",IF(ISBLANK($AB16),IF(ISBLANK(AE16),"ok","Built-In Water Softening System question not answered"),IF(OR($AB16="yes",$AB16="y"),IF(ISBLANK(AE16),"Empty cell",IF(ISNUMBER(AE16),IF(INT(AE16)=AE16,IF(AE16<=0,"Entry should be a positive integer","ok"),"Entry should be a positive integer"),"Entry should be a positive integer")),IF(OR($AB16="no",$AB16="n"),IF(ISBLANK(AE16),"ok","No entry should be made in cell"),IF(ISBLANK(AE16),"ok","No entry should be made in cell")))))) | BZ16: =IF(COUNTA($C16:$AU16)=0,"",IF($H16="d","ok",IF(ISBLANK($AB16),IF(ISBLANK(AF16),"ok","Built-In Water Softening System question not answered"),IF(OR($AB16="yes",$AB16="y"),IF(ISBLANK(AF16),"Empty cell","ok"),IF(OR($AB16="no",$AB16="n"),IF(ISBLANK(AF16),"ok","No entry should be made in cell"),IF(ISBLANK(AF16),"ok","No entry should be made in cell")))))) | CA16: =IF(COUNTA($C16:$AU16)=0,"",IF(ISBLANK(AG16),"ok",IF(AG16="yes","ok",IF(AG16="y","ok",IF(AG16="no","ok",IF(AG16="n","ok","Entry should be either 'yes', 'y', 'no' or 'n'")))))) | CB16: =IF(COUNTA($C16:$AU16)=0,"",IF($H16="d","ok",IF(ISBLANK($AG16),IF(ISBLANK(AH16),"ok","Water Re-Use System question not answered"),IF(OR($AG16="yes",$AG16="y"),IF(ISBLANK(AH16),"ok",IF(ISNUMBER(AH16),IF(AH16<=0,"Entry should be a positive number","ok"),"Entry should be a positive number")),IF(OR($AG16="no",$AG16="n"),IF(ISBLANK(AH16),"ok","No entry should be made in cell"),IF(ISBLANK(AH16),"ok","No entry should be made in cell")))))) | CC16: =IF(COUNTA($C16:$AU16)=0,"",IF($H16="d","ok",IF(ISBLANK($AG16),IF(ISBLANK(AI16),"ok","Water Re-Use System question not answered"),IF(OR($AG16="yes",$AG16="y"),IF(ISBLANK(AI16),"ok",IF(ISNUMBER(AI16),IF(AI16<=0,"Entry should be a positive number","ok"),"Entry should be a positive number")),IF(OR($AG16="no",$AG16="n"),IF(ISBLANK(AI16),"ok","No entry should be made in cell"),IF(ISBLANK(AI16),"ok","No entry should be made in cell")))))) | CD16: =IF(COUNTA($C16:$AU16)=0,"",IF($H16="d","ok",IF(ISBLANK($AG16),IF(ISBLANK(AJ16),"ok","Water Re-Use System question not answered"),IF(OR($AG16="yes",$AG16="y"),IF(ISBLANK(AJ16),"ok",IF(ISNUMBER(AJ16),IF(INT(AJ16)=AJ16,IF(AJ16<=0,"Entry should be a positive integer","ok"),"Entry should be a positive integer"),"Entry should be a positive integer")),IF(OR($AG16="no",$AG16="n"),IF(ISBLANK(AJ16),"ok","No entry should be made in cell"),IF(ISBLANK(AJ16),"ok","No entry should be made in cell")))))) | CE16: =IF(COUNTA($C16:$AU16)=0,"",IF($H16="d","ok",IF(ISBLANK($AG16),IF(ISBLANK(AK16),"ok","Water Re-Use System question not answered"),IF(OR($AG16="yes",$AG16="y"),IF(ISBLANK(AK16),"ok",IF(ISNUMBER(AK16),IF(AK16<=0,"Entry should be a positive number","ok"),"Entry should be a positive number")),IF(OR($AG16="no",$AG16="n"),IF(ISBLANK(AK16),"ok","No entry should be made in cell"),IF(ISBLANK(AK16),"ok","No entry should be made in cell")))))) | CF16: =IF(COUNTA($C16:$AU16)=0,"",IF($H16="d","ok",IF(ISBLANK($AG16),IF(ISBLANK(AL16),"ok","Water Re-Use System question not answered"),IF(OR($AG16="yes",$AG16="y"),IF(ISBLANK(AL16),"Empty cell",IF(ISNUMBER(AL16),IF(AL16<=0,"Entry should be a positive number","ok"),"Entry should be a positive number")),IF(OR($AG16="no",$AG16="n"),IF(ISBLANK(AL16),"ok","No entry should be made in cell"),IF(ISBLANK(AL16),"ok","No entry should be made in cell")))))) | CG16: =IF(COUNTA($C16:$AU16)=0,"",IF($H16="d","ok",IF(ISBLANK($AG16),IF(ISBLANK(AM16),"ok","Water Re-Use System question not answered"),IF(OR($AG16="yes",$AG16="y"),IF(ISBLANK(AM16),"ok",IF(ISNUMBER(AM16),IF(INT(AM16)=AM16,IF(AM16<=0,"Entry should be a positive integer","ok"),"Entry should be a positive integer"),"Entry should be a positive integer")),IF(OR($AG16="no",$AG16="n"),IF(ISBLANK(AM16),"ok","No entry should be made in cell"),IF(ISBLANK(AM16),"ok","No entry should be made in cell")))))) | CH16: =IF(COUNTA($C16:$AU16)=0,"",IF($H16="d","ok",IF(ISBLANK($AG16),IF(ISBLANK(AN16),"ok","Water Re-Use System question not answered"),IF(OR($AG16="yes",$AG16="y"),IF(ISBLANK(AN16),"ok",IF(ISNUMBER(AN16),IF(AN16<=0,"Entry should be a positive number","ok"),"Entry should be a positive number")),IF(OR($AG16="no",$AG16="n"),IF(ISBLANK(AN16),"ok","No entry should be made in cell"),IF(ISBLANK(AN16),"ok","No entry should be made in cell")))))) | CI16: =IF(COUNTA($C16:$AU16)=0,"",IF($H16="d","ok",IF(ISBLANK($AG16),IF(ISBLANK(AO16),"ok","Water Re-Use System question not answered"),IF(OR($AG16="yes",$AG16="y"),IF(ISBLANK(AO16),"ok","ok"),IF(OR($AG16="no",$AG16="n"),IF(ISBLANK(AO16),"ok","No entry should be made in cell"),IF(ISBLANK(AO16),"ok","No entry should be made in cell")))))) | CJ16: =IF(COUNTA($C16:$AU16)=0,"",IF($H16="d","ok",IF(ISBLANK(AP16),"ok",IF(AP16="yes","ok",IF(AP16="y","ok",IF(AP16="no","ok",IF(AP16="n","ok","Entry should be either 'yes', 'y', 'no' or 'n'"))))))) | CK16: =IF(COUNTA($C16:$AU16)=0,"",IF($H16="d","ok",IF(ISBLANK($AP16),IF(ISBLANK(AQ16),"ok","Built-in Reservoir question not answered"),IF(OR($AP16="yes",$AP16="y"),IF(ISBLANK(AQ16),"ok",IF(ISNUMBER(AQ16),IF(AQ16<=0,"Entry should be a positive number","ok"),"Entry should be a positive number")),IF(OR($AP16="no",$AP16="n"),IF(ISBLANK(AQ16),"ok","No entry should be made in cell"),IF(ISBLANK(AQ16),"ok","No entry should be made in cell")))))) | CL16: =IF(COUNTA($C16:$AU16)=0,"",IF($H16="d","ok",IF(ISBLANK($AP16),IF(ISBLANK(AR16),"ok","Built-in Reservoir question not answered"),IF(OR($AP16="yes",$AP16="y"),IF(ISBLANK(AR16),"ok",IF(ISNUMBER(AR16),IF(AR16<0,"Entry should be a number >= 0","ok"),"Entry should be a number >= 0")),IF(OR($AP16="no",$AP16="n"),IF(ISBLANK(AR16),"ok","No entry should be made in cell"),IF(ISBLANK(AR16),"ok","No entry should be made in cell")))))) | CM16: =IF(COUNTA($C16:$AU16)=0,"",IF($H16="d","ok",IF(ISBLANK($AP16),IF(ISBLANK(AS16),"ok","Built-in Reservoir question not answered"),IF(OR($AP16="yes",$AP16="y"),IF(ISBLANK(AS16),"ok",IF(ISNUMBER(AS16),IF(AS16<=0,"Entry should be a positive number","ok"),"Entry should be a positive number")),IF(OR($AP16="no",$AP16="n"),IF(ISBLANK(AS16),"ok","No entry should be made in cell"),IF(ISBLANK(AS16),"ok","No entry should be made in cell")))))) | CN16: =IF(COUNTA($C16:$AU16)=0,"",IF($H16="d","ok",IF(ISBLANK($AP16),IF(ISBLANK(AT16),"ok","Built-in Reservoir question not answered"),IF(OR($AP16="yes",$AP16="y"),IF(ISBLANK(AT16),"ok",IF(ISNUMBER(AT16),IF(AT16<=0,"Entry should be a positive number","ok"),"Entry should be a positive number")),IF(OR($AP16="no",$AP16="n"),IF(ISBLANK(AT16),"ok","No entry should be made in cell"),IF(ISBLANK(AT16),"ok","No entry should be made in cell")))))) | CO16: =IF(COUNTA($C16:$AU16)=0,"",IF(H16="d","ok",IF(ISBLANK(AU16),"Empty cell",IF(OR(LEFT(AU16,7)="http://",LEFT(AU16,8)="https://",LEFT(AU16,6)="ftp://",LEFT(AU16,7)="sftp://",AU16="By annual report date"),"ok","Entry must begin with http://, https://, ftp:// or sftp://or be 'By annual report date'")))) | CV16: =IF(BC16="ok",VLOOKUP(I16,PrClDesc,2),"") | CX16: aaaaaa
A17: 8 | B17: =IF(COUNTIF(AW17:CO17,"")=No_of_Columns,"",IF(COUNTIF(AW17:CO17,"ok")=No_of_Columns,"ok","Error")) | AW17: =IF(COUNTA($C17:$AU17)=0,"",IF(ISBLANK($C17),"Empty cell","ok")) | AX17: =IF(COUNTA($C17:$AU17)=0,"","ok") | AY17: =IF(COUNTA($C17:$AU17)=0,"",IF(ISBLANK($E17),"Empty cell","ok")) | AZ17: =IF(COUNTA($C17:$AU17)=0,"",IF(ISBLANK($F17),"Empty cell","ok")) | BA17: =IF(COUNTA($C17:$AU17)=0,"",IF(ISBLANK($G17),"Empty cell","ok")) | BB17: =IF(COUNTA($C17:$AU17)=0,"",IF(ISBLANK($H17),"Empty cell",IF(OR($H17="n",$H17="d",$H17="c",$H17="e",$H17="f"),"ok","Should be n, d, c, e, or f"))) | BC17: =IF(COUNTA($C17:$AU17)=0,"",IF(ISBLANK($I17),"Empty cell",IF($I17<1,"Prod. Gr. Code should be an int. betw. 1 and "&No_of_Product_Classes,IF($I17>No_of_Product_Classes,"Prod. Gr. Code should be an int. betw. 1 and "&No_of_Product_Classes,IF($I17=INT($I17),"ok","Prod. Gr. Code should be an int. betw. 1 and "&No_of_Product_Classes))))) | BD17: =IF(COUNTA($C17:$AU17)=0,"","ok") | BE17: =IF(COUNTA($C17:$AU17)=0,"",IF(H17="d","ok",IF(ISBLANK($K17),"Empty cell",IF(ISNUMBER(K17)=FALSE,"Entry should be a positive integer",IF($K17<1,"Entry should be a positive integer",IF($K17=INT($K17),"ok","Entry should be a positive integer")))))) | BF17: =IF(COUNTA($C17:$AU17)=0,"",IF(H17="d","ok",IF(ISBLANK(L17),"Empty cell",IF(L17="yes","ok",IF(L17="y","ok",IF(L17="no","ok",IF(L17="n","ok","Entry should be either 'yes', 'y', 'no' or 'n'"))))))) | BG17: =IF(COUNTA($C17:$AU17)=0,"",IF(H17="d","ok",IF(ISBLANK(L17),IF(ISBLANK(M17),"ok","Waiver question not answered"),IF(OR(L17="yes",L17="y"),IF(ISBLANK(M17),"Empty cell",IF(ISNUMBER(M17),IF(M17<1,"Entry should be a date in M/D/YYYY format","ok"),"Entry should be a date in M/D/YYYY format")),IF(OR(L17="no",L17="n"),IF(ISBLANK(M17),"ok","No entry should be made in cell"),IF(ISBLANK(M17),"ok","No entry should be made in cell")))))) | BH17: =IF(COUNTA($C17:$AU17)=0,"",IF(H17="d","ok",IF(ISBLANK(N17),"Empty cell",IF(N17="yes","ok",IF(N17="y","ok",IF(N17="no","ok",IF(N17="n","ok","Entry should be either 'yes', 'y', 'no' or 'n'"))))))) | BI17: =IF(COUNTA($C17:$AU17)=0,"",IF(H17="d","ok",IF(ISBLANK(N17),IF(ISBLANK(O17),"ok","Exemption question not answered"),IF(OR(N17="yes",N17="y"),IF(ISBLANK(O17),"Empty cell",IF(ISNUMBER(O17),IF(O17<1,"Entry should be a date in M/D/YYYY format","ok"),"Entry should be a date in M/D/YYYY format")),IF(OR(N17="no",N17="n"),IF(ISBLANK(O17),"ok","No entry should be made in cell"),IF(ISBLANK(O17),"ok","No entry should be made in cell")))))) | BJ17: =IF(COUNTA($C17:$AU17)=0,"","ok") | BK17: =IF(COUNTA($C17:$AU17)=0,"","ok") | BL17: =IF(COUNTA($C17:$AU17)=0,"",IF(H17="d","ok",IF(ISBLANK($R17),"Empty cell",IF(ISNUMBER($R17),IF($R17>0,"ok","Entry should be greater than 0"),"Entry should be a number")))) | BM17: =IF(COUNTA($C17:$AU17)=0,"",IF(H17="d","ok",IF(ISBLANK($S17),"Empty cell",IF(ISNUMBER($S17),IF($S17>0,"ok","Entry should be greater than 0"),"Entry should be a number")))) | BN17: =IF(COUNTA($C17:$AU17)=0,"",IF(H17="d","ok",IF(ISBLANK($T17),"Empty cell",IF(ISNUMBER($T17)=FALSE,"Entry should be a positive integer",IF($T17<1,"Entry should be a positive integer",IF($T17=INT($T17),"ok","Entry should be a positive integer")))))) | BO17: =IF(COUNTA($C17:$AU17)=0,"",IF(H17="d","ok",IF(ISBLANK(U17),"Empty cell",IF(U17="yes","ok",IF(U17="y","ok",IF(U17="no","ok",IF(U17="n","ok","Entry should be either 'yes', 'y', 'no' or 'n'"))))))) | BP17: =IF(COUNTA($C17:$AU17)=0,"",IF($H17="d","ok",IF(ISBLANK(U17),IF(ISBLANK(V17),"ok","Soil sensor question not answered"),IF(OR(U17="yes",U17="y"),IF(ISBLANK(V17),"Empty cell",IF(ISNUMBER(V17),IF(INT(V17)=V17,IF(V17<=0,"Entry should be a positive integer","ok"),"Entry should be a positive integer"),"Entry should be a positive integer")),IF(OR(U17="no",U17="n"),IF(ISBLANK(V17),"ok","No entry should be made in cell"),IF(ISBLANK(V17),"ok","No entry should be made in cell")))))) | BQ17: =IF(COUNTA($C17:$AU17)=0,"",IF(H17="d","ok",IF(ISBLANK($W17),"Empty cell",IF(ISNUMBER($W17),IF($W17>0,"ok","Entry should be greater than 0"),"Entry should be a number")))) | BR17: =IF(COUNTA($C17:$AU17)=0,"",IF($H17="d","ok",IF(ISBLANK($X17),"Empty cell","ok"))) | BS17: =IF(COUNTA($C17:$AU17)=0,"",IF(H17="d","ok",IF(ISBLANK(Y17),"Empty cell",IF(Y17="yes","ok",IF(Y17="y","ok",IF(Y17="no","ok",IF(Y17="n","ok","Entry should be either 'yes', 'y', 'no' or 'n'"))))))) | BT17: =IF(COUNTA($C17:$AU17)=0,"",IF($H17="d","ok",IF(ISBLANK($Z17),"Empty cell","ok"))) | BU17: =IF(COUNTA($C17:$AU17)=0,"",IF(H17="d","ok",IF(ISBLANK(AA17),"Empty cell",IF(AA17="C","ok",IF(AA17="D","ok","Entry should be either 'C' or 'D''"))))) | BV17: =IF(COUNTA($C17:$AU17)=0,"",IF($H17="d","ok",IF(ISBLANK(AB17),"Empty cell",IF(AB17="yes","ok",IF(AB17="y","ok",IF(AB17="no","ok",IF(AB17="n","ok","Entry should be either 'yes', 'y', 'no' or 'n'"))))))) | BW17: =IF(COUNTA($C17:$AU17)=0,"",IF($H17="d","ok",IF(ISBLANK($AB17),IF(ISBLANK(AC17),"ok","Built-In Water Softening System question not answered"),IF(OR($AB17="yes",$AB17="y"),IF(ISBLANK(AC17),"Empty cell",IF(ISNUMBER(AC17),IF(AC17<=0,"Entry should be a positive number","ok"),"Entry should be a positive number")),IF(OR($AB17="no",$AB17="n"),IF(ISBLANK(AC17),"ok","No entry should be made in cell"),IF(ISBLANK(AC17),"ok","No entry should be made in cell")))))) | BX17: =IF(COUNTA($C17:$AU17)=0,"",IF($H17="d","ok",IF(ISBLANK($AB17),IF(ISBLANK(AD17),"ok","Built-In Water Softening System question not answered"),IF(OR($AB17="yes",$AB17="y"),IF(ISBLANK(AD17),"Empty cell",IF(ISNUMBER(AD17),IF(AD17<=0,"Entry should be a positive number","ok"),"Entry should be a positive number")),IF(OR($AB17="no",$AB17="n"),IF(ISBLANK(AD17),"ok","No entry should be made in cell"),IF(ISBLANK(AD17),"ok","No entry should be made in cell")))))) | BY17: =IF(COUNTA($C17:$AU17)=0,"",IF($H17="d","ok",IF(ISBLANK($AB17),IF(ISBLANK(AE17),"ok","Built-In Water Softening System question not answered"),IF(OR($AB17="yes",$AB17="y"),IF(ISBLANK(AE17),"Empty cell",IF(ISNUMBER(AE17),IF(INT(AE17)=AE17,IF(AE17<=0,"Entry should be a positive integer","ok"),"Entry should be a positive integer"),"Entry should be a positive integer")),IF(OR($AB17="no",$AB17="n"),IF(ISBLANK(AE17),"ok","No entry should be made in cell"),IF(ISBLANK(AE17),"ok","No entry should be made in cell")))))) | BZ17: =IF(COUNTA($C17:$AU17)=0,"",IF($H17="d","ok",IF(ISBLANK($AB17),IF(ISBLANK(AF17),"ok","Built-In Water Softening System question not answered"),IF(OR($AB17="yes",$AB17="y"),IF(ISBLANK(AF17),"Empty cell","ok"),IF(OR($AB17="no",$AB17="n"),IF(ISBLANK(AF17),"ok","No entry should be made in cell"),IF(ISBLANK(AF17),"ok","No entry should be made in cell")))))) | CA17: =IF(COUNTA($C17:$AU17)=0,"",IF(ISBLANK(AG17),"ok",IF(AG17="yes","ok",IF(AG17="y","ok",IF(AG17="no","ok",IF(AG17="n","ok","Entry should be either 'yes', 'y', 'no' or 'n'")))))) | CB17: =IF(COUNTA($C17:$AU17)=0,"",IF($H17="d","ok",IF(ISBLANK($AG17),IF(ISBLANK(AH17),"ok","Water Re-Use System question not answered"),IF(OR($AG17="yes",$AG17="y"),IF(ISBLANK(AH17),"ok",IF(ISNUMBER(AH17),IF(AH17<=0,"Entry should be a positive number","ok"),"Entry should be a positive number")),IF(OR($AG17="no",$AG17="n"),IF(ISBLANK(AH17),"ok","No entry should be made in cell"),IF(ISBLANK(AH17),"ok","No entry should be made in cell")))))) | CC17: =IF(COUNTA($C17:$AU17)=0,"",IF($H17="d","ok",IF(ISBLANK($AG17),IF(ISBLANK(AI17),"ok","Water Re-Use System question not answered"),IF(OR($AG17="yes",$AG17="y"),IF(ISBLANK(AI17),"ok",IF(ISNUMBER(AI17),IF(AI17<=0,"Entry should be a positive number","ok"),"Entry should be a positive number")),IF(OR($AG17="no",$AG17="n"),IF(ISBLANK(AI17),"ok","No entry should be made in cell"),IF(ISBLANK(AI17),"ok","No entry should be made in cell")))))) | CD17: =IF(COUNTA($C17:$AU17)=0,"",IF($H17="d","ok",IF(ISBLANK($AG17),IF(ISBLANK(AJ17),"ok","Water Re-Use System question not answered"),IF(OR($AG17="yes",$AG17="y"),IF(ISBLANK(AJ17),"ok",IF(ISNUMBER(AJ17),IF(INT(AJ17)=AJ17,IF(AJ17<=0,"Entry should be a positive integer","ok"),"Entry should be a positive integer"),"Entry should be a positive integer")),IF(OR($AG17="no",$AG17="n"),IF(ISBLANK(AJ17),"ok","No entry should be made in cell"),IF(ISBLANK(AJ17),"ok","No entry should be made in cell")))))) | CE17: =IF(COUNTA($C17:$AU17)=0,"",IF($H17="d","ok",IF(ISBLANK($AG17),IF(ISBLANK(AK17),"ok","Water Re-Use System question not answered"),IF(OR($AG17="yes",$AG17="y"),IF(ISBLANK(AK17),"ok",IF(ISNUMBER(AK17),IF(AK17<=0,"Entry should be a positive number","ok"),"Entry should be a positive number")),IF(OR($AG17="no",$AG17="n"),IF(ISBLANK(AK17),"ok","No entry should be made in cell"),IF(ISBLANK(AK17),"ok","No entry should be made in cell")))))) | CF17: =IF(COUNTA($C17:$AU17)=0,"",IF($H17="d","ok",IF(ISBLANK($AG17),IF(ISBLANK(AL17),"ok","Water Re-Use System question not answered"),IF(OR($AG17="yes",$AG17="y"),IF(ISBLANK(AL17),"Empty cell",IF(ISNUMBER(AL17),IF(AL17<=0,"Entry should be a positive number","ok"),"Entry should be a positive number")),IF(OR($AG17="no",$AG17="n"),IF(ISBLANK(AL17),"ok","No entry should be made in cell"),IF(ISBLANK(AL17),"ok","No entry should be made in cell")))))) | CG17: =IF(COUNTA($C17:$AU17)=0,"",IF($H17="d","ok",IF(ISBLANK($AG17),IF(ISBLANK(AM17),"ok","Water Re-Use System question not answered"),IF(OR($AG17="yes",$AG17="y"),IF(ISBLANK(AM17),"ok",IF(ISNUMBER(AM17),IF(INT(AM17)=AM17,IF(AM17<=0,"Entry should be a positive integer","ok"),"Entry should be a positive integer"),"Entry should be a positive integer")),IF(OR($AG17="no",$AG17="n"),IF(ISBLANK(AM17),"ok","No entry should be made in cell"),IF(ISBLANK(AM17),"ok","No entry should be made in cell")))))) | CH17: =IF(COUNTA($C17:$AU17)=0,"",IF($H17="d","ok",IF(ISBLANK($AG17),IF(ISBLANK(AN17),"ok","Water Re-Use System question not answered"),IF(OR($AG17="yes",$AG17="y"),IF(ISBLANK(AN17),"ok",IF(ISNUMBER(AN17),IF(AN17<=0,"Entry should be a positive number","ok"),"Entry should be a positive number")),IF(OR($AG17="no",$AG17="n"),IF(ISBLANK(AN17),"ok","No entry should be made in cell"),IF(ISBLANK(AN17),"ok","No entry should be made in cell")))))) | CI17: =IF(COUNTA($C17:$AU17)=0,"",IF($H17="d","ok",IF(ISBLANK($AG17),IF(ISBLANK(AO17),"ok","Water Re-Use System question not answered"),IF(OR($AG17="yes",$AG17="y"),IF(ISBLANK(AO17),"ok","ok"),IF(OR($AG17="no",$AG17="n"),IF(ISBLANK(AO17),"ok","No entry should be made in cell"),IF(ISBLANK(AO17),"ok","No entry should be made in cell")))))) | CJ17: =IF(COUNTA($C17:$AU17)=0,"",IF($H17="d","ok",IF(ISBLANK(AP17),"ok",IF(AP17="yes","ok",IF(AP17="y","ok",IF(AP17="no","ok",IF(AP17="n","ok","Entry should be either 'yes', 'y', 'no' or 'n'"))))))) | CK17: =IF(COUNTA($C17:$AU17)=0,"",IF($H17="d","ok",IF(ISBLANK($AP17),IF(ISBLANK(AQ17),"ok","Built-in Reservoir question not answered"),IF(OR($AP17="yes",$AP17="y"),IF(ISBLANK(AQ17),"ok",IF(ISNUMBER(AQ17),IF(AQ17<=0,"Entry should be a positive number","ok"),"Entry should be a positive number")),IF(OR($AP17="no",$AP17="n"),IF(ISBLANK(AQ17),"ok","No entry should be made in cell"),IF(ISBLANK(AQ17),"ok","No entry should be made in cell")))))) | CL17: =IF(COUNTA($C17:$AU17)=0,"",IF($H17="d","ok",IF(ISBLANK($AP17),IF(ISBLANK(AR17),"ok","Built-in Reservoir question not answered"),IF(OR($AP17="yes",$AP17="y"),IF(ISBLANK(AR17),"ok",IF(ISNUMBER(AR17),IF(AR17<0,"Entry should be a number >= 0","ok"),"Entry should be a number >= 0")),IF(OR($AP17="no",$AP17="n"),IF(ISBLANK(AR17),"ok","No entry should be made in cell"),IF(ISBLANK(AR17),"ok","No entry should be made in cell")))))) | CM17: =IF(COUNTA($C17:$AU17)=0,"",IF($H17="d","ok",IF(ISBLANK($AP17),IF(ISBLANK(AS17),"ok","Built-in Reservoir question not answered"),IF(OR($AP17="yes",$AP17="y"),IF(ISBLANK(AS17),"ok",IF(ISNUMBER(AS17),IF(AS17<=0,"Entry should be a positive number","ok"),"Entry should be a positive number")),IF(OR($AP17="no",$AP17="n"),IF(ISBLANK(AS17),"ok","No entry should be made in cell"),IF(ISBLANK(AS17),"ok","No entry should be made in cell")))))) | CN17: =IF(COUNTA($C17:$AU17)=0,"",IF($H17="d","ok",IF(ISBLANK($AP17),IF(ISBLANK(AT17),"ok","Built-in Reservoir question not answered"),IF(OR($AP17="yes",$AP17="y"),IF(ISBLANK(AT17),"ok",IF(ISNUMBER(AT17),IF(AT17<=0,"Entry should be a positive number","ok"),"Entry should be a positive number")),IF(OR($AP17="no",$AP17="n"),IF(ISBLANK(AT17),"ok","No entry should be made in cell"),IF(ISBLANK(AT17),"ok","No entry should be made in cell")))))) | CO17: =IF(COUNTA($C17:$AU17)=0,"",IF(H17="d","ok",IF(ISBLANK(AU17),"Empty cell",IF(OR(LEFT(AU17,7)="http://",LEFT(AU17,8)="https://",LEFT(AU17,6)="ftp://",LEFT(AU17,7)="sftp://",AU17="By annual report date"),"ok","Entry must begin with http://, https://, ftp:// or sftp://or be 'By annual report date'")))) | CV17: =IF(BC17="ok",VLOOKUP(I17,PrClDesc,2),"") | CX17: aaaaaa
A18: 9 | B18: =IF(COUNTIF(AW18:CO18,"")=No_of_Columns,"",IF(COUNTIF(AW18:CO18,"ok")=No_of_Columns,"ok","Error")) | AW18: =IF(COUNTA($C18:$AU18)=0,"",IF(ISBLANK($C18),"Empty cell","ok")) | AX18: =IF(COUNTA($C18:$AU18)=0,"","ok") | AY18: =IF(COUNTA($C18:$AU18)=0,"",IF(ISBLANK($E18),"Empty cell","ok")) | AZ18: =IF(COUNTA($C18:$AU18)=0,"",IF(ISBLANK($F18),"Empty cell","ok")) | BA18: =IF(COUNTA($C18:$AU18)=0,"",IF(ISBLANK($G18),"Empty cell","ok")) | BB18: =IF(COUNTA($C18:$AU18)=0,"",IF(ISBLANK($H18),"Empty cell",IF(OR($H18="n",$H18="d",$H18="c",$H18="e",$H18="f"),"ok","Should be n, d, c, e, or f"))) | BC18: =IF(COUNTA($C18:$AU18)=0,"",IF(ISBLANK($I18),"Empty cell",IF($I18<1,"Prod. Gr. Code should be an int. betw. 1 and "&No_of_Product_Classes,IF($I18>No_of_Product_Classes,"Prod. Gr. Code should be an int. betw. 1 and "&No_of_Product_Classes,IF($I18=INT($I18),"ok","Prod. Gr. Code should be an int. betw. 1 and "&No_of_Product_Classes))))) | BD18: =IF(COUNTA($C18:$AU18)=0,"","ok") | BE18: =IF(COUNTA($C18:$AU18)=0,"",IF(H18="d","ok",IF(ISBLANK($K18),"Empty cell",IF(ISNUMBER(K18)=FALSE,"Entry should be a positive integer",IF($K18<1,"Entry should be a positive integer",IF($K18=INT($K18),"ok","Entry should be a positive integer")))))) | BF18: =IF(COUNTA($C18:$AU18)=0,"",IF(H18="d","ok",IF(ISBLANK(L18),"Empty cell",IF(L18="yes","ok",IF(L18="y","ok",IF(L18="no","ok",IF(L18="n","ok","Entry should be either 'yes', 'y', 'no' or 'n'"))))))) | BG18: =IF(COUNTA($C18:$AU18)=0,"",IF(H18="d","ok",IF(ISBLANK(L18),IF(ISBLANK(M18),"ok","Waiver question not answered"),IF(OR(L18="yes",L18="y"),IF(ISBLANK(M18),"Empty cell",IF(ISNUMBER(M18),IF(M18<1,"Entry should be a date in M/D/YYYY format","ok"),"Entry should be a date in M/D/YYYY format")),IF(OR(L18="no",L18="n"),IF(ISBLANK(M18),"ok","No entry should be made in cell"),IF(ISBLANK(M18),"ok","No entry should be made in cell")))))) | BH18: =IF(COUNTA($C18:$AU18)=0,"",IF(H18="d","ok",IF(ISBLANK(N18),"Empty cell",IF(N18="yes","ok",IF(N18="y","ok",IF(N18="no","ok",IF(N18="n","ok","Entry should be either 'yes', 'y', 'no' or 'n'"))))))) | BI18: =IF(COUNTA($C18:$AU18)=0,"",IF(H18="d","ok",IF(ISBLANK(N18),IF(ISBLANK(O18),"ok","Exemption question not answered"),IF(OR(N18="yes",N18="y"),IF(ISBLANK(O18),"Empty cell",IF(ISNUMBER(O18),IF(O18<1,"Entry should be a date in M/D/YYYY format","ok"),"Entry should be a date in M/D/YYYY format")),IF(OR(N18="no",N18="n"),IF(ISBLANK(O18),"ok","No entry should be made in cell"),IF(ISBLANK(O18),"ok","No entry should be made in cell")))))) | BJ18: =IF(COUNTA($C18:$AU18)=0,"","ok") | BK18: =IF(COUNTA($C18:$AU18)=0,"","ok") | BL18: =IF(COUNTA($C18:$AU18)=0,"",IF(H18="d","ok",IF(ISBLANK($R18),"Empty cell",IF(ISNUMBER($R18),IF($R18>0,"ok","Entry should be greater than 0"),"Entry should be a number")))) | BM18: =IF(COUNTA($C18:$AU18)=0,"",IF(H18="d","ok",IF(ISBLANK($S18),"Empty cell",IF(ISNUMBER($S18),IF($S18>0,"ok","Entry should be greater than 0"),"Entry should be a number")))) | BN18: =IF(COUNTA($C18:$AU18)=0,"",IF(H18="d","ok",IF(ISBLANK($T18),"Empty cell",IF(ISNUMBER($T18)=FALSE,"Entry should be a positive integer",IF($T18<1,"Entry should be a positive integer",IF($T18=INT($T18),"ok","Entry should be a positive integer")))))) | BO18: =IF(COUNTA($C18:$AU18)=0,"",IF(H18="d","ok",IF(ISBLANK(U18),"Empty cell",IF(U18="yes","ok",IF(U18="y","ok",IF(U18="no","ok",IF(U18="n","ok","Entry should be either 'yes', 'y', 'no' or 'n'"))))))) | BP18: =IF(COUNTA($C18:$AU18)=0,"",IF($H18="d","ok",IF(ISBLANK(U18),IF(ISBLANK(V18),"ok","Soil sensor question not answered"),IF(OR(U18="yes",U18="y"),IF(ISBLANK(V18),"Empty cell",IF(ISNUMBER(V18),IF(INT(V18)=V18,IF(V18<=0,"Entry should be a positive integer","ok"),"Entry should be a positive integer"),"Entry should be a positive integer")),IF(OR(U18="no",U18="n"),IF(ISBLANK(V18),"ok","No entry should be made in cell"),IF(ISBLANK(V18),"ok","No entry should be made in cell")))))) | BQ18: =IF(COUNTA($C18:$AU18)=0,"",IF(H18="d","ok",IF(ISBLANK($W18),"Empty cell",IF(ISNUMBER($W18),IF($W18>0,"ok","Entry should be greater than 0"),"Entry should be a number")))) | BR18: =IF(COUNTA($C18:$AU18)=0,"",IF($H18="d","ok",IF(ISBLANK($X18),"Empty cell","ok"))) | BS18: =IF(COUNTA($C18:$AU18)=0,"",IF(H18="d","ok",IF(ISBLANK(Y18),"Empty cell",IF(Y18="yes","ok",IF(Y18="y","ok",IF(Y18="no","ok",IF(Y18="n","ok","Entry should be either 'yes', 'y', 'no' or 'n'"))))))) | BT18: =IF(COUNTA($C18:$AU18)=0,"",IF($H18="d","ok",IF(ISBLANK($Z18),"Empty cell","ok"))) | BU18: =IF(COUNTA($C18:$AU18)=0,"",IF(H18="d","ok",IF(ISBLANK(AA18),"Empty cell",IF(AA18="C","ok",IF(AA18="D","ok","Entry should be either 'C' or 'D''"))))) | BV18: =IF(COUNTA($C18:$AU18)=0,"",IF($H18="d","ok",IF(ISBLANK(AB18),"Empty cell",IF(AB18="yes","ok",IF(AB18="y","ok",IF(AB18="no","ok",IF(AB18="n","ok","Entry should be either 'yes', 'y', 'no' or 'n'"))))))) | BW18: =IF(COUNTA($C18:$AU18)=0,"",IF($H18="d","ok",IF(ISBLANK($AB18),IF(ISBLANK(AC18),"ok","Built-In Water Softening System question not answered"),IF(OR($AB18="yes",$AB18="y"),IF(ISBLANK(AC18),"Empty cell",IF(ISNUMBER(AC18),IF(AC18<=0,"Entry should be a positive number","ok"),"Entry should be a positive number")),IF(OR($AB18="no",$AB18="n"),IF(ISBLANK(AC18),"ok","No entry should be made in cell"),IF(ISBLANK(AC18),"ok","No entry should be made in cell")))))) | BX18: =IF(COUNTA($C18:$AU18)=0,"",IF($H18="d","ok",IF(ISBLANK($AB18),IF(ISBLANK(AD18),"ok","Built-In Water Softening System question not answered"),IF(OR($AB18="yes",$AB18="y"),IF(ISBLANK(AD18),"Empty cell",IF(ISNUMBER(AD18),IF(AD18<=0,"Entry should be a positive number","ok"),"Entry should be a positive number")),IF(OR($AB18="no",$AB18="n"),IF(ISBLANK(AD18),"ok","No entry should be made in cell"),IF(ISBLANK(AD18),"ok","No entry should be made in cell")))))) | BY18: =IF(COUNTA($C18:$AU18)=0,"",IF($H18="d","ok",IF(ISBLANK($AB18),IF(ISBLANK(AE18),"ok","Built-In Water Softening System question not answered"),IF(OR($AB18="yes",$AB18="y"),IF(ISBLANK(AE18),"Empty cell",IF(ISNUMBER(AE18),IF(INT(AE18)=AE18,IF(AE18<=0,"Entry should be a positive integer","ok"),"Entry should be a positive integer"),"Entry should be a positive integer")),IF(OR($AB18="no",$AB18="n"),IF(ISBLANK(AE18),"ok","No entry should be made in cell"),IF(ISBLANK(AE18),"ok","No entry should be made in cell")))))) | BZ18: =IF(COUNTA($C18:$AU18)=0,"",IF($H18="d","ok",IF(ISBLANK($AB18),IF(ISBLANK(AF18),"ok","Built-In Water Softening System question not answered"),IF(OR($AB18="yes",$AB18="y"),IF(ISBLANK(AF18),"Empty cell","ok"),IF(OR($AB18="no",$AB18="n"),IF(ISBLANK(AF18),"ok","No entry should be made in cell"),IF(ISBLANK(AF18),"ok","No entry should be made in cell")))))) | CA18: =IF(COUNTA($C18:$AU18)=0,"",IF(ISBLANK(AG18),"ok",IF(AG18="yes","ok",IF(AG18="y","ok",IF(AG18="no","ok",IF(AG18="n","ok","Entry should be either 'yes', 'y', 'no' or 'n'")))))) | CB18: =IF(COUNTA($C18:$AU18)=0,"",IF($H18="d","ok",IF(ISBLANK($AG18),IF(ISBLANK(AH18),"ok","Water Re-Use System question not answered"),IF(OR($AG18="yes",$AG18="y"),IF(ISBLANK(AH18),"ok",IF(ISNUMBER(AH18),IF(AH18<=0,"Entry should be a positive number","ok"),"Entry should be a positive number")),IF(OR($AG18="no",$AG18="n"),IF(ISBLANK(AH18),"ok","No entry should be made in cell"),IF(ISBLANK(AH18),"ok","No entry should be made in cell")))))) | CC18: =IF(COUNTA($C18:$AU18)=0,"",IF($H18="d","ok",IF(ISBLANK($AG18),IF(ISBLANK(AI18),"ok","Water Re-Use System question not answered"),IF(OR($AG18="yes",$AG18="y"),IF(ISBLANK(AI18),"ok",IF(ISNUMBER(AI18),IF(AI18<=0,"Entry should be a positive number","ok"),"Entry should be a positive number")),IF(OR($AG18="no",$AG18="n"),IF(ISBLANK(AI18),"ok","No entry should be made in cell"),IF(ISBLANK(AI18),"ok","No entry should be made in cell")))))) | CD18: =IF(COUNTA($C18:$AU18)=0,"",IF($H18="d","ok",IF(ISBLANK($AG18),IF(ISBLANK(AJ18),"ok","Water Re-Use System question not answered"),IF(OR($AG18="yes",$AG18="y"),IF(ISBLANK(AJ18),"ok",IF(ISNUMBER(AJ18),IF(INT(AJ18)=AJ18,IF(AJ18<=0,"Entry should be a positive integer","ok"),"Entry should be a positive integer"),"Entry should be a positive integer")),IF(OR($AG18="no",$AG18="n"),IF(ISBLANK(AJ18),"ok","No entry should be made in cell"),IF(ISBLANK(AJ18),"ok","No entry should be made in cell")))))) | CE18: =IF(COUNTA($C18:$AU18)=0,"",IF($H18="d","ok",IF(ISBLANK($AG18),IF(ISBLANK(AK18),"ok","Water Re-Use System question not answered"),IF(OR($AG18="yes",$AG18="y"),IF(ISBLANK(AK18),"ok",IF(ISNUMBER(AK18),IF(AK18<=0,"Entry should be a positive number","ok"),"Entry should be a positive number")),IF(OR($AG18="no",$AG18="n"),IF(ISBLANK(AK18),"ok","No entry should be made in cell"),IF(ISBLANK(AK18),"ok","No entry should be made in cell")))))) | CF18: =IF(COUNTA($C18:$AU18)=0,"",IF($H18="d","ok",IF(ISBLANK($AG18),IF(ISBLANK(AL18),"ok","Water Re-Use System question not answered"),IF(OR($AG18="yes",$AG18="y"),IF(ISBLANK(AL18),"Empty cell",IF(ISNUMBER(AL18),IF(AL18<=0,"Entry should be a positive number","ok"),"Entry should be a positive number")),IF(OR($AG18="no",$AG18="n"),IF(ISBLANK(AL18),"ok","No entry should be made in cell"),IF(ISBLANK(AL18),"ok","No entry should be made in cell")))))) | CG18: =IF(COUNTA($C18:$AU18)=0,"",IF($H18="d","ok",IF(ISBLANK($AG18),IF(ISBLANK(AM18),"ok","Water Re-Use System question not answered"),IF(OR($AG18="yes",$AG18="y"),IF(ISBLANK(AM18),"ok",IF(ISNUMBER(AM18),IF(INT(AM18)=AM18,IF(AM18<=0,"Entry should be a positive integer","ok"),"Entry should be a positive integer"),"Entry should be a positive integer")),IF(OR($AG18="no",$AG18="n"),IF(ISBLANK(AM18),"ok","No entry should be made in cell"),IF(ISBLANK(AM18),"ok","No entry should be made in cell")))))) | CH18: =IF(COUNTA($C18:$AU18)=0,"",IF($H18="d","ok",IF(ISBLANK($AG18),IF(ISBLANK(AN18),"ok","Water Re-Use System question not answered"),IF(OR($AG18="yes",$AG18="y"),IF(ISBLANK(AN18),"ok",IF(ISNUMBER(AN18),IF(AN18<=0,"Entry should be a positive number","ok"),"Entry should be a positive number")),IF(OR($AG18="no",$AG18="n"),IF(ISBLANK(AN18),"ok","No entry should be made in cell"),IF(ISBLANK(AN18),"ok","No entry should be made in cell")))))) | CI18: =IF(COUNTA($C18:$AU18)=0,"",IF($H18="d","ok",IF(ISBLANK($AG18),IF(ISBLANK(AO18),"ok","Water Re-Use System question not answered"),IF(OR($AG18="yes",$AG18="y"),IF(ISBLANK(AO18),"ok","ok"),IF(OR($AG18="no",$AG18="n"),IF(ISBLANK(AO18),"ok","No entry should be made in cell"),IF(ISBLANK(AO18),"ok","No entry should be made in cell")))))) | CJ18: =IF(COUNTA($C18:$AU18)=0,"",IF($H18="d","ok",IF(ISBLANK(AP18),"ok",IF(AP18="yes","ok",IF(AP18="y","ok",IF(AP18="no","ok",IF(AP18="n","ok","Entry should be either 'yes', 'y', 'no' or 'n'"))))))) | CK18: =IF(COUNTA($C18:$AU18)=0,"",IF($H18="d","ok",IF(ISBLANK($AP18),IF(ISBLANK(AQ18),"ok","Built-in Reservoir question not answered"),IF(OR($AP18="yes",$AP18="y"),IF(ISBLANK(AQ18),"ok",IF(ISNUMBER(AQ18),IF(AQ18<=0,"Entry should be a positive number","ok"),"Entry should be a positive number")),IF(OR($AP18="no",$AP18="n"),IF(ISBLANK(AQ18),"ok","No entry should be made in cell"),IF(ISBLANK(AQ18),"ok","No entry should be made in cell")))))) | CL18: =IF(COUNTA($C18:$AU18)=0,"",IF($H18="d","ok",IF(ISBLANK($AP18),IF(ISBLANK(AR18),"ok","Built-in Reservoir question not answered"),IF(OR($AP18="yes",$AP18="y"),IF(ISBLANK(AR18),"ok",IF(ISNUMBER(AR18),IF(AR18<0,"Entry should be a number >= 0","ok"),"Entry should be a number >= 0")),IF(OR($AP18="no",$AP18="n"),IF(ISBLANK(AR18),"ok","No entry should be made in cell"),IF(ISBLANK(AR18),"ok","No entry should be made in cell")))))) | CM18: =IF(COUNTA($C18:$AU18)=0,"",IF($H18="d","ok",IF(ISBLANK($AP18),IF(ISBLANK(AS18),"ok","Built-in Reservoir question not answered"),IF(OR($AP18="yes",$AP18="y"),IF(ISBLANK(AS18),"ok",IF(ISNUMBER(AS18),IF(AS18<=0,"Entry should be a positive number","ok"),"Entry should be a positive number")),IF(OR($AP18="no",$AP18="n"),IF(ISBLANK(AS18),"ok","No entry should be made in cell"),IF(ISBLANK(AS18),"ok","No entry should be made in cell")))))) | CN18: =IF(COUNTA($C18:$AU18)=0,"",IF($H18="d","ok",IF(ISBLANK($AP18),IF(ISBLANK(AT18),"ok","Built-in Reservoir question not answered"),IF(OR($AP18="yes",$AP18="y"),IF(ISBLANK(AT18),"ok",IF(ISNUMBER(AT18),IF(AT18<=0,"Entry should be a positive number","ok"),"Entry should be a positive number")),IF(OR($AP18="no",$AP18="n"),IF(ISBLANK(AT18),"ok","No entry should be made in cell"),IF(ISBLANK(AT18),"ok","No entry should be made in cell")))))) | CO18: =IF(COUNTA($C18:$AU18)=0,"",IF(H18="d","ok",IF(ISBLANK(AU18),"Empty cell",IF(OR(LEFT(AU18,7)="http://",LEFT(AU18,8)="https://",LEFT(AU18,6)="ftp://",LEFT(AU18,7)="sftp://",AU18="By annual report date"),"ok","Entry must begin with http://, https://, ftp:// or sftp://or be 'By annual report date'")))) | CV18: =IF(BC18="ok",VLOOKUP(I18,PrClDesc,2),"") | CX18: aaaaaa
A19: 10 | B19: =IF(COUNTIF(AW19:CO19,"")=No_of_Columns,"",IF(COUNTIF(AW19:CO19,"ok")=No_of_Columns,"ok","Error")) | AW19: =IF(COUNTA($C19:$AU19)=0,"",IF(ISBLANK($C19),"Empty cell","ok")) | AX19: =IF(COUNTA($C19:$AU19)=0,"","ok") | AY19: =IF(COUNTA($C19:$AU19)=0,"",IF(ISBLANK($E19),"Empty cell","ok")) | AZ19: =IF(COUNTA($C19:$AU19)=0,"",IF(ISBLANK($F19),"Empty cell","ok")) | BA19: =IF(COUNTA($C19:$AU19)=0,"",IF(ISBLANK($G19),"Empty cell","ok")) | BB19: =IF(COUNTA($C19:$AU19)=0,"",IF(ISBLANK($H19),"Empty cell",IF(OR($H19="n",$H19="d",$H19="c",$H19="e",$H19="f"),"ok","Should be n, d, c, e, or f"))) | BC19: =IF(COUNTA($C19:$AU19)=0,"",IF(ISBLANK($I19),"Empty cell",IF($I19<1,"Prod. Gr. Code should be an int. betw. 1 and "&No_of_Product_Classes,IF($I19>No_of_Product_Classes,"Prod. Gr. Code should be an int. betw. 1 and "&No_of_Product_Classes,IF($I19=INT($I19),"ok","Prod. Gr. Code should be an int. betw. 1 and "&No_of_Product_Classes))))) | BD19: =IF(COUNTA($C19:$AU19)=0,"","ok") | BE19: =IF(COUNTA($C19:$AU19)=0,"",IF(H19="d","ok",IF(ISBLANK($K19),"Empty cell",IF(ISNUMBER(K19)=FALSE,"Entry should be a positive integer",IF($K19<1,"Entry should be a positive integer",IF($K19=INT($K19),"ok","Entry should be a positive integer")))))) | BF19: =IF(COUNTA($C19:$AU19)=0,"",IF(H19="d","ok",IF(ISBLANK(L19),"Empty cell",IF(L19="yes","ok",IF(L19="y","ok",IF(L19="no","ok",IF(L19="n","ok","Entry should be either 'yes', 'y', 'no' or 'n'"))))))) | BG19: =IF(COUNTA($C19:$AU19)=0,"",IF(H19="d","ok",IF(ISBLANK(L19),IF(ISBLANK(M19),"ok","Waiver question not answered"),IF(OR(L19="yes",L19="y"),IF(ISBLANK(M19),"Empty cell",IF(ISNUMBER(M19),IF(M19<1,"Entry should be a date in M/D/YYYY format","ok"),"Entry should be a date in M/D/YYYY format")),IF(OR(L19="no",L19="n"),IF(ISBLANK(M19),"ok","No entry should be made in cell"),IF(ISBLANK(M19),"ok","No entry should be made in cell")))))) | BH19: =IF(COUNTA($C19:$AU19)=0,"",IF(H19="d","ok",IF(ISBLANK(N19),"Empty cell",IF(N19="yes","ok",IF(N19="y","ok",IF(N19="no","ok",IF(N19="n","ok","Entry should be either 'yes', 'y', 'no' or 'n'"))))))) | BI19: =IF(COUNTA($C19:$AU19)=0,"",IF(H19="d","ok",IF(ISBLANK(N19),IF(ISBLANK(O19),"ok","Exemption question not answered"),IF(OR(N19="yes",N19="y"),IF(ISBLANK(O19),"Empty cell",IF(ISNUMBER(O19),IF(O19<1,"Entry should be a date in M/D/YYYY format","ok"),"Entry should be a date in M/D/YYYY format")),IF(OR(N19="no",N19="n"),IF(ISBLANK(O19),"ok","No entry should be made in cell"),IF(ISBLANK(O19),"ok","No entry should be made in cell")))))) | BJ19: =IF(COUNTA($C19:$AU19)=0,"","ok") | BK19: =IF(COUNTA($C19:$AU19)=0,"","ok") | BL19: =IF(COUNTA($C19:$AU19)=0,"",IF(H19="d","ok",IF(ISBLANK($R19),"Empty cell",IF(ISNUMBER($R19),IF($R19>0,"ok","Entry should be greater than 0"),"Entry should be a number")))) | BM19: =IF(COUNTA($C19:$AU19)=0,"",IF(H19="d","ok",IF(ISBLANK($S19),"Empty cell",IF(ISNUMBER($S19),IF($S19>0,"ok","Entry should be greater than 0"),"Entry should be a number")))) | BN19: =IF(COUNTA($C19:$AU19)=0,"",IF(H19="d","ok",IF(ISBLANK($T19),"Empty cell",IF(ISNUMBER($T19)=FALSE,"Entry should be a positive integer",IF($T19<1,"Entry should be a positive integer",IF($T19=INT($T19),"ok","Entry should be a positive integer")))))) | BO19: =IF(COUNTA($C19:$AU19)=0,"",IF(H19="d","ok",IF(ISBLANK(U19),"Empty cell",IF(U19="yes","ok",IF(U19="y","ok",IF(U19="no","ok",IF(U19="n","ok","Entry should be either 'yes', 'y', 'no' or 'n'"))))))) | BP19: =IF(COUNTA($C19:$AU19)=0,"",IF($H19="d","ok",IF(ISBLANK(U19),IF(ISBLANK(V19),"ok","Soil sensor question not answered"),IF(OR(U19="yes",U19="y"),IF(ISBLANK(V19),"Empty cell",IF(ISNUMBER(V19),IF(INT(V19)=V19,IF(V19<=0,"Entry should be a positive integer","ok"),"Entry should be a positive integer"),"Entry should be a positive integer")),IF(OR(U19="no",U19="n"),IF(ISBLANK(V19),"ok","No entry should be made in cell"),IF(ISBLANK(V19),"ok","No entry should be made in cell")))))) | BQ19: =IF(COUNTA($C19:$AU19)=0,"",IF(H19="d","ok",IF(ISBLANK($W19),"Empty cell",IF(ISNUMBER($W19),IF($W19>0,"ok","Entry should be greater than 0"),"Entry should be a number")))) | BR19: =IF(COUNTA($C19:$AU19)=0,"",IF($H19="d","ok",IF(ISBLANK($X19),"Empty cell","ok"))) | BS19: =IF(COUNTA($C19:$AU19)=0,"",IF(H19="d","ok",IF(ISBLANK(Y19),"Empty cell",IF(Y19="yes","ok",IF(Y19="y","ok",IF(Y19="no","ok",IF(Y19="n","ok","Entry should be either 'yes', 'y', 'no' or 'n'"))))))) | BT19: =IF(COUNTA($C19:$AU19)=0,"",IF($H19="d","ok",IF(ISBLANK($Z19),"Empty cell","ok"))) | BU19: =IF(COUNTA($C19:$AU19)=0,"",IF(H19="d","ok",IF(ISBLANK(AA19),"Empty cell",IF(AA19="C","ok",IF(AA19="D","ok","Entry should be either 'C' or 'D''"))))) | BV19: =IF(COUNTA($C19:$AU19)=0,"",IF($H19="d","ok",IF(ISBLANK(AB19),"Empty cell",IF(AB19="yes","ok",IF(AB19="y","ok",IF(AB19="no","ok",IF(AB19="n","ok","Entry should be either 'yes', 'y', 'no' or 'n'"))))))) | BW19: =IF(COUNTA($C19:$AU19)=0,"",IF($H19="d","ok",IF(ISBLANK($AB19),IF(ISBLANK(AC19),"ok","Built-In Water Softening System question not answered"),IF(OR($AB19="yes",$AB19="y"),IF(ISBLANK(AC19),"Empty cell",IF(ISNUMBER(AC19),IF(AC19<=0,"Entry should be a positive number","ok"),"Entry should be a positive number")),IF(OR($AB19="no",$AB19="n"),IF(ISBLANK(AC19),"ok","No entry should be made in cell"),IF(ISBLANK(AC19),"ok","No entry should be made in cell")))))) | BX19: =IF(COUNTA($C19:$AU19)=0,"",IF($H19="d","ok",IF(ISBLANK($AB19),IF(ISBLANK(AD19),"ok","Built-In Water Softening System question not answered"),IF(OR($AB19="yes",$AB19="y"),IF(ISBLANK(AD19),"Empty cell",IF(ISNUMBER(AD19),IF(AD19<=0,"Entry should be a positive number","ok"),"Entry should be a positive number")),IF(OR($AB19="no",$AB19="n"),IF(ISBLANK(AD19),"ok","No entry should be made in cell"),IF(ISBLANK(AD19),"ok","No entry should be made in cell")))))) | BY19: =IF(COUNTA($C19:$AU19)=0,"",IF($H19="d","ok",IF(ISBLANK($AB19),IF(ISBLANK(AE19),"ok","Built-In Water Softening System question not answered"),IF(OR($AB19="yes",$AB19="y"),IF(ISBLANK(AE19),"Empty cell",IF(ISNUMBER(AE19),IF(INT(AE19)=AE19,IF(AE19<=0,"Entry should be a positive integer","ok"),"Entry should be a positive integer"),"Entry should be a positive integer")),IF(OR($AB19="no",$AB19="n"),IF(ISBLANK(AE19),"ok","No entry should be made in cell"),IF(ISBLANK(AE19),"ok","No entry should be made in cell")))))) | BZ19: =IF(COUNTA($C19:$AU19)=0,"",IF($H19="d","ok",IF(ISBLANK($AB19),IF(ISBLANK(AF19),"ok","Built-In Water Softening System question not answered"),IF(OR($AB19="yes",$AB19="y"),IF(ISBLANK(AF19),"Empty cell","ok"),IF(OR($AB19="no",$AB19="n"),IF(ISBLANK(AF19),"ok","No entry should be made in cell"),IF(ISBLANK(AF19),"ok","No entry should be made in cell")))))) | CA19: =IF(COUNTA($C19:$AU19)=0,"",IF(ISBLANK(AG19),"ok",IF(AG19="yes","ok",IF(AG19="y","ok",IF(AG19="no","ok",IF(AG19="n","ok","Entry should be either 'yes', 'y', 'no' or 'n'")))))) | CB19: =IF(COUNTA($C19:$AU19)=0,"",IF($H19="d","ok",IF(ISBLANK($AG19),IF(ISBLANK(AH19),"ok","Water Re-Use System question not answered"),IF(OR($AG19="yes",$AG19="y"),IF(ISBLANK(AH19),"ok",IF(ISNUMBER(AH19),IF(AH19<=0,"Entry should be a positive number","ok"),"Entry should be a positive number")),IF(OR($AG19="no",$AG19="n"),IF(ISBLANK(AH19),"ok","No entry should be made in cell"),IF(ISBLANK(AH19),"ok","No entry should be made in cell")))))) | CC19: =IF(COUNTA($C19:$AU19)=0,"",IF($H19="d","ok",IF(ISBLANK($AG19),IF(ISBLANK(AI19),"ok","Water Re-Use System question not answered"),IF(OR($AG19="yes",$AG19="y"),IF(ISBLANK(AI19),"ok",IF(ISNUMBER(AI19),IF(AI19<=0,"Entry should be a positive number","ok"),"Entry should be a positive number")),IF(OR($AG19="no",$AG19="n"),IF(ISBLANK(AI19),"ok","No entry should be made in cell"),IF(ISBLANK(AI19),"ok","No entry should be made in cell")))))) | CD19: =IF(COUNTA($C19:$AU19)=0,"",IF($H19="d","ok",IF(ISBLANK($AG19),IF(ISBLANK(AJ19),"ok","Water Re-Use System question not answered"),IF(OR($AG19="yes",$AG19="y"),IF(ISBLANK(AJ19),"ok",IF(ISNUMBER(AJ19),IF(INT(AJ19)=AJ19,IF(AJ19<=0,"Entry should be a positive integer","ok"),"Entry should be a positive integer"),"Entry should be a positive integer")),IF(OR($AG19="no",$AG19="n"),IF(ISBLANK(AJ19),"ok","No entry should be made in cell"),IF(ISBLANK(AJ19),"ok","No entry should be made in cell")))))) | CE19: =IF(COUNTA($C19:$AU19)=0,"",IF($H19="d","ok",IF(ISBLANK($AG19),IF(ISBLANK(AK19),"ok","Water Re-Use System question not answered"),IF(OR($AG19="yes",$AG19="y"),IF(ISBLANK(AK19),"ok",IF(ISNUMBER(AK19),IF(AK19<=0,"Entry should be a positive number","ok"),"Entry should be a positive number")),IF(OR($AG19="no",$AG19="n"),IF(ISBLANK(AK19),"ok","No entry should be made in cell"),IF(ISBLANK(AK19),"ok","No entry should be made in cell")))))) | CF19: =IF(COUNTA($C19:$AU19)=0,"",IF($H19="d","ok",IF(ISBLANK($AG19),IF(ISBLANK(AL19),"ok","Water Re-Use System question not answered"),IF(OR($AG19="yes",$AG19="y"),IF(ISBLANK(AL19),"Empty cell",IF(ISNUMBER(AL19),IF(AL19<=0,"Entry should be a positive number","ok"),"Entry should be a positive number")),IF(OR($AG19="no",$AG19="n"),IF(ISBLANK(AL19),"ok","No entry should be made in cell"),IF(ISBLANK(AL19),"ok","No entry should be made in cell")))))) | CG19: =IF(COUNTA($C19:$AU19)=0,"",IF($H19="d","ok",IF(ISBLANK($AG19),IF(ISBLANK(AM19),"ok","Water Re-Use System question not answered"),IF(OR($AG19="yes",$AG19="y"),IF(ISBLANK(AM19),"ok",IF(ISNUMBER(AM19),IF(INT(AM19)=AM19,IF(AM19<=0,"Entry should be a positive integer","ok"),"Entry should be a positive integer"),"Entry should be a positive integer")),IF(OR($AG19="no",$AG19="n"),IF(ISBLANK(AM19),"ok","No entry should be made in cell"),IF(ISBLANK(AM19),"ok","No entry should be made in cell")))))) | CH19: =IF(COUNTA($C19:$AU19)=0,"",IF($H19="d","ok",IF(ISBLANK($AG19),IF(ISBLANK(AN19),"ok","Water Re-Use System question not answered"),IF(OR($AG19="yes",$AG19="y"),IF(ISBLANK(AN19),"ok",IF(ISNUMBER(AN19),IF(AN19<=0,"Entry should be a positive number","ok"),"Entry should be a positive number")),IF(OR($AG19="no",$AG19="n"),IF(ISBLANK(AN19),"ok","No entry should be made in cell"),IF(ISBLANK(AN19),"ok","No entry should be made in cell")))))) | CI19: =IF(COUNTA($C19:$AU19)=0,"",IF($H19="d","ok",IF(ISBLANK($AG19),IF(ISBLANK(AO19),"ok","Water Re-Use System question not answered"),IF(OR($AG19="yes",$AG19="y"),IF(ISBLANK(AO19),"ok","ok"),IF(OR($AG19="no",$AG19="n"),IF(ISBLANK(AO19),"ok","No entry should be made in cell"),IF(ISBLANK(AO19),"ok","No entry should be made in cell")))))) | CJ19: =IF(COUNTA($C19:$AU19)=0,"",IF($H19="d","ok",IF(ISBLANK(AP19),"ok",IF(AP19="yes","ok",IF(AP19="y","ok",IF(AP19="no","ok",IF(AP19="n","ok","Entry should be either 'yes', 'y', 'no' or 'n'"))))))) | CK19: =IF(COUNTA($C19:$AU19)=0,"",IF($H19="d","ok",IF(ISBLANK($AP19),IF(ISBLANK(AQ19),"ok","Built-in Reservoir question not answered"),IF(OR($AP19="yes",$AP19="y"),IF(ISBLANK(AQ19),"ok",IF(ISNUMBER(AQ19),IF(AQ19<=0,"Entry should be a positive number","ok"),"Entry should be a positive number")),IF(OR($AP19="no",$AP19="n"),IF(ISBLANK(AQ19),"ok","No entry should be made in cell"),IF(ISBLANK(AQ19),"ok","No entry should be made in cell")))))) | CL19: =IF(COUNTA($C19:$AU19)=0,"",IF($H19="d","ok",IF(ISBLANK($AP19),IF(ISBLANK(AR19),"ok","Built-in Reservoir question not answered"),IF(OR($AP19="yes",$AP19="y"),IF(ISBLANK(AR19),"ok",IF(ISNUMBER(AR19),IF(AR19<0,"Entry should be a number >= 0","ok"),"Entry should be a number >= 0")),IF(OR($AP19="no",$AP19="n"),IF(ISBLANK(AR19),"ok","No entry should be made in cell"),IF(ISBLANK(AR19),"ok","No entry should be made in cell")))))) | CM19: =IF(COUNTA($C19:$AU19)=0,"",IF($H19="d","ok",IF(ISBLANK($AP19),IF(ISBLANK(AS19),"ok","Built-in Reservoir question not answered"),IF(OR($AP19="yes",$AP19="y"),IF(ISBLANK(AS19),"ok",IF(ISNUMBER(AS19),IF(AS19<=0,"Entry should be a positive number","ok"),"Entry should be a positive number")),IF(OR($AP19="no",$AP19="n"),IF(ISBLANK(AS19),"ok","No entry should be made in cell"),IF(ISBLANK(AS19),"ok","No entry should be made in cell")))))) | CN19: =IF(COUNTA($C19:$AU19)=0,"",IF($H19="d","ok",IF(ISBLANK($AP19),IF(ISBLANK(AT19),"ok","Built-in Reservoir question not answered"),IF(OR($AP19="yes",$AP19="y"),IF(ISBLANK(AT19),"ok",IF(ISNUMBER(AT19),IF(AT19<=0,"Entry should be a positive number","ok"),"Entry should be a positive number")),IF(OR($AP19="no",$AP19="n"),IF(ISBLANK(AT19),"ok","No entry should be made in cell"),IF(ISBLANK(AT19),"ok","No entry should be made in cell")))))) | CO19: =IF(COUNTA($C19:$AU19)=0,"",IF(H19="d","ok",IF(ISBLANK(AU19),"Empty cell",IF(OR(LEFT(AU19,7)="http://",LEFT(AU19,8)="https://",LEFT(AU19,6)="ftp://",LEFT(AU19,7)="sftp://",AU19="By annual report date"),"ok","Entry must begin with http://, https://, ftp:// or sftp://or be 'By annual report date'")))) | CV19: =IF(BC19="ok",VLOOKUP(I19,PrClDesc,2),"") | CX19: aaaaaa
A20: 11 | B20: =IF(COUNTIF(AW20:CO20,"")=No_of_Columns,"",IF(COUNTIF(AW20:CO20,"ok")=No_of_Columns,"ok","Error")) | AW20: =IF(COUNTA($C20:$AU20)=0,"",IF(ISBLANK($C20),"Empty cell","ok")) | AX20: =IF(COUNTA($C20:$AU20)=0,"","ok") | AY20: =IF(COUNTA($C20:$AU20)=0,"",IF(ISBLANK($E20),"Empty cell","ok")) | AZ20: =IF(COUNTA($C20:$AU20)=0,"",IF(ISBLANK($F20),"Empty cell","ok")) | BA20: =IF(COUNTA($C20:$AU20)=0,"",IF(ISBLANK($G20),"Empty cell","ok")) | BB20: =IF(COUNTA($C20:$AU20)=0,"",IF(ISBLANK($H20),"Empty cell",IF(OR($H20="n",$H20="d",$H20="c",$H20="e",$H20="f"),"ok","Should be n, d, c, e, or f"))) | BC20: =IF(COUNTA($C20:$AU20)=0,"",IF(ISBLANK($I20),"Empty cell",IF($I20<1,"Prod. Gr. Code should be an int. betw. 1 and "&No_of_Product_Classes,IF($I20>No_of_Product_Classes,"Prod. Gr. Code should be an int. betw. 1 and "&No_of_Product_Classes,IF($I20=INT($I20),"ok","Prod. Gr. Code should be an int. betw. 1 and "&No_of_Product_Classes))))) | BD20: =IF(COUNTA($C20:$AU20)=0,"","ok") | BE20: =IF(COUNTA($C20:$AU20)=0,"",IF(H20="d","ok",IF(ISBLANK($K20),"Empty cell",IF(ISNUMBER(K20)=FALSE,"Entry should be a positive integer",IF($K20<1,"Entry should be a positive integer",IF($K20=INT($K20),"ok","Entry should be a positive integer")))))) | BF20: =IF(COUNTA($C20:$AU20)=0,"",IF(H20="d","ok",IF(ISBLANK(L20),"Empty cell",IF(L20="yes","ok",IF(L20="y","ok",IF(L20="no","ok",IF(L20="n","ok","Entry should be either 'yes', 'y', 'no' or 'n'"))))))) | BG20: =IF(COUNTA($C20:$AU20)=0,"",IF(H20="d","ok",IF(ISBLANK(L20),IF(ISBLANK(M20),"ok","Waiver question not answered"),IF(OR(L20="yes",L20="y"),IF(ISBLANK(M20),"Empty cell",IF(ISNUMBER(M20),IF(M20<1,"Entry should be a date in M/D/YYYY format","ok"),"Entry should be a date in M/D/YYYY format")),IF(OR(L20="no",L20="n"),IF(ISBLANK(M20),"ok","No entry should be made in cell"),IF(ISBLANK(M20),"ok","No entry should be made in cell")))))) | BH20: =IF(COUNTA($C20:$AU20)=0,"",IF(H20="d","ok",IF(ISBLANK(N20),"Empty cell",IF(N20="yes","ok",IF(N20="y","ok",IF(N20="no","ok",IF(N20="n","ok","Entry should be either 'yes', 'y', 'no' or 'n'"))))))) | BI20: =IF(COUNTA($C20:$AU20)=0,"",IF(H20="d","ok",IF(ISBLANK(N20),IF(ISBLANK(O20),"ok","Exemption question not answered"),IF(OR(N20="yes",N20="y"),IF(ISBLANK(O20),"Empty cell",IF(ISNUMBER(O20),IF(O20<1,"Entry should be a date in M/D/YYYY format","ok"),"Entry should be a date in M/D/YYYY format")),IF(OR(N20="no",N20="n"),IF(ISBLANK(O20),"ok","No entry should be made in cell"),IF(ISBLANK(O20),"ok","No entry should be made in cell")))))) | BJ20: =IF(COUNTA($C20:$AU20)=0,"","ok") | BK20: =IF(COUNTA($C20:$AU20)=0,"","ok") | BL20: =IF(COUNTA($C20:$AU20)=0,"",IF(H20="d","ok",IF(ISBLANK($R20),"Empty cell",IF(ISNUMBER($R20),IF($R20>0,"ok","Entry should be greater than 0"),"Entry should be a number")))) | BM20: =IF(COUNTA($C20:$AU20)=0,"",IF(H20="d","ok",IF(ISBLANK($S20),"Empty cell",IF(ISNUMBER($S20),IF($S20>0,"ok","Entry should be greater than 0"),"Entry should be a number")))) | BN20: =IF(COUNTA($C20:$AU20)=0,"",IF(H20="d","ok",IF(ISBLANK($T20),"Empty cell",IF(ISNUMBER($T20)=FALSE,"Entry should be a positive integer",IF($T20<1,"Entry should be a positive integer",IF($T20=INT($T20),"ok","Entry should be a positive integer")))))) | BO20: =IF(COUNTA($C20:$AU20)=0,"",IF(H20="d","ok",IF(ISBLANK(U20),"Empty cell",IF(U20="yes","ok",IF(U20="y","ok",IF(U20="no","ok",IF(U20="n","ok","Entry should be either 'yes', 'y', 'no' or 'n'"))))))) | BP20: =IF(COUNTA($C20:$AU20)=0,"",IF($H20="d","ok",IF(ISBLANK(U20),IF(ISBLANK(V20),"ok","Soil sensor question not answered"),IF(OR(U20="yes",U20="y"),IF(ISBLANK(V20),"Empty cell",IF(ISNUMBER(V20),IF(INT(V20)=V20,IF(V20<=0,"Entry should be a positive integer","ok"),"Entry should be a positive integer"),"Entry should be a positive integer")),IF(OR(U20="no",U20="n"),IF(ISBLANK(V20),"ok","No entry should be made in cell"),IF(ISBLANK(V20),"ok","No entry should be made in cell")))))) | BQ20: =IF(COUNTA($C20:$AU20)=0,"",IF(H20="d","ok",IF(ISBLANK($W20),"Empty cell",IF(ISNUMBER($W20),IF($W20>0,"ok","Entry should be greater than 0"),"Entry should be a number")))) | BR20: =IF(COUNTA($C20:$AU20)=0,"",IF($H20="d","ok",IF(ISBLANK($X20),"Empty cell","ok"))) | BS20: =IF(COUNTA($C20:$AU20)=0,"",IF(H20="d","ok",IF(ISBLANK(Y20),"Empty cell",IF(Y20="yes","ok",IF(Y20="y","ok",IF(Y20="no","ok",IF(Y20="n","ok","Entry should be either 'yes', 'y', 'no' or 'n'"))))))) | BT20: =IF(COUNTA($C20:$AU20)=0,"",IF($H20="d","ok",IF(ISBLANK($Z20),"Empty cell","ok"))) | BU20: =IF(COUNTA($C20:$AU20)=0,"",IF(H20="d","ok",IF(ISBLANK(AA20),"Empty cell",IF(AA20="C","ok",IF(AA20="D","ok","Entry should be either 'C' or 'D''"))))) | BV20: =IF(COUNTA($C20:$AU20)=0,"",IF($H20="d","ok",IF(ISBLANK(AB20),"Empty cell",IF(AB20="yes","ok",IF(AB20="y","ok",IF(AB20="no","ok",IF(AB20="n","ok","Entry should be either 'yes', 'y', 'no' or 'n'"))))))) | BW20: =IF(COUNTA($C20:$AU20)=0,"",IF($H20="d","ok",IF(ISBLANK($AB20),IF(ISBLANK(AC20),"ok","Built-In Water Softening System question not answered"),IF(OR($AB20="yes",$AB20="y"),IF(ISBLANK(AC20),"Empty cell",IF(ISNUMBER(AC20),IF(AC20<=0,"Entry should be a positive number","ok"),"Entry should be a positive number")),IF(OR($AB20="no",$AB20="n"),IF(ISBLANK(AC20),"ok","No entry should be made in cell"),IF(ISBLANK(AC20),"ok","No entry should be made in cell")))))) | BX20: =IF(COUNTA($C20:$AU20)=0,"",IF($H20="d","ok",IF(ISBLANK($AB20),IF(ISBLANK(AD20),"ok","Built-In Water Softening System question not answered"),IF(OR($AB20="yes",$AB20="y"),IF(ISBLANK(AD20),"Empty cell",IF(ISNUMBER(AD20),IF(AD20<=0,"Entry should be a positive number","ok"),"Entry should be a positive number")),IF(OR($AB20="no",$AB20="n"),IF(ISBLANK(AD20),"ok","No entry should be made in cell"),IF(ISBLANK(AD20),"ok","No entry should be made in cell")))))) | BY20: =IF(COUNTA($C20:$AU20)=0,"",IF($H20="d","ok",IF(ISBLANK($AB20),IF(ISBLANK(AE20),"ok","Built-In Water Softening System question not answered"),IF(OR($AB20="yes",$AB20="y"),IF(ISBLANK(AE20),"Empty cell",IF(ISNUMBER(AE20),IF(INT(AE20)=AE20,IF(AE20<=0,"Entry should be a positive integer","ok"),"Entry should be a positive integer"),"Entry should be a positive integer")),IF(OR($AB20="no",$AB20="n"),IF(ISBLANK(AE20),"ok","No entry should be made in cell"),IF(ISBLANK(AE20),"ok","No entry should be made in cell")))))) | BZ20: =IF(COUNTA($C20:$AU20)=0,"",IF($H20="d","ok",IF(ISBLANK($AB20),IF(ISBLANK(AF20),"ok","Built-In Water Softening System question not answered"),IF(OR($AB20="yes",$AB20="y"),IF(ISBLANK(AF20),"Empty cell","ok"),IF(OR($AB20="no",$AB20="n"),IF(ISBLANK(AF20),"ok","No entry should be made in cell"),IF(ISBLANK(AF20),"ok","No entry should be made in cell")))))) | CA20: =IF(COUNTA($C20:$AU20)=0,"",IF(ISBLANK(AG20),"ok",IF(AG20="yes","ok",IF(AG20="y","ok",IF(AG20="no","ok",IF(AG20="n","ok","Entry should be either 'yes', 'y', 'no' or 'n'")))))) | CB20: =IF(COUNTA($C20:$AU20)=0,"",IF($H20="d","ok",IF(ISBLANK($AG20),IF(ISBLANK(AH20),"ok","Water Re-Use System question not answered"),IF(OR($AG20="yes",$AG20="y"),IF(ISBLANK(AH20),"ok",IF(ISNUMBER(AH20),IF(AH20<=0,"Entry should be a positive number","ok"),"Entry should be a positive number")),IF(OR($AG20="no",$AG20="n"),IF(ISBLANK(AH20),"ok","No entry should be made in cell"),IF(ISBLANK(AH20),"ok","No entry should be made in cell")))))) | CC20: =IF(COUNTA($C20:$AU20)=0,"",IF($H20="d","ok",IF(ISBLANK($AG20),IF(ISBLANK(AI20),"ok","Water Re-Use System question not answered"),IF(OR($AG20="yes",$AG20="y"),IF(ISBLANK(AI20),"ok",IF(ISNUMBER(AI20),IF(AI20<=0,"Entry should be a positive number","ok"),"Entry should be a positive number")),IF(OR($AG20="no",$AG20="n"),IF(ISBLANK(AI20),"ok","No entry should be made in cell"),IF(ISBLANK(AI20),"ok","No entry should be made in cell")))))) | CD20: =IF(COUNTA($C20:$AU20)=0,"",IF($H20="d","ok",IF(ISBLANK($AG20),IF(ISBLANK(AJ20),"ok","Water Re-Use System question not answered"),IF(OR($AG20="yes",$AG20="y"),IF(ISBLANK(AJ20),"ok",IF(ISNUMBER(AJ20),IF(INT(AJ20)=AJ20,IF(AJ20<=0,"Entry should be a positive integer","ok"),"Entry should be a positive integer"),"Entry should be a positive integer")),IF(OR($AG20="no",$AG20="n"),IF(ISBLANK(AJ20),"ok","No entry should be made in cell"),IF(ISBLANK(AJ20),"ok","No entry should be made in cell")))))) | CE20: =IF(COUNTA($C20:$AU20)=0,"",IF($H20="d","ok",IF(ISBLANK($AG20),IF(ISBLANK(AK20),"ok","Water Re-Use System question not answered"),IF(OR($AG20="yes",$AG20="y"),IF(ISBLANK(AK20),"ok",IF(ISNUMBER(AK20),IF(AK20<=0,"Entry should be a positive number","ok"),"Entry should be a positive number")),IF(OR($AG20="no",$AG20="n"),IF(ISBLANK(AK20),"ok","No entry should be made in cell"),IF(ISBLANK(AK20),"ok","No entry should be made in cell")))))) | CF20: =IF(COUNTA($C20:$AU20)=0,"",IF($H20="d","ok",IF(ISBLANK($AG20),IF(ISBLANK(AL20),"ok","Water Re-Use System question not answered"),IF(OR($AG20="yes",$AG20="y"),IF(ISBLANK(AL20),"Empty cell",IF(ISNUMBER(AL20),IF(AL20<=0,"Entry should be a positive number","ok"),"Entry should be a positive number")),IF(OR($AG20="no",$AG20="n"),IF(ISBLANK(AL20),"ok","No entry should be made in cell"),IF(ISBLANK(AL20),"ok","No entry should be made in cell")))))) | CG20: =IF(COUNTA($C20:$AU20)=0,"",IF($H20="d","ok",IF(ISBLANK($AG20),IF(ISBLANK(AM20),"ok","Water Re-Use System question not answered"),IF(OR($AG20="yes",$AG20="y"),IF(ISBLANK(AM20),"ok",IF(ISNUMBER(AM20),IF(INT(AM20)=AM20,IF(AM20<=0,"Entry should be a positive integer","ok"),"Entry should be a positive integer"),"Entry should be a positive integer")),IF(OR($AG20="no",$AG20="n"),IF(ISBLANK(AM20),"ok","No entry should be made in cell"),IF(ISBLANK(AM20),"ok","No entry should be made in cell")))))) | CH20: =IF(COUNTA($C20:$AU20)=0,"",IF($H20="d","ok",IF(ISBLANK($AG20),IF(ISBLANK(AN20),"ok","Water Re-Use System question not answered"),IF(OR($AG20="yes",$AG20="y"),IF(ISBLANK(AN20),"ok",IF(ISNUMBER(AN20),IF(AN20<=0,"Entry should be a positive number","ok"),"Entry should be a positive number")),IF(OR($AG20="no",$AG20="n"),IF(ISBLANK(AN20),"ok","No entry should be made in cell"),IF(ISBLANK(AN20),"ok","No entry should be made in cell")))))) | CI20: =IF(COUNTA($C20:$AU20)=0,"",IF($H20="d","ok",IF(ISBLANK($AG20),IF(ISBLANK(AO20),"ok","Water Re-Use System question not answered"),IF(OR($AG20="yes",$AG20="y"),IF(ISBLANK(AO20),"ok","ok"),IF(OR($AG20="no",$AG20="n"),IF(ISBLANK(AO20),"ok","No entry should be made in cell"),IF(ISBLANK(AO20),"ok","No entry should be made in cell")))))) | CJ20: =IF(COUNTA($C20:$AU20)=0,"",IF($H20="d","ok",IF(ISBLANK(AP20),"ok",IF(AP20="yes","ok",IF(AP20="y","ok",IF(AP20="no","ok",IF(AP20="n","ok","Entry should be either 'yes', 'y', 'no' or 'n'"))))))) | CK20: =IF(COUNTA($C20:$AU20)=0,"",IF($H20="d","ok",IF(ISBLANK($AP20),IF(ISBLANK(AQ20),"ok","Built-in Reservoir question not answered"),IF(OR($AP20="yes",$AP20="y"),IF(ISBLANK(AQ20),"ok",IF(ISNUMBER(AQ20),IF(AQ20<=0,"Entry should be a positive number","ok"),"Entry should be a positive number")),IF(OR($AP20="no",$AP20="n"),IF(ISBLANK(AQ20),"ok","No entry should be made in cell"),IF(ISBLANK(AQ20),"ok","No entry should be made in cell")))))) | CL20: =IF(COUNTA($C20:$AU20)=0,"",IF($H20="d","ok",IF(ISBLANK($AP20),IF(ISBLANK(AR20),"ok","Built-in Reservoir question not answered"),IF(OR($AP20="yes",$AP20="y"),IF(ISBLANK(AR20),"ok",IF(ISNUMBER(AR20),IF(AR20<0,"Entry should be a number >= 0","ok"),"Entry should be a number >= 0")),IF(OR($AP20="no",$AP20="n"),IF(ISBLANK(AR20),"ok","No entry should be made in cell"),IF(ISBLANK(AR20),"ok","No entry should be made in cell")))))) | CM20: =IF(COUNTA($C20:$AU20)=0,"",IF($H20="d","ok",IF(ISBLANK($AP20),IF(ISBLANK(AS20),"ok","Built-in Reservoir question not answered"),IF(OR($AP20="yes",$AP20="y"),IF(ISBLANK(AS20),"ok",IF(ISNUMBER(AS20),IF(AS20<=0,"Entry should be a positive number","ok"),"Entry should be a positive number")),IF(OR($AP20="no",$AP20="n"),IF(ISBLANK(AS20),"ok","No entry should be made in cell"),IF(ISBLANK(AS20),"ok","No entry should be made in cell")))))) | CN20: =IF(COUNTA($C20:$AU20)=0,"",IF($H20="d","ok",IF(ISBLANK($AP20),IF(ISBLANK(AT20),"ok","Built-in Reservoir question not answered"),IF(OR($AP20="yes",$AP20="y"),IF(ISBLANK(AT20),"ok",IF(ISNUMBER(AT20),IF(AT20<=0,"Entry should be a positive number","ok"),"Entry should be a positive number")),IF(OR($AP20="no",$AP20="n"),IF(ISBLANK(AT20),"ok","No entry should be made in cell"),IF(ISBLANK(AT20),"ok","No entry should be made in cell")))))) | CO20: =IF(COUNTA($C20:$AU20)=0,"",IF(H20="d","ok",IF(ISBLANK(AU20),"Empty cell",IF(OR(LEFT(AU20,7)="http://",LEFT(AU20,8)="https://",LEFT(AU20,6)="ftp://",LEFT(AU20,7)="sftp://",AU20="By annual report date"),"ok","Entry must begin with http://, https://, ftp:// or sftp://or be 'By annual report date'")))) | CV20: =IF(BC20="ok",VLOOKUP(I20,PrClDesc,2),"") | CX20: aaaaaa
A21: 12 | B21: =IF(COUNTIF(AW21:CO21,"")=No_of_Columns,"",IF(COUNTIF(AW21:CO21,"ok")=No_of_Columns,"ok","Error")) | AW21: =IF(COUNTA($C21:$AU21)=0,"",IF(ISBLANK($C21),"Empty cell","ok")) | AX21: =IF(COUNTA($C21:$AU21)=0,"","ok") | AY21: =IF(COUNTA($C21:$AU21)=0,"",IF(ISBLANK($E21),"Empty cell","ok")) | AZ21: =IF(COUNTA($C21:$AU21)=0,"",IF(ISBLANK($F21),"Empty cell","ok")) | BA21: =IF(COUNTA($C21:$AU21)=0,"",IF(ISBLANK($G21),"Empty cell","ok")) | BB21: =IF(COUNTA($C21:$AU21)=0,"",IF(ISBLANK($H21),"Empty cell",IF(OR($H21="n",$H21="d",$H21="c",$H21="e",$H21="f"),"ok","Should be n, d, c, e, or f"))) | BC21: =IF(COUNTA($C21:$AU21)=0,"",IF(ISBLANK($I21),"Empty cell",IF($I21<1,"Prod. Gr. Code should be an int. betw. 1 and "&No_of_Product_Classes,IF($I21>No_of_Product_Classes,"Prod. Gr. Code should be an int. betw. 1 and "&No_of_Product_Classes,IF($I21=INT($I21),"ok","Prod. Gr. Code should be an int. betw. 1 and "&No_of_Product_Classes))))) | BD21: =IF(COUNTA($C21:$AU21)=0,"","ok") | BE21: =IF(COUNTA($C21:$AU21)=0,"",IF(H21="d","ok",IF(ISBLANK($K21),"Empty cell",IF(ISNUMBER(K21)=FALSE,"Entry should be a positive integer",IF($K21<1,"Entry should be a positive integer",IF($K21=INT($K21),"ok","Entry should be a positive integer")))))) | BF21: =IF(COUNTA($C21:$AU21)=0,"",IF(H21="d","ok",IF(ISBLANK(L21),"Empty cell",IF(L21="yes","ok",IF(L21="y","ok",IF(L21="no","ok",IF(L21="n","ok","Entry should be either 'yes', 'y', 'no' or 'n'"))))))) | BG21: =IF(COUNTA($C21:$AU21)=0,"",IF(H21="d","ok",IF(ISBLANK(L21),IF(ISBLANK(M21),"ok","Waiver question not answered"),IF(OR(L21="yes",L21="y"),IF(ISBLANK(M21),"Empty cell",IF(ISNUMBER(M21),IF(M21<1,"Entry should be a date in M/D/YYYY format","ok"),"Entry should be a date in M/D/YYYY format")),IF(OR(L21="no",L21="n"),IF(ISBLANK(M21),"ok","No entry should be made in cell"),IF(ISBLANK(M21),"ok","No entry should be made in cell")))))) | BH21: =IF(COUNTA($C21:$AU21)=0,"",IF(H21="d","ok",IF(ISBLANK(N21),"Empty cell",IF(N21="yes","ok",IF(N21="y","ok",IF(N21="no","ok",IF(N21="n","ok","Entry should be either 'yes', 'y', 'no' or 'n'"))))))) | BI21: =IF(COUNTA($C21:$AU21)=0,"",IF(H21="d","ok",IF(ISBLANK(N21),IF(ISBLANK(O21),"ok","Exemption question not answered"),IF(OR(N21="yes",N21="y"),IF(ISBLANK(O21),"Empty cell",IF(ISNUMBER(O21),IF(O21<1,"Entry should be a date in M/D/YYYY format","ok"),"Entry should be a date in M/D/YYYY format")),IF(OR(N21="no",N21="n"),IF(ISBLANK(O21),"ok","No entry should be made in cell"),IF(ISBLANK(O21),"ok","No entry should be made in cell")))))) | BJ21: =IF(COUNTA($C21:$AU21)=0,"","ok") | BK21: =IF(COUNTA($C21:$AU21)=0,"","ok") | BL21: =IF(COUNTA($C21:$AU21)=0,"",IF(H21="d","ok",IF(ISBLANK($R21),"Empty cell",IF(ISNUMBER($R21),IF($R21>0,"ok","Entry should be greater than 0"),"Entry should be a number")))) | BM21: =IF(COUNTA($C21:$AU21)=0,"",IF(H21="d","ok",IF(ISBLANK($S21),"Empty cell",IF(ISNUMBER($S21),IF($S21>0,"ok","Entry should be greater than 0"),"Entry should be a number")))) | BN21: =IF(COUNTA($C21:$AU21)=0,"",IF(H21="d","ok",IF(ISBLANK($T21),"Empty cell",IF(ISNUMBER($T21)=FALSE,"Entry should be a positive integer",IF($T21<1,"Entry should be a positive integer",IF($T21=INT($T21),"ok","Entry should be a positive integer")))))) | BO21: =IF(COUNTA($C21:$AU21)=0,"",IF(H21="d","ok",IF(ISBLANK(U21),"Empty cell",IF(U21="yes","ok",IF(U21="y","ok",IF(U21="no","ok",IF(U21="n","ok","Entry should be either 'yes', 'y', 'no' or 'n'"))))))) | BP21: =IF(COUNTA($C21:$AU21)=0,"",IF($H21="d","ok",IF(ISBLANK(U21),IF(ISBLANK(V21),"ok","Soil sensor question not answered"),IF(OR(U21="yes",U21="y"),IF(ISBLANK(V21),"Empty cell",IF(ISNUMBER(V21),IF(INT(V21)=V21,IF(V21<=0,"Entry should be a positive integer","ok"),"Entry should be a positive integer"),"Entry should be a positive integer")),IF(OR(U21="no",U21="n"),IF(ISBLANK(V21),"ok","No entry should be made in cell"),IF(ISBLANK(V21),"ok","No entry should be made in cell")))))) | BQ21: =IF(COUNTA($C21:$AU21)=0,"",IF(H21="d","ok",IF(ISBLANK($W21),"Empty cell",IF(ISNUMBER($W21),IF($W21>0,"ok","Entry should be greater than 0"),"Entry should be a number")))) | BR21: =IF(COUNTA($C21:$AU21)=0,"",IF($H21="d","ok",IF(ISBLANK($X21),"Empty cell","ok"))) | BS21: =IF(COUNTA($C21:$AU21)=0,"",IF(H21="d","ok",IF(ISBLANK(Y21),"Empty cell",IF(Y21="yes","ok",IF(Y21="y","ok",IF(Y21="no","ok",IF(Y21="n","ok","Entry should be either 'yes', 'y', 'no' or 'n'"))))))) | BT21: =IF(COUNTA($C21:$AU21)=0,"",IF($H21="d","ok",IF(ISBLANK($Z21),"Empty cell","ok"))) | BU21: =IF(COUNTA($C21:$AU21)=0,"",IF(H21="d","ok",IF(ISBLANK(AA21),"Empty cell",IF(AA21="C","ok",IF(AA21="D","ok","Entry should be either 'C' or 'D''"))))) | BV21: =IF(COUNTA($C21:$AU21)=0,"",IF($H21="d","ok",IF(ISBLANK(AB21),"Empty cell",IF(AB21="yes","ok",IF(AB21="y","ok",IF(AB21="no","ok",IF(AB21="n","ok","Entry should be either 'yes', 'y', 'no' or 'n'"))))))) | BW21: =IF(COUNTA($C21:$AU21)=0,"",IF($H21="d","ok",IF(ISBLANK($AB21),IF(ISBLANK(AC21),"ok","Built-In Water Softening System question not answered"),IF(OR($AB21="yes",$AB21="y"),IF(ISBLANK(AC21),"Empty cell",IF(ISNUMBER(AC21),IF(AC21<=0,"Entry should be a positive number","ok"),"Entry should be a positive number")),IF(OR($AB21="no",$AB21="n"),IF(ISBLANK(AC21),"ok","No entry should be made in cell"),IF(ISBLANK(AC21),"ok","No entry should be made in cell")))))) | BX21: =IF(COUNTA($C21:$AU21)=0,"",IF($H21="d","ok",IF(ISBLANK($AB21),IF(ISBLANK(AD21),"ok","Built-In Water Softening System question not answered"),IF(OR($AB21="yes",$AB21="y"),IF(ISBLANK(AD21),"Empty cell",IF(ISNUMBER(AD21),IF(AD21<=0,"Entry should be a positive number","ok"),"Entry should be a positive number")),IF(OR($AB21="no",$AB21="n"),IF(ISBLANK(AD21),"ok","No entry should be made in cell"),IF(ISBLANK(AD21),"ok","No entry should be made in cell")))))) | BY21: =IF(COUNTA($C21:$AU21)=0,"",IF($H21="d","ok",IF(ISBLANK($AB21),IF(ISBLANK(AE21),"ok","Built-In Water Softening System question not answered"),IF(OR($AB21="yes",$AB21="y"),IF(ISBLANK(AE21),"Empty cell",IF(ISNUMBER(AE21),IF(INT(AE21)=AE21,IF(AE21<=0,"Entry should be a positive integer","ok"),"Entry should be a positive integer"),"Entry should be a positive integer")),IF(OR($AB21="no",$AB21="n"),IF(ISBLANK(AE21),"ok","No entry should be made in cell"),IF(ISBLANK(AE21),"ok","No entry should be made in cell")))))) | BZ21: =IF(COUNTA($C21:$AU21)=0,"",IF($H21="d","ok",IF(ISBLANK($AB21),IF(ISBLANK(AF21),"ok","Built-In Water Softening System question not answered"),IF(OR($AB21="yes",$AB21="y"),IF(ISBLANK(AF21),"Empty cell","ok"),IF(OR($AB21="no",$AB21="n"),IF(ISBLANK(AF21),"ok","No entry should be made in cell"),IF(ISBLANK(AF21),"ok","No entry should be made in cell")))))) | CA21: =IF(COUNTA($C21:$AU21)=0,"",IF(ISBLANK(AG21),"ok",IF(AG21="yes","ok",IF(AG21="y","ok",IF(AG21="no","ok",IF(AG21="n","ok","Entry should be either 'yes', 'y', 'no' or 'n'")))))) | CB21: =IF(COUNTA($C21:$AU21)=0,"",IF($H21="d","ok",IF(ISBLANK($AG21),IF(ISBLANK(AH21),"ok","Water Re-Use System question not answered"),IF(OR($AG21="yes",$AG21="y"),IF(ISBLANK(AH21),"ok",IF(ISNUMBER(AH21),IF(AH21<=0,"Entry should be a positive number","ok"),"Entry should be a positive number")),IF(OR($AG21="no",$AG21="n"),IF(ISBLANK(AH21),"ok","No entry should be made in cell"),IF(ISBLANK(AH21),"ok","No entry should be made in cell")))))) | CC21: =IF(COUNTA($C21:$AU21)=0,"",IF($H21="d","ok",IF(ISBLANK($AG21),IF(ISBLANK(AI21),"ok","Water Re-Use System question not answered"),IF(OR($AG21="yes",$AG21="y"),IF(ISBLANK(AI21),"ok",IF(ISNUMBER(AI21),IF(AI21<=0,"Entry should be a positive number","ok"),"Entry should be a positive number")),IF(OR($AG21="no",$AG21="n"),IF(ISBLANK(AI21),"ok","No entry should be made in cell"),IF(ISBLANK(AI21),"ok","No entry should be made in cell")))))) | CD21: =IF(COUNTA($C21:$AU21)=0,"",IF($H21="d","ok",IF(ISBLANK($AG21),IF(ISBLANK(AJ21),"ok","Water Re-Use System question not answered"),IF(OR($AG21="yes",$AG21="y"),IF(ISBLANK(AJ21),"ok",IF(ISNUMBER(AJ21),IF(INT(AJ21)=AJ21,IF(AJ21<=0,"Entry should be a positive integer","ok"),"Entry should be a positive integer"),"Entry should be a positive integer")),IF(OR($AG21="no",$AG21="n"),IF(ISBLANK(AJ21),"ok","No entry should be made in cell"),IF(ISBLANK(AJ21),"ok","No entry should be made in cell")))))) | CE21: =IF(COUNTA($C21:$AU21)=0,"",IF($H21="d","ok",IF(ISBLANK($AG21),IF(ISBLANK(AK21),"ok","Water Re-Use System question not answered"),IF(OR($AG21="yes",$AG21="y"),IF(ISBLANK(AK21),"ok",IF(ISNUMBER(AK21),IF(AK21<=0,"Entry should be a positive number","ok"),"Entry should be a positive number")),IF(OR($AG21="no",$AG21="n"),IF(ISBLANK(AK21),"ok","No entry should be made in cell"),IF(ISBLANK(AK21),"ok","No entry should be made in cell")))))) | CF21: =IF(COUNTA($C21:$AU21)=0,"",IF($H21="d","ok",IF(ISBLANK($AG21),IF(ISBLANK(AL21),"ok","Water Re-Use System question not answered"),IF(OR($AG21="yes",$AG21="y"),IF(ISBLANK(AL21),"Empty cell",IF(ISNUMBER(AL21),IF(AL21<=0,"Entry should be a positive number","ok"),"Entry should be a positive number")),IF(OR($AG21="no",$AG21="n"),IF(ISBLANK(AL21),"ok","No entry should be made in cell"),IF(ISBLANK(AL21),"ok","No entry should be made in cell")))))) | CG21: =IF(COUNTA($C21:$AU21)=0,"",IF($H21="d","ok",IF(ISBLANK($AG21),IF(ISBLANK(AM21),"ok","Water Re-Use System question not answered"),IF(OR($AG21="yes",$AG21="y"),IF(ISBLANK(AM21),"ok",IF(ISNUMBER(AM21),IF(INT(AM21)=AM21,IF(AM21<=0,"Entry should be a positive integer","ok"),"Entry should be a positive integer"),"Entry should be a positive integer")),IF(OR($AG21="no",$AG21="n"),IF(ISBLANK(AM21),"ok","No entry should be made in cell"),IF(ISBLANK(AM21),"ok","No entry should be made in cell")))))) | CH21: =IF(COUNTA($C21:$AU21)=0,"",IF($H21="d","ok",IF(ISBLANK($AG21),IF(ISBLANK(AN21),"ok","Water Re-Use System question not answered"),IF(OR($AG21="yes",$AG21="y"),IF(ISBLANK(AN21),"ok",IF(ISNUMBER(AN21),IF(AN21<=0,"Entry should be a positive number","ok"),"Entry should be a positive number")),IF(OR($AG21="no",$AG21="n"),IF(ISBLANK(AN21),"ok","No entry should be made in cell"),IF(ISBLANK(AN21),"ok","No entry should be made in cell")))))) | CI21: =IF(COUNTA($C21:$AU21)=0,"",IF($H21="d","ok",IF(ISBLANK($AG21),IF(ISBLANK(AO21),"ok","Water Re-Use System question not answered"),IF(OR($AG21="yes",$AG21="y"),IF(ISBLANK(AO21),"ok","ok"),IF(OR($AG21="no",$AG21="n"),IF(ISBLANK(AO21),"ok","No entry should be made in cell"),IF(ISBLANK(AO21),"ok","No entry should be made in cell")))))) | CJ21: =IF(COUNTA($C21:$AU21)=0,"",IF($H21="d","ok",IF(ISBLANK(AP21),"ok",IF(AP21="yes","ok",IF(AP21="y","ok",IF(AP21="no","ok",IF(AP21="n","ok","Entry should be either 'yes', 'y', 'no' or 'n'"))))))) | CK21: =IF(COUNTA($C21:$AU21)=0,"",IF($H21="d","ok",IF(ISBLANK($AP21),IF(ISBLANK(AQ21),"ok","Built-in Reservoir question not answered"),IF(OR($AP21="yes",$AP21="y"),IF(ISBLANK(AQ21),"ok",IF(ISNUMBER(AQ21),IF(AQ21<=0,"Entry should be a positive number","ok"),"Entry should be a positive number")),IF(OR($AP21="no",$AP21="n"),IF(ISBLANK(AQ21),"ok","No entry should be made in cell"),IF(ISBLANK(AQ21),"ok","No entry should be made in cell")))))) | CL21: =IF(COUNTA($C21:$AU21)=0,"",IF($H21="d","ok",IF(ISBLANK($AP21),IF(ISBLANK(AR21),"ok","Built-in Reservoir question not answered"),IF(OR($AP21="yes",$AP21="y"),IF(ISBLANK(AR21),"ok",IF(ISNUMBER(AR21),IF(AR21<0,"Entry should be a number >= 0","ok"),"Entry should be a number >= 0")),IF(OR($AP21="no",$AP21="n"),IF(ISBLANK(AR21),"ok","No entry should be made in cell"),IF(ISBLANK(AR21),"ok","No entry should be made in cell")))))) | CM21: =IF(COUNTA($C21:$AU21)=0,"",IF($H21="d","ok",IF(ISBLANK($AP21),IF(ISBLANK(AS21),"ok","Built-in Reservoir question not answered"),IF(OR($AP21="yes",$AP21="y"),IF(ISBLANK(AS21),"ok",IF(ISNUMBER(AS21),IF(AS21<=0,"Entry should be a positive number","ok"),"Entry should be a positive number")),IF(OR($AP21="no",$AP21="n"),IF(ISBLANK(AS21),"ok","No entry should be made in cell"),IF(ISBLANK(AS21),"ok","No entry should be made in cell")))))) | CN21: =IF(COUNTA($C21:$AU21)=0,"",IF($H21="d","ok",IF(ISBLANK($AP21),IF(ISBLANK(AT21),"ok","Built-in Reservoir question not answered"),IF(OR($AP21="yes",$AP21="y"),IF(ISBLANK(AT21),"ok",IF(ISNUMBER(AT21),IF(AT21<=0,"Entry should be a positive number","ok"),"Entry should be a positive number")),IF(OR($AP21="no",$AP21="n"),IF(ISBLANK(AT21),"ok","No entry should be made in cell"),IF(ISBLANK(AT21),"ok","No entry should be made in cell")))))) | CO21: =IF(COUNTA($C21:$AU21)=0,"",IF(H21="d","ok",IF(ISBLANK(AU21),"Empty cell",IF(OR(LEFT(AU21,7)="http://",LEFT(AU21,8)="https://",LEFT(AU21,6)="ftp://",LEFT(AU21,7)="sftp://",AU21="By annual report date"),"ok","Entry must begin with http://, https://, ftp:// or sftp://or be 'By annual report date'")))) | CV21: =IF(BC21="ok",VLOOKUP(I21,PrClDesc,2),"") | CX21: aaaaaa
A22: 13 | B22: =IF(COUNTIF(AW22:CO22,"")=No_of_Columns,"",IF(COUNTIF(AW22:CO22,"ok")=No_of_Columns,"ok","Error")) | AW22: =IF(COUNTA($C22:$AU22)=0,"",IF(ISBLANK($C22),"Empty cell","ok")) | AX22: =IF(COUNTA($C22:$AU22)=0,"","ok") | AY22: =IF(COUNTA($C22:$AU22)=0,"",IF(ISBLANK($E22),"Empty cell","ok")) | AZ22: =IF(COUNTA($C22:$AU22)=0,"",IF(ISBLANK($F22),"Empty cell","ok")) | BA22: =IF(COUNTA($C22:$AU22)=0,"",IF(ISBLANK($G22),"Empty cell","ok")) | BB22: =IF(COUNTA($C22:$AU22)=0,"",IF(ISBLANK($H22),"Empty cell",IF(OR($H22="n",$H22="d",$H22="c",$H22="e",$H22="f"),"ok","Should be n, d, c, e, or f"))) | BC22: =IF(COUNTA($C22:$AU22)=0,"",IF(ISBLANK($I22),"Empty cell",IF($I22<1,"Prod. Gr. Code should be an int. betw. 1 and "&No_of_Product_Classes,IF($I22>No_of_Product_Classes,"Prod. Gr. Code should be an int. betw. 1 and "&No_of_Product_Classes,IF($I22=INT($I22),"ok","Prod. Gr. Code should be an int. betw. 1 and "&No_of_Product_Classes))))) | BD22: =IF(COUNTA($C22:$AU22)=0,"","ok") | BE22: =IF(COUNTA($C22:$AU22)=0,"",IF(H22="d","ok",IF(ISBLANK($K22),"Empty cell",IF(ISNUMBER(K22)=FALSE,"Entry should be a positive integer",IF($K22<1,"Entry should be a positive integer",IF($K22=INT($K22),"ok","Entry should be a positive integer")))))) | BF22: =IF(COUNTA($C22:$AU22)=0,"",IF(H22="d","ok",IF(ISBLANK(L22),"Empty cell",IF(L22="yes","ok",IF(L22="y","ok",IF(L22="no","ok",IF(L22="n","ok","Entry should be either 'yes', 'y', 'no' or 'n'"))))))) | BG22: =IF(COUNTA($C22:$AU22)=0,"",IF(H22="d","ok",IF(ISBLANK(L22),IF(ISBLANK(M22),"ok","Waiver question not answered"),IF(OR(L22="yes",L22="y"),IF(ISBLANK(M22),"Empty cell",IF(ISNUMBER(M22),IF(M22<1,"Entry should be a date in M/D/YYYY format","ok"),"Entry should be a date in M/D/YYYY format")),IF(OR(L22="no",L22="n"),IF(ISBLANK(M22),"ok","No entry should be made in cell"),IF(ISBLANK(M22),"ok","No entry should be made in cell")))))) | BH22: =IF(COUNTA($C22:$AU22)=0,"",IF(H22="d","ok",IF(ISBLANK(N22),"Empty cell",IF(N22="yes","ok",IF(N22="y","ok",IF(N22="no","ok",IF(N22="n","ok","Entry should be either 'yes', 'y', 'no' or 'n'"))))))) | BI22: =IF(COUNTA($C22:$AU22)=0,"",IF(H22="d","ok",IF(ISBLANK(N22),IF(ISBLANK(O22),"ok","Exemption question not answered"),IF(OR(N22="yes",N22="y"),IF(ISBLANK(O22),"Empty cell",IF(ISNUMBER(O22),IF(O22<1,"Entry should be a date in M/D/YYYY format","ok"),"Entry should be a date in M/D/YYYY format")),IF(OR(N22="no",N22="n"),IF(ISBLANK(O22),"ok","No entry should be made in cell"),IF(ISBLANK(O22),"ok","No entry should be made in cell")))))) | BJ22: =IF(COUNTA($C22:$AU22)=0,"","ok") | BK22: =IF(COUNTA($C22:$AU22)=0,"","ok") | BL22: =IF(COUNTA($C22:$AU22)=0,"",IF(H22="d","ok",IF(ISBLANK($R22),"Empty cell",IF(ISNUMBER($R22),IF($R22>0,"ok","Entry should be greater than 0"),"Entry should be a number")))) | BM22: =IF(COUNTA($C22:$AU22)=0,"",IF(H22="d","ok",IF(ISBLANK($S22),"Empty cell",IF(ISNUMBER($S22),IF($S22>0,"ok","Entry should be greater than 0"),"Entry should be a number")))) | BN22: =IF(COUNTA($C22:$AU22)=0,"",IF(H22="d","ok",IF(ISBLANK($T22),"Empty cell",IF(ISNUMBER($T22)=FALSE,"Entry should be a positive integer",IF($T22<1,"Entry should be a positive integer",IF($T22=INT($T22),"ok","Entry should be a positive integer")))))) | BO22: =IF(COUNTA($C22:$AU22)=0,"",IF(H22="d","ok",IF(ISBLANK(U22),"Empty cell",IF(U22="yes","ok",IF(U22="y","ok",IF(U22="no","ok",IF(U22="n","ok","Entry should be either 'yes', 'y', 'no' or 'n'"))))))) | BP22: =IF(COUNTA($C22:$AU22)=0,"",IF($H22="d","ok",IF(ISBLANK(U22),IF(ISBLANK(V22),"ok","Soil sensor question not answered"),IF(OR(U22="yes",U22="y"),IF(ISBLANK(V22),"Empty cell",IF(ISNUMBER(V22),IF(INT(V22)=V22,IF(V22<=0,"Entry should be a positive integer","ok"),"Entry should be a positive integer"),"Entry should be a positive integer")),IF(OR(U22="no",U22="n"),IF(ISBLANK(V22),"ok","No entry should be made in cell"),IF(ISBLANK(V22),"ok","No entry should be made in cell")))))) | BQ22: =IF(COUNTA($C22:$AU22)=0,"",IF(H22="d","ok",IF(ISBLANK($W22),"Empty cell",IF(ISNUMBER($W22),IF($W22>0,"ok","Entry should be greater than 0"),"Entry should be a number")))) | BR22: =IF(COUNTA($C22:$AU22)=0,"",IF($H22="d","ok",IF(ISBLANK($X22),"Empty cell","ok"))) | BS22: =IF(COUNTA($C22:$AU22)=0,"",IF(H22="d","ok",IF(ISBLANK(Y22),"Empty cell",IF(Y22="yes","ok",IF(Y22="y","ok",IF(Y22="no","ok",IF(Y22="n","ok","Entry should be either 'yes', 'y', 'no' or 'n'"))))))) | BT22: =IF(COUNTA($C22:$AU22)=0,"",IF($H22="d","ok",IF(ISBLANK($Z22),"Empty cell","ok"))) | BU22: =IF(COUNTA($C22:$AU22)=0,"",IF(H22="d","ok",IF(ISBLANK(AA22),"Empty cell",IF(AA22="C","ok",IF(AA22="D","ok","Entry should be either 'C' or 'D''"))))) | BV22: =IF(COUNTA($C22:$AU22)=0,"",IF($H22="d","ok",IF(ISBLANK(AB22),"Empty cell",IF(AB22="yes","ok",IF(AB22="y","ok",IF(AB22="no","ok",IF(AB22="n","ok","Entry should be either 'yes', 'y', 'no' or 'n'"))))))) | BW22: =IF(COUNTA($C22:$AU22)=0,"",IF($H22="d","ok",IF(ISBLANK($AB22),IF(ISBLANK(AC22),"ok","Built-In Water Softening System question not answered"),IF(OR($AB22="yes",$AB22="y"),IF(ISBLANK(AC22),"Empty cell",IF(ISNUMBER(AC22),IF(AC22<=0,"Entry should be a positive number","ok"),"Entry should be a positive number")),IF(OR($AB22="no",$AB22="n"),IF(ISBLANK(AC22),"ok","No entry should be made in cell"),IF(ISBLANK(AC22),"ok","No entry should be made in cell")))))) | BX22: =IF(COUNTA($C22:$AU22)=0,"",IF($H22="d","ok",IF(ISBLANK($AB22),IF(ISBLANK(AD22),"ok","Built-In Water Softening System question not answered"),IF(OR($AB22="yes",$AB22="y"),IF(ISBLANK(AD22),"Empty cell",IF(ISNUMBER(AD22),IF(AD22<=0,"Entry should be a positive number","ok"),"Entry should be a positive number")),IF(OR($AB22="no",$AB22="n"),IF(ISBLANK(AD22),"ok","No entry should be made in cell"),IF(ISBLANK(AD22),"ok","No entry should be made in cell")))))) | BY22: =IF(COUNTA($C22:$AU22)=0,"",IF($H22="d","ok",IF(ISBLANK($AB22),IF(ISBLANK(AE22),"ok","Built-In Water Softening System question not answered"),IF(OR($AB22="yes",$AB22="y"),IF(ISBLANK(AE22),"Empty cell",IF(ISNUMBER(AE22),IF(INT(AE22)=AE22,IF(AE22<=0,"Entry should be a positive integer","ok"),"Entry should be a positive integer"),"Entry should be a positive integer")),IF(OR($AB22="no",$AB22="n"),IF(ISBLANK(AE22),"ok","No entry should be made in cell"),IF(ISBLANK(AE22),"ok","No entry should be made in cell")))))) | BZ22: =IF(COUNTA($C22:$AU22)=0,"",IF($H22="d","ok",IF(ISBLANK($AB22),IF(ISBLANK(AF22),"ok","Built-In Water Softening System question not answered"),IF(OR($AB22="yes",$AB22="y"),IF(ISBLANK(AF22),"Empty cell","ok"),IF(OR($AB22="no",$AB22="n"),IF(ISBLANK(AF22),"ok","No entry should be made in cell"),IF(ISBLANK(AF22),"ok","No entry should be made in cell")))))) | CA22: =IF(COUNTA($C22:$AU22)=0,"",IF(ISBLANK(AG22),"ok",IF(AG22="yes","ok",IF(AG22="y","ok",IF(AG22="no","ok",IF(AG22="n","ok","Entry should be either 'yes', 'y', 'no' or 'n'")))))) | CB22: =IF(COUNTA($C22:$AU22)=0,"",IF($H22="d","ok",IF(ISBLANK($AG22),IF(ISBLANK(AH22),"ok","Water Re-Use System question not answered"),IF(OR($AG22="yes",$AG22="y"),IF(ISBLANK(AH22),"ok",IF(ISNUMBER(AH22),IF(AH22<=0,"Entry should be a positive number","ok"),"Entry should be a positive number")),IF(OR($AG22="no",$AG22="n"),IF(ISBLANK(AH22),"ok","No entry should be made in cell"),IF(ISBLANK(AH22),"ok","No entry should be made in cell")))))) | CC22: =IF(COUNTA($C22:$AU22)=0,"",IF($H22="d","ok",IF(ISBLANK($AG22),IF(ISBLANK(AI22),"ok","Water Re-Use System question not answered"),IF(OR($AG22="yes",$AG22="y"),IF(ISBLANK(AI22),"ok",IF(ISNUMBER(AI22),IF(AI22<=0,"Entry should be a positive number","ok"),"Entry should be a positive number")),IF(OR($AG22="no",$AG22="n"),IF(ISBLANK(AI22),"ok","No entry should be made in cell"),IF(ISBLANK(AI22),"ok","No entry should be made in cell")))))) | CD22: =IF(COUNTA($C22:$AU22)=0,"",IF($H22="d","ok",IF(ISBLANK($AG22),IF(ISBLANK(AJ22),"ok","Water Re-Use System question not answered"),IF(OR($AG22="yes",$AG22="y"),IF(ISBLANK(AJ22),"ok",IF(ISNUMBER(AJ22),IF(INT(AJ22)=AJ22,IF(AJ22<=0,"Entry should be a positive integer","ok"),"Entry should be a positive integer"),"Entry should be a positive integer")),IF(OR($AG22="no",$AG22="n"),IF(ISBLANK(AJ22),"ok","No entry should be made in cell"),IF(ISBLANK(AJ22),"ok","No entry should be made in cell")))))) | CE22: =IF(COUNTA($C22:$AU22)=0,"",IF($H22="d","ok",IF(ISBLANK($AG22),IF(ISBLANK(AK22),"ok","Water Re-Use System question not answered"),IF(OR($AG22="yes",$AG22="y"),IF(ISBLANK(AK22),"ok",IF(ISNUMBER(AK22),IF(AK22<=0,"Entry should be a positive number","ok"),"Entry should be a positive number")),IF(OR($AG22="no",$AG22="n"),IF(ISBLANK(AK22),"ok","No entry should be made in cell"),IF(ISBLANK(AK22),"ok","No entry should be made in cell")))))) | CF22: =IF(COUNTA($C22:$AU22)=0,"",IF($H22="d","ok",IF(ISBLANK($AG22),IF(ISBLANK(AL22),"ok","Water Re-Use System question not answered"),IF(OR($AG22="yes",$AG22="y"),IF(ISBLANK(AL22),"Empty cell",IF(ISNUMBER(AL22),IF(AL22<=0,"Entry should be a positive number","ok"),"Entry should be a positive number")),IF(OR($AG22="no",$AG22="n"),IF(ISBLANK(AL22),"ok","No entry should be made in cell"),IF(ISBLANK(AL22),"ok","No entry should be made in cell")))))) | CG22: =IF(COUNTA($C22:$AU22)=0,"",IF($H22="d","ok",IF(ISBLANK($AG22),IF(ISBLANK(AM22),"ok","Water Re-Use System question not answered"),IF(OR($AG22="yes",$AG22="y"),IF(ISBLANK(AM22),"ok",IF(ISNUMBER(AM22),IF(INT(AM22)=AM22,IF(AM22<=0,"Entry should be a positive integer","ok"),"Entry should be a positive integer"),"Entry should be a positive integer")),IF(OR($AG22="no",$AG22="n"),IF(ISBLANK(AM22),"ok","No entry should be made in cell"),IF(ISBLANK(AM22),"ok","No entry should be made in cell")))))) | CH22: =IF(COUNTA($C22:$AU22)=0,"",IF($H22="d","ok",IF(ISBLANK($AG22),IF(ISBLANK(AN22),"ok","Water Re-Use System question not answered"),IF(OR($AG22="yes",$AG22="y"),IF(ISBLANK(AN22),"ok",IF(ISNUMBER(AN22),IF(AN22<=0,"Entry should be a positive number","ok"),"Entry should be a positive number")),IF(OR($AG22="no",$AG22="n"),IF(ISBLANK(AN22),"ok","No entry should be made in cell"),IF(ISBLANK(AN22),"ok","No entry should be made in cell")))))) | CI22: =IF(COUNTA($C22:$AU22)=0,"",IF($H22="d","ok",IF(ISBLANK($AG22),IF(ISBLANK(AO22),"ok","Water Re-Use System question not answered"),IF(OR($AG22="yes",$AG22="y"),IF(ISBLANK(AO22),"ok","ok"),IF(OR($AG22="no",$AG22="n"),IF(ISBLANK(AO22),"ok","No entry should be made in cell"),IF(ISBLANK(AO22),"ok","No entry should be made in cell")))))) | CJ22: =IF(COUNTA($C22:$AU22)=0,"",IF($H22="d","ok",IF(ISBLANK(AP22),"ok",IF(AP22="yes","ok",IF(AP22="y","ok",IF(AP22="no","ok",IF(AP22="n","ok","Entry should be either 'yes', 'y', 'no' or 'n'"))))))) | CK22: =IF(COUNTA($C22:$AU22)=0,"",IF($H22="d","ok",IF(ISBLANK($AP22),IF(ISBLANK(AQ22),"ok","Built-in Reservoir question not answered"),IF(OR($AP22="yes",$AP22="y"),IF(ISBLANK(AQ22),"ok",IF(ISNUMBER(AQ22),IF(AQ22<=0,"Entry should be a positive number","ok"),"Entry should be a positive number")),IF(OR($AP22="no",$AP22="n"),IF(ISBLANK(AQ22),"ok","No entry should be made in cell"),IF(ISBLANK(AQ22),"ok","No entry should be made in cell")))))) | CL22: =IF(COUNTA($C22:$AU22)=0,"",IF($H22="d","ok",IF(ISBLANK($AP22),IF(ISBLANK(AR22),"ok","Built-in Reservoir question not answered"),IF(OR($AP22="yes",$AP22="y"),IF(ISBLANK(AR22),"ok",IF(ISNUMBER(AR22),IF(AR22<0,"Entry should be a number >= 0","ok"),"Entry should be a number >= 0")),IF(OR($AP22="no",$AP22="n"),IF(ISBLANK(AR22),"ok","No entry should be made in cell"),IF(ISBLANK(AR22),"ok","No entry should be made in cell")))))) | CM22: =IF(COUNTA($C22:$AU22)=0,"",IF($H22="d","ok",IF(ISBLANK($AP22),IF(ISBLANK(AS22),"ok","Built-in Reservoir question not answered"),IF(OR($AP22="yes",$AP22="y"),IF(ISBLANK(AS22),"ok",IF(ISNUMBER(AS22),IF(AS22<=0,"Entry should be a positive number","ok"),"Entry should be a positive number")),IF(OR($AP22="no",$AP22="n"),IF(ISBLANK(AS22),"ok","No entry should be made in cell"),IF(ISBLANK(AS22),"ok","No entry should be made in cell")))))) | CN22: =IF(COUNTA($C22:$AU22)=0,"",IF($H22="d","ok",IF(ISBLANK($AP22),IF(ISBLANK(AT22),"ok","Built-in Reservoir question not answered"),IF(OR($AP22="yes",$AP22="y"),IF(ISBLANK(AT22),"ok",IF(ISNUMBER(AT22),IF(AT22<=0,"Entry should be a positive number","ok"),"Entry should be a positive number")),IF(OR($AP22="no",$AP22="n"),IF(ISBLANK(AT22),"ok","No entry should be made in cell"),IF(ISBLANK(AT22),"ok","No entry should be made in cell")))))) | CO22: =IF(COUNTA($C22:$AU22)=0,"",IF(H22="d","ok",IF(ISBLANK(AU22),"Empty cell",IF(OR(LEFT(AU22,7)="http://",LEFT(AU22,8)="https://",LEFT(AU22,6)="ftp://",LEFT(AU22,7)="sftp://",AU22="By annual report date"),"ok","Entry must begin with http://, https://, ftp:// or sftp://or be 'By annual report date'")))) | CV22: =IF(BC22="ok",VLOOKUP(I22,PrClDesc,2),"") | CX22: aaaaaa
A23: 14 | B23: =IF(COUNTIF(AW23:CO23,"")=No_of_Columns,"",IF(COUNTIF(AW23:CO23,"ok")=No_of_Columns,"ok","Error")) | AW23: =IF(COUNTA($C23:$AU23)=0,"",IF(ISBLANK($C23),"Empty cell","ok")) | AX23: =IF(COUNTA($C23:$AU23)=0,"","ok") | AY23: =IF(COUNTA($C23:$AU23)=0,"",IF(ISBLANK($E23),"Empty cell","ok")) | AZ23: =IF(COUNTA($C23:$AU23)=0,"",IF(ISBLANK($F23),"Empty cell","ok")) | BA23: =IF(COUNTA($C23:$AU23)=0,"",IF(ISBLANK($G23),"Empty cell","ok")) | BB23: =IF(COUNTA($C23:$AU23)=0,"",IF(ISBLANK($H23),"Empty cell",IF(OR($H23="n",$H23="d",$H23="c",$H23="e",$H23="f"),"ok","Should be n, d, c, e, or f"))) | BC23: =IF(COUNTA($C23:$AU23)=0,"",IF(ISBLANK($I23),"Empty cell",IF($I23<1,"Prod. Gr. Code should be an int. betw. 1 and "&No_of_Product_Classes,IF($I23>No_of_Product_Classes,"Prod. Gr. Code should be an int. betw. 1 and "&No_of_Product_Classes,IF($I23=INT($I23),"ok","Prod. Gr. Code should be an int. betw. 1 and "&No_of_Product_Classes))))) | BD23: =IF(COUNTA($C23:$AU23)=0,"","ok") | BE23: =IF(COUNTA($C23:$AU23)=0,"",IF(H23="d","ok",IF(ISBLANK($K23),"Empty cell",IF(ISNUMBER(K23)=FALSE,"Entry should be a positive integer",IF($K23<1,"Entry should be a positive integer",IF($K23=INT($K23),"ok","Entry should be a positive integer")))))) | BF23: =IF(COUNTA($C23:$AU23)=0,"",IF(H23="d","ok",IF(ISBLANK(L23),"Empty cell",IF(L23="yes","ok",IF(L23="y","ok",IF(L23="no","ok",IF(L23="n","ok","Entry should be either 'yes', 'y', 'no' or 'n'"))))))) | BG23: =IF(COUNTA($C23:$AU23)=0,"",IF(H23="d","ok",IF(ISBLANK(L23),IF(ISBLANK(M23),"ok","Waiver question not answered"),IF(OR(L23="yes",L23="y"),IF(ISBLANK(M23),"Empty cell",IF(ISNUMBER(M23),IF(M23<1,"Entry should be a date in M/D/YYYY format","ok"),"Entry should be a date in M/D/YYYY format")),IF(OR(L23="no",L23="n"),IF(ISBLANK(M23),"ok","No entry should be made in cell"),IF(ISBLANK(M23),"ok","No entry should be made in cell")))))) | BH23: =IF(COUNTA($C23:$AU23)=0,"",IF(H23="d","ok",IF(ISBLANK(N23),"Empty cell",IF(N23="yes","ok",IF(N23="y","ok",IF(N23="no","ok",IF(N23="n","ok","Entry should be either 'yes', 'y', 'no' or 'n'"))))))) | BI23: =IF(COUNTA($C23:$AU23)=0,"",IF(H23="d","ok",IF(ISBLANK(N23),IF(ISBLANK(O23),"ok","Exemption question not answered"),IF(OR(N23="yes",N23="y"),IF(ISBLANK(O23),"Empty cell",IF(ISNUMBER(O23),IF(O23<1,"Entry should be a date in M/D/YYYY format","ok"),"Entry should be a date in M/D/YYYY format")),IF(OR(N23="no",N23="n"),IF(ISBLANK(O23),"ok","No entry should be made in cell"),IF(ISBLANK(O23),"ok","No entry should be made in cell")))))) | BJ23: =IF(COUNTA($C23:$AU23)=0,"","ok") | BK23: =IF(COUNTA($C23:$AU23)=0,"","ok") | BL23: =IF(COUNTA($C23:$AU23)=0,"",IF(H23="d","ok",IF(ISBLANK($R23),"Empty cell",IF(ISNUMBER($R23),IF($R23>0,"ok","Entry should be greater than 0"),"Entry should be a number")))) | BM23: =IF(COUNTA($C23:$AU23)=0,"",IF(H23="d","ok",IF(ISBLANK($S23),"Empty cell",IF(ISNUMBER($S23),IF($S23>0,"ok","Entry should be greater than 0"),"Entry should be a number")))) | BN23: =IF(COUNTA($C23:$AU23)=0,"",IF(H23="d","ok",IF(ISBLANK($T23),"Empty cell",IF(ISNUMBER($T23)=FALSE,"Entry should be a positive integer",IF($T23<1,"Entry should be a positive integer",IF($T23=INT($T23),"ok","Entry should be a positive integer")))))) | BO23: =IF(COUNTA($C23:$AU23)=0,"",IF(H23="d","ok",IF(ISBLANK(U23),"Empty cell",IF(U23="yes","ok",IF(U23="y","ok",IF(U23="no","ok",IF(U23="n","ok","Entry should be either 'yes', 'y', 'no' or 'n'"))))))) | BP23: =IF(COUNTA($C23:$AU23)=0,"",IF($H23="d","ok",IF(ISBLANK(U23),IF(ISBLANK(V23),"ok","Soil sensor question not answered"),IF(OR(U23="yes",U23="y"),IF(ISBLANK(V23),"Empty cell",IF(ISNUMBER(V23),IF(INT(V23)=V23,IF(V23<=0,"Entry should be a positive integer","ok"),"Entry should be a positive integer"),"Entry should be a positive integer")),IF(OR(U23="no",U23="n"),IF(ISBLANK(V23),"ok","No entry should be made in cell"),IF(ISBLANK(V23),"ok","No entry should be made in cell")))))) | BQ23: =IF(COUNTA($C23:$AU23)=0,"",IF(H23="d","ok",IF(ISBLANK($W23),"Empty cell",IF(ISNUMBER($W23),IF($W23>0,"ok","Entry should be greater than 0"),"Entry should be a number")))) | BR23: =IF(COUNTA($C23:$AU23)=0,"",IF($H23="d","ok",IF(ISBLANK($X23),"Empty cell","ok"))) | BS23: =IF(COUNTA($C23:$AU23)=0,"",IF(H23="d","ok",IF(ISBLANK(Y23),"Empty cell",IF(Y23="yes","ok",IF(Y23="y","ok",IF(Y23="no","ok",IF(Y23="n","ok","Entry should be either 'yes', 'y', 'no' or 'n'"))))))) | BT23: =IF(COUNTA($C23:$AU23)=0,"",IF($H23="d","ok",IF(ISBLANK($Z23),"Empty cell","ok"))) | BU23: =IF(COUNTA($C23:$AU23)=0,"",IF(H23="d","ok",IF(ISBLANK(AA23),"Empty cell",IF(AA23="C","ok",IF(AA23="D","ok","Entry should be either 'C' or 'D''"))))) | BV23: =IF(COUNTA($C23:$AU23)=0,"",IF($H23="d","ok",IF(ISBLANK(AB23),"Empty cell",IF(AB23="yes","ok",IF(AB23="y","ok",IF(AB23="no","ok",IF(AB23="n","ok","Entry should be either 'yes', 'y', 'no' or 'n'"))))))) | BW23: =IF(COUNTA($C23:$AU23)=0,"",IF($H23="d","ok",IF(ISBLANK($AB23),IF(ISBLANK(AC23),"ok","Built-In Water Softening System question not answered"),IF(OR($AB23="yes",$AB23="y"),IF(ISBLANK(AC23),"Empty cell",IF(ISNUMBER(AC23),IF(AC23<=0,"Entry should be a positive number","ok"),"Entry should be a positive number")),IF(OR($AB23="no",$AB23="n"),IF(ISBLANK(AC23),"ok","No entry should be made in cell"),IF(ISBLANK(AC23),"ok","No entry should be made in cell")))))) | BX23: =IF(COUNTA($C23:$AU23)=0,"",IF($H23="d","ok",IF(ISBLANK($AB23),IF(ISBLANK(AD23),"ok","Built-In Water Softening System question not answered"),IF(OR($AB23="yes",$AB23="y"),IF(ISBLANK(AD23),"Empty cell",IF(ISNUMBER(AD23),IF(AD23<=0,"Entry should be a positive number","ok"),"Entry should be a positive number")),IF(OR($AB23="no",$AB23="n"),IF(ISBLANK(AD23),"ok","No entry should be made in cell"),IF(ISBLANK(AD23),"ok","No entry should be made in cell")))))) | BY23: =IF(COUNTA($C23:$AU23)=0,"",IF($H23="d","ok",IF(ISBLANK($AB23),IF(ISBLANK(AE23),"ok","Built-In Water Softening System question not answered"),IF(OR($AB23="yes",$AB23="y"),IF(ISBLANK(AE23),"Empty cell",IF(ISNUMBER(AE23),IF(INT(AE23)=AE23,IF(AE23<=0,"Entry should be a positive integer","ok"),"Entry should be a positive integer"),"Entry should be a positive integer")),IF(OR($AB23="no",$AB23="n"),IF(ISBLANK(AE23),"ok","No entry should be made in cell"),IF(ISBLANK(AE23),"ok","No entry should be made in cell")))))) | BZ23: =IF(COUNTA($C23:$AU23)=0,"",IF($H23="d","ok",IF(ISBLANK($AB23),IF(ISBLANK(AF23),"ok","Built-In Water Softening System question not answered"),IF(OR($AB23="yes",$AB23="y"),IF(ISBLANK(AF23),"Empty cell","ok"),IF(OR($AB23="no",$AB23="n"),IF(ISBLANK(AF23),"ok","No entry should be made in cell"),IF(ISBLANK(AF23),"ok","No entry should be made in cell")))))) | CA23: =IF(COUNTA($C23:$AU23)=0,"",IF(ISBLANK(AG23),"ok",IF(AG23="yes","ok",IF(AG23="y","ok",IF(AG23="no","ok",IF(AG23="n","ok","Entry should be either 'yes', 'y', 'no' or 'n'")))))) | CB23: =IF(COUNTA($C23:$AU23)=0,"",IF($H23="d","ok",IF(ISBLANK($AG23),IF(ISBLANK(AH23),"ok","Water Re-Use System question not answered"),IF(OR($AG23="yes",$AG23="y"),IF(ISBLANK(AH23),"ok",IF(ISNUMBER(AH23),IF(AH23<=0,"Entry should be a positive number","ok"),"Entry should be a positive number")),IF(OR($AG23="no",$AG23="n"),IF(ISBLANK(AH23),"ok","No entry should be made in cell"),IF(ISBLANK(AH23),"ok","No entry should be made in cell")))))) | CC23: =IF(COUNTA($C23:$AU23)=0,"",IF($H23="d","ok",IF(ISBLANK($AG23),IF(ISBLANK(AI23),"ok","Water Re-Use System question not answered"),IF(OR($AG23="yes",$AG23="y"),IF(ISBLANK(AI23),"ok",IF(ISNUMBER(AI23),IF(AI23<=0,"Entry should be a positive number","ok"),"Entry should be a positive number")),IF(OR($AG23="no",$AG23="n"),IF(ISBLANK(AI23),"ok","No entry should be made in cell"),IF(ISBLANK(AI23),"ok","No entry should be made in cell")))))) | CD23: =IF(COUNTA($C23:$AU23)=0,"",IF($H23="d","ok",IF(ISBLANK($AG23),IF(ISBLANK(AJ23),"ok","Water Re-Use System question not answered"),IF(OR($AG23="yes",$AG23="y"),IF(ISBLANK(AJ23),"ok",IF(ISNUMBER(AJ23),IF(INT(AJ23)=AJ23,IF(AJ23<=0,"Entry should be a positive integer","ok"),"Entry should be a positive integer"),"Entry should be a positive integer")),IF(OR($AG23="no",$AG23="n"),IF(ISBLANK(AJ23),"ok","No entry should be made in cell"),IF(ISBLANK(AJ23),"ok","No entry should be made in cell")))))) | CE23: =IF(COUNTA($C23:$AU23)=0,"",IF($H23="d","ok",IF(ISBLANK($AG23),IF(ISBLANK(AK23),"ok","Water Re-Use System question not answered"),IF(OR($AG23="yes",$AG23="y"),IF(ISBLANK(AK23),"ok",IF(ISNUMBER(AK23),IF(AK23<=0,"Entry should be a positive number","ok"),"Entry should be a positive number")),IF(OR($AG23="no",$AG23="n"),IF(ISBLANK(AK23),"ok","No entry should be made in cell"),IF(ISBLANK(AK23),"ok","No entry should be made in cell")))))) | CF23: =IF(COUNTA($C23:$AU23)=0,"",IF($H23="d","ok",IF(ISBLANK($AG23),IF(ISBLANK(AL23),"ok","Water Re-Use System question not answered"),IF(OR($AG23="yes",$AG23="y"),IF(ISBLANK(AL23),"Empty cell",IF(ISNUMBER(AL23),IF(AL23<=0,"Entry should be a positive number","ok"),"Entry should be a positive number")),IF(OR($AG23="no",$AG23="n"),IF(ISBLANK(AL23),"ok","No entry should be made in cell"),IF(ISBLANK(AL23),"ok","No entry should be made in cell")))))) | CG23: =IF(COUNTA($C23:$AU23)=0,"",IF($H23="d","ok",IF(ISBLANK($AG23),IF(ISBLANK(AM23),"ok","Water Re-Use System question not answered"),IF(OR($AG23="yes",$AG23="y"),IF(ISBLANK(AM23),"ok",IF(ISNUMBER(AM23),IF(INT(AM23)=AM23,IF(AM23<=0,"Entry should be a positive integer","ok"),"Entry should be a positive integer"),"Entry should be a positive integer")),IF(OR($AG23="no",$AG23="n"),IF(ISBLANK(AM23),"ok","No entry should be made in cell"),IF(ISBLANK(AM23),"ok","No entry should be made in cell")))))) | CH23: =IF(COUNTA($C23:$AU23)=0,"",IF($H23="d","ok",IF(ISBLANK($AG23),IF(ISBLANK(AN23),"ok","Water Re-Use System question not answered"),IF(OR($AG23="yes",$AG23="y"),IF(ISBLANK(AN23),"ok",IF(ISNUMBER(AN23),IF(AN23<=0,"Entry should be a positive number","ok"),"Entry should be a positive number")),IF(OR($AG23="no",$AG23="n"),IF(ISBLANK(AN23),"ok","No entry should be made in cell"),IF(ISBLANK(AN23),"ok","No entry should be made in cell")))))) | CI23: =IF(COUNTA($C23:$AU23)=0,"",IF($H23="d","ok",IF(ISBLANK($AG23),IF(ISBLANK(AO23),"ok","Water Re-Use System question not answered"),IF(OR($AG23="yes",$AG23="y"),IF(ISBLANK(AO23),"ok","ok"),IF(OR($AG23="no",$AG23="n"),IF(ISBLANK(AO23),"ok","No entry should be made in cell"),IF(ISBLANK(AO23),"ok","No entry should be made in cell")))))) | CJ23: =IF(COUNTA($C23:$AU23)=0,"",IF($H23="d","ok",IF(ISBLANK(AP23),"ok",IF(AP23="yes","ok",IF(AP23="y","ok",IF(AP23="no","ok",IF(AP23="n","ok","Entry should be either 'yes', 'y', 'no' or 'n'"))))))) | CK23: =IF(COUNTA($C23:$AU23)=0,"",IF($H23="d","ok",IF(ISBLANK($AP23),IF(ISBLANK(AQ23),"ok","Built-in Reservoir question not answered"),IF(OR($AP23="yes",$AP23="y"),IF(ISBLANK(AQ23),"ok",IF(ISNUMBER(AQ23),IF(AQ23<=0,"Entry should be a positive number","ok"),"Entry should be a positive number")),IF(OR($AP23="no",$AP23="n"),IF(ISBLANK(AQ23),"ok","No entry should be made in cell"),IF(ISBLANK(AQ23),"ok","No entry should be made in cell")))))) | CL23: =IF(COUNTA($C23:$AU23)=0,"",IF($H23="d","ok",IF(ISBLANK($AP23),IF(ISBLANK(AR23),"ok","Built-in Reservoir question not answered"),IF(OR($AP23="yes",$AP23="y"),IF(ISBLANK(AR23),"ok",IF(ISNUMBER(AR23),IF(AR23<0,"Entry should be a number >= 0","ok"),"Entry should be a number >= 0")),IF(OR($AP23="no",$AP23="n"),IF(ISBLANK(AR23),"ok","No entry should be made in cell"),IF(ISBLANK(AR23),"ok","No entry should be made in cell")))))) | CM23: =IF(COUNTA($C23:$AU23)=0,"",IF($H23="d","ok",IF(ISBLANK($AP23),IF(ISBLANK(AS23),"ok","Built-in Reservoir question not answered"),IF(OR($AP23="yes",$AP23="y"),IF(ISBLANK(AS23),"ok",IF(ISNUMBER(AS23),IF(AS23<=0,"Entry should be a positive number","ok"),"Entry should be a positive number")),IF(OR($AP23="no",$AP23="n"),IF(ISBLANK(AS23),"ok","No entry should be made in cell"),IF(ISBLANK(AS23),"ok","No entry should be made in cell")))))) | CN23: =IF(COUNTA($C23:$AU23)=0,"",IF($H23="d","ok",IF(ISBLANK($AP23),IF(ISBLANK(AT23),"ok","Built-in Reservoir question not answered"),IF(OR($AP23="yes",$AP23="y"),IF(ISBLANK(AT23),"ok",IF(ISNUMBER(AT23),IF(AT23<=0,"Entry should be a positive number","ok"),"Entry should be a positive number")),IF(OR($AP23="no",$AP23="n"),IF(ISBLANK(AT23),"ok","No entry should be made in cell"),IF(ISBLANK(AT23),"ok","No entry should be made in cell")))))) | CO23: =IF(COUNTA($C23:$AU23)=0,"",IF(H23="d","ok",IF(ISBLANK(AU23),"Empty cell",IF(OR(LEFT(AU23,7)="http://",LEFT(AU23,8)="https://",LEFT(AU23,6)="ftp://",LEFT(AU23,7)="sftp://",AU23="By annual report date"),"ok","Entry must begin with http://, https://, ftp:// or sftp://or be 'By annual report date'")))) | CV23: =IF(BC23="ok",VLOOKUP(I23,PrClDesc,2),"") | CX23: aaaaaa
