Workbook
Name INPUT: [1]Input!$C$10:$V$109
Name INPUT: Input!$C$10:$AU$109
Name No_of_Columns: [1]Input!$AV$10
Name No_of_Columns: Input!$CT$10
Name No_of_Product_Classes: [1]Input!$AV$11
Name No_of_Product_Classes: Input!$CT$11
Name PrClDesc: '[1]Product Group Codes'!$A$4:$B$28
Name PrClDesc: 'Product Group Codes'!$A$4:$B$5

Sheet Certification
A1: OMB Control Number: 1910-1400 (Expiration Date: September 30, 2024) OMB Control Number: 3084-0069 (Expiration Date: April 30, 2027) | L1: Version 5.6 | P1: 13
A2: DOE F 220.8 | N2: Certifier | O2: Submitter | P2: 17
A3: =D3 -> Dishwashers | C3: Product Type: | D3: Dishwashers | J3: Status of This Certification Sheet | K3: =IF(AND(COUNTIF(D11,"Please enter required data")+COUNTIF(K11,"Please enter required data")+COUNTIF(E16:E20,"Please enter required data")+COUNTIF(K16:K20,"Please enter required data")+COUNTIF(E26,"Please enter required data")+COUNTIF(K26,"Please enter required data")=14,COUNTIF(K16:K20,"No entry should be made")=0),"No Data",IF(AND(COUNTIF(D11,"Please enter required data")+COUNTIF(K11,"Please enter required data")+COUNTIF(E16:E20,"Please enter required data")+COUNTIF(K16:K20,"Please enter required data")+COUNTIF(E26,"Please enter required data")+COUNTIF(K26,"Please enter required data")=0,COUNTIF(K16:K20,"No entry should be made")=0),"OK","Error")) -> No Data | N3: =N11 -> 0 | O3: =N12 -> 0 | P3: 20
A4: =RIGHT(L1,LEN(L1)-8) -> 5.6 | P4: 10
J5: Overall Status of Template | K5: =IF(OR(K3="Error",Input!E3="Error"),"Error",IF(OR(K3="No Data",Input!E3="No Data"),"No Data","OK")) -> No Data | N5: =IF(N3=1,"U.S. Manufacturer",IF(N3=2,"Importer","No Type")) -> No Type | O5: =IF(O3=1,IF(N3=1,"U.S. Manufacturer",IF(N3=2,"Importer","No Type")),IF(O3=2,"Third Party Representative","No Type")) -> No Type | P5: 20
D6: Click here for instructions for completing this form | P6: 20
P7: 10
A8: Each Importer and U.S. Manufacturer is legally required to certify the compliance of the products it imports, produces, assembles or manufactures. This party is the "Certifier" on this form. This certification may be submitted by the Importer or U.S. manufacturer or by a Third Party Representative. This party is the "Submitter" on this form. | P8: 40
B9: Certifier - Party Legally Obligated to Certify Compliance | H9: Submitter - Party Submitting This Report | P9: 18
B10: The party responsible for certification is (select one only): | H10: The party submitting this report is (select one only): | P10: 18
D11: =IF(OR(N11=1,N11=2),"","Please enter required data") -> Please enter required data | K11: =IF(OR(N12=1,N12=2),"","Please enter required data") -> Please enter required data | N11: 0 | P11: 28
N12: 0 | P12: 28
P13: 13
B14: Certifier Contact Information | H14: Third Party Representative Contact Information, if Applicable | P14: 13
P15: 13
A16: Full Legal Name of Individual | E16: =IF(ISBLANK(D16),"Please enter required data",IF(ISNONTEXT(D16),"Please enter required data","")) -> Please enter required data | G16: Full Legal Name of Individual | K16: =IF($N$12=1,IF(ISBLANK(J16),"","No entry should be made"),IF(ISBLANK(J16),"Please enter required data",IF(ISNONTEXT(J16),"Please enter required data",""))) -> Please enter required data | N16: aaaaaaaaaaaaaaaaa | P16: 23
A17: Full Legal Name of Company | E17: =IF(ISBLANK(D17),"Please enter required data",IF(ISNONTEXT(D17),"Please enter required data","")) -> Please enter required data | G17: Full Legal Name of Company | K17: =IF($N$12=1,IF(ISBLANK(J17),"","No entry should be made"),IF(ISBLANK(J17),"Please enter required data",IF(ISNONTEXT(J17),"Please enter required data",""))) -> Please enter required data | N17: aaaaaaaaaaaaaaaaa | P17: 23
A18: Complete Company Mailing Address | E18: =IF(ISBLANK(D18),"Please enter required data",IF(ISNONTEXT(D18),"Please enter required data","")) -> Please enter required data | G18: Complete Company Mailing Address | K18: =IF($N$12=1,IF(ISBLANK(J18),"","No entry should be made"),IF(ISBLANK(J18),"Please enter required data",IF(ISNONTEXT(J18),"Please enter required data",""))) -> Please enter required data | N18: aaaaaaaaaaaaaaaaa | P18: 23
A19: Phone Number | E19: =IF(ISBLANK(D19),"Please enter required data","") -> Please enter required data | G19: Phone Number | K19: =IF($N$12=1,IF(ISBLANK(J19),"","No entry should be made"),IF(ISBLANK(J19),"Please enter required data","")) -> Please enter required data | N19: aaaaaaaaaaaaaaaaa | P19: 23
A20: Email Address | E20: =IF(IF(ISERROR(FIND("@",D20)),1,0)+IF(ISERROR(FIND(".",D20)),1,0)>0,"Please enter required data"," ") -> Please enter required data | G20: Email Address | K20: =IF($N$12=1,IF(ISBLANK(J20),"","No entry should be made"),IF(IF(ISERROR(FIND("@",J20)),1,0)+IF(ISERROR(FIND(".",J20)),1,0)>0,"Please enter required data"," ")) -> Please enter required data | N20: aaaaaaaaaaaaaaaaa | P20: 23
P21: 13
P22: 13
B23: ="Compliance Statement "&IF(N12=2,"- Third Party Representative", IF(AND(N11=1,N12=1),"- U.S. Manufacturer",IF(AND(N11=2,N12=1),"- Importer",""))) -> Compliance Statement | P23: 17
B24: =IF(N12=0,"Select one of the options for 'Submitter - Party Submitting This Report' above",IF(N12=1,N24,IF(N12=2,O24,"Error in Submitter Type"))) -> Select one of the options for 'Submitter - Party Submitting This Report' above | N24: I certify that: (1) This certification report is submitted in accordance with 10 CFR Parts 429, 430, and 431; 16 CFR 305; and the Energy Policy and Conservation Act, as amended. (2) The basic models listed in this certification report comply with the applicable conservation standard(s); (3) All required testing has been conducted in conformance with the applicable test requirements prescribed in parts 10 CFR Parts 429, 430 and 431, as appropriate, or in accordance with the terms of an applicable test procedure waiver; (4) All information reported in this certification report is true, accurate, and complete; and (5) I am aware of the penalties associated with violations of the Energy Policy and Conservation Act (Pub. L. 94-163), as amended by Pub. L. 95-619, Pub. L. 100-12, Pub. L. 100-357, and Pub. L. 102-486 (the Act), the regulations thereunder, and 18 U.S.C. 1001 which prohibits knowingly making false statements to the Federal Government. | O24: I certify that: (1) This certification report is submitted in accordance with 10 CFR Parts 429, 430, and 431; 16 CFR 305; and the Energy Policy and Conservation Act, as amended. (2) An authorization granting me the authority to submit this information on behalf of the Certifier is on file with the U.S. Department of Energy. (3) The basic models listed in this certification report comply with the applicable conservation standard(s); (4) All required testing has been conducted in conformance with the applicable test requirements prescribed in 10 CFR Parts 429, 430 and 431, as appropriate, or in accordance with the terms of an applicable test procedure waiver; (5) All information reported in this certification report is true, accurate, and complete; and (6) I am aware of the penalties associated with violations of the Energy Policy and Conservation Act (Pub. L. 94-163), as amended by Pub. L. 95-619, Pub. L. 100-12, Pub. L. 100-357, and Pub. L. 102-486 (the Act), the regulations thereunder, and 18 U.S.C. 1001 which prohibits knowingly making false statements to the Federal Government. | P24: 115
P25: 6
B26: Submitter Signature (Type your Full Legal Name) | E26: =IF(ISBLANK(D26),"Please enter required data",IF(ISNONTEXT(D26),"Please enter required data","")) -> Please enter required data | I26: Date (MM/DD/YYYY) | K26: =IF(ISNUMBER(J26),"","Please enter required data") -> Please enter required data | P26: 38
P27: 13
P28: 13
P29: 13
B30: OMB Control Number: 1910-1400 (Expiration Date: September 30, 2024) | P30: 13
P31: 13
B32: Paperwork Reduction Act Statement | P32: 13
B33: OMB Burden Disclosure Statement | P33: 13
P34: 13
B35: This data is being collected for manufacturers to certify compliance to DOE's energy conservation, water conservation, or design standards. The data you supply will be used by the Department to monitor compliance with the energy conservation, water conservation, and design standards and testing requirements for the consumer products and commercial and industrial equipment mandated by the Energy Policy and Conservation Act, as amended. Public reporting burden for this collection of information is estimated to average 35 hours per response, including the time for reviewing instructions, searching existing data sources, gathering and maintaining the data needed, and completing and reviewing the collection of information. Send comments regarding this burden estimate or any other aspect of this collection of information, including suggestions for reducing this burden, to Office of the Chief Information Officer, Records Management Division, IM-23, Paperwork Reduction Project (1910-1400), U.S. Department of Energy, 1000 Independence Ave SW, Washington, DC, 20585-1290; and to the Office of Management and Budget (OMB), OIRA, Paperwork Reduction Project (1910-1400), Washington, DC 20503. Notwithstanding any other provision of the law, no person is required to respond to, nor shall any person be subject to a penalty for failure to comply with a collection of information subject to the requirements of the Paperwork Reduction Act unless that collection of information displays a currently valid OMB control number. Submission of this data is mandatory. | P35: 185
P36: 13
B37: OMB Control Number: 3084-0069 (Expiration Date: April 30, 2027) | P37: 13
P38: 13
B39: Paperwork Reduction Act Statement | P39: 13
B40: OMB Burden Disclosure Statement | P40: 13
...

Sheet Input
A1: =Certification!A3 -> Dishwashers | B1: =Certification!D3 -> Dishwashers | I1: =Certification!L1 -> Version 5.6 | L1: · Please enter your data in the columns shaded in gray below, using a separate line for each model. · Click on the column heading for instructions on how to complete cells in that column. · Cells highlighted in yellow indicate an "Error." "Error" means that information is missing or there is an issue with the entry. · If the "Status" for a row is "Error," you can see an explanation in the columns to the far right.
A2: =Certification!A4 -> 5.6
B3: Status of This Input Sheet | E3: =IF(COUNTA(INPUT)=0,"No Data",IF(COUNTIF(B10:B109,"Error")>0,"Error","OK")) -> No Data | F3: Overall Status of Template | H3: =Certification!K5 -> No Data
B5: Certification Report | F5: Click here for instructions for completing this form | AW5: The cells below provide an explanation for "Errors". | BB5: The cells below provide an explanation for "Errors". | BF5: The cells below provide an explanation for "Errors". | BI5: The cells below provide an explanation for "Errors". | BN5: The cells below provide an explanation for "Errors". | BQ5: The cells below provide an explanation for "Errors". | BV5: The cells below provide an explanation for "Errors". | BZ5: The cells below provide an explanation for "Errors". | CD5: The cells below provide an explanation for "Errors". | CH5: The cells below provide an explanation for "Errors". | CL5: The cells below provide an explanation for "Errors".
AG7: Entry in the Columns Below is Optional | AU7: By annual report date
A8: Line No. | B8: Status | C8: Manufacturer | E8: Brand Name(s) | F8: Basic Model Number | G8: Individual Model Number Covered by Basic Model | H8: Action | I8: Product Group Code | K8: Sample Size (Number of Units Tested) | L8: Is the Certification for this Basic Model Based on a Waiver of DOE's Test Procedure Requirements? | M8: Date of Test Procedure Waiver, if Applicable | N8: Is the Certification based upon any Exception Relief from an Applicable Standard by DOE's Office of Hearing and Appeals? | O8: Date of Exception Relief, if Applicable | R8: Estimated Annual Energy Use (kWh/year) | S8: Water Consumption (Gallons per Cycle) | T8: Capacity (Number of Place Settings) | U8: Does the Dishwasher Have a Soil Sensor? | V8: If Soil-Sensing, the Number of Cycles Required to Reach Calibration | W8: Water Inlet Temperature Used for Testing (Degrees F) | X8: Cycle Selected for Energy Testing | Y8: Is the Selected Test Cycle Soil-Sensing? | Z8: Options Selected for Energy Testing | AA8: Was Testing Conducted Using Cascade Complete Powder or Cascade with the Grease Fighting Power of Dawn Powder? | AB8: Does the Dishwasher Have a Built-In Water Softening System? | AC8: Complete the Cells Below for Dishwashers with Built-In Water Softening Systems Only | AG8: Is this a Water Re-Use System Dishwasher? | AH8: Complete the Cells Below for Water Re-Use System Dishwashers Only | AP8: Does the Dishwasher have a Built-in Reservoir? | AQ8: Complete the Cells Below for Dishwashers with Built-In Reservoirs Only | AU8: Link to EnergyGuide Label Website (Enter link or, if submitting link later, enter 'By annual report date')
AC9: Energy Use Required for Each Regeneration of the Water Softening System (kWh) | AD9: Water Use Required for Each Regeneration of the Water Softening System (Gallons) | AE9: Number of Regeneration Cycles per Year | AF9: What Data and Calculations Were Used to Derive the Values Input for: Energy Use, Water Use, and the Maximum Number of Regeneration Cycles per Year? | AH9: Energy Use Required for a Drain Out Event (kWh) | AI9: Water Use Required for a Drain Out Event (Gallons) | AJ9: Number of Drain Out Events per Year | AK9: Energy Use Required for a Clean Out Event (kWh) | AL9: Water Use Required for a Clean Out Event (Gal) | AM9: Number of Clean Out Events per Year | AN9: Water Fill Volume to Calculate Detergent Dosage (Gallons) | AO9: What Data and Calculations Were Used to Derive the Values Input for: Energy and Water Use for Drain Out and Clean Out Events, Numbers of Drain Out and Clean Out Events per Year, and Water Fill Volume? | AQ9: Manufacturer Stated Reservoir Capacity (Gallons) | AR9: Prewash Fill Water Volume (Gallons) | AS9: Main Wash Fill Water Volume (Gallons) | AT9: Reservoir Water Consumption (Gallons per Cycle) | AW9: =C8&" Status" -> Manufacturer Status | AX9: =D9&" Status" -> Status | AY9: =E8&" Status" -> Brand Name(s) Status | AZ9: =F8&" Status" -> Basic Model Number Status | BA9: =G8&" Status" -> Individual Model Number Covered by Basic Model Status | BB9: =H8&" Status" -> Action Status | BC9: =I8&" Status" -> Product Group Code Status | BD9: =J9&" Status" -> Status | BE9: =K8&" Status" -> Sample Size (Number of Units Tested) Status | BF9: =L8&" Status" -> Is the Certification for this Basic Model Based on a Waiver of DOE's Test Procedure Requirements? Status | BG9: =M8&" Status" -> Date of Test Procedure Waiver, if Applicable Status | BH9: =N8&" Status" -> Is the Certification based upon any Exception Relief from an Applicable Standard by DOE's Office of Hearing and Appeals? Status | BI9: =O8&" Status" -> Date of Exception Relief, if Applicable Status | BJ9: =P9&" Status" -> Status | BK9: =Q9&" Status" -> Status | BL9: =R8&" Status" -> Estimated Annual Energy Use (kWh/year) Status | BM9: =S8&" Status" -> Water Consumption (Gallons per Cycle) Status | BN9: =T8&" Status" -> Capacity (Number of Place Settings) Status | BO9: =U8&" Status" -> Does the Dishwasher Have a Soil Sensor? Status | BP9: =V8&" Status" -> If Soil-Sensing, the Number of Cycles Required to Reach Calibration Status | BQ9: =W8&" Status" -> Water Inlet Temperature Used for Testing (Degrees F) Status | BR9: =X8&" Status" -> Cycle Selected for Energy Testing Status | BS9: =Y8&" Status" -> Is the Selected Test Cycle Soil-Sensing? Status | ... BV9: =AB8&" Status" -> Does the Dishwasher Have a Built-In Water Softening System? Status | BW9: =AC9&" Status" -> Energy Use Required for Each Regeneration of the Water Softening System (kWh) Status | BX9: =AD9&" Status" -> Water Use Required for Each Regeneration of the Water Softening System (Gallons) Status | BY9: =AE9&" Status" -> Number of Regeneration Cycles per Year Status | BZ9: =AF9&" Status" -> What Data and Calculations Were Used to Derive the Values Input for: Energy Use, Water Use, and the Maximum Number of Regeneration Cycles per Year? Status | CA9: =AG8&" Status" -> Is this a Water Re-Use System Dishwasher? Status | CB9: =AH9&" Status" -> Energy Use Required for a Drain Out Event (kWh) Status | CC9: =AI9&" Status" -> Water Use Required for a Drain Out Event (Gallons) Status | CD9: =AJ9&" Status" -> Number of Drain Out Events per Year Status | CE9: =AK9&" Status" -> Energy Use Required for a Clean Out Event (kWh) Status | CF9: =AL9&" Status" -> Water Use Required for a Clean Out Event (Gal) Status | CG9: =AM9&" Status" -> Number of Clean Out Events per Year Status | CH9: =AN9&" Status" -> Water Fill Volume to Calculate Detergent Dosage (Gallons) Status | CI9: =AO9&" Status" -> What Data and Calculations Were Used to Derive the Values Input for: Energy and Water Use for Drain Out and Clean Out Events, Numbers of Drain Out and Clean Out Events per Year, and Water Fill Volume? Status | CJ9: =AP8&" Status" -> Does the Dishwasher have a Built-in Reservoir? Status | CK9: =AQ9&" Status" -> Manufacturer Stated Reservoir Capacity (Gallons) Status | CL9: =AR9&" Status" -> Prewash Fill Water Volume (Gallons) Status | CM9: =AS9&" Status" -> Main Wash Fill Water Volume (Gallons) Status | CN9: =AT9&" Status" -> Reservoir Water Consumption (Gallons per Cycle) Status | CO9: =AU8&" Status" -> Link to EnergyGuide Label Website (Enter link or, if submitting link later, enter 'By annual report date') Status | CS9: The cells below will not be changeable or visible in the final version, but show the ability to modify template easily for additional product classes or for changes in required factors. | CV9: Product Group Code Description | CX9: Do not change this column's width. Entries below force row height to be at least 2 lines
A10: 1 | B10: =IF(COUNTIF(AW10:CO10,"")=No_of_Columns,"",IF(COUNTIF(AW10:CO10,"ok")=No_of_Columns,"ok","Error")) | AW10: =IF(COUNTA($C10:$AU10)=0,"",IF(ISBLANK($C10),"Empty cell","ok")) | AX10: =IF(COUNTA($C10:$AU10)=0,"","ok") | AY10: =IF(COUNTA($C10:$AU10)=0,"",IF(ISBLANK($E10),"Empty cell","ok")) | AZ10: =IF(COUNTA($C10:$AU10)=0,"",IF(ISBLANK($F10),"Empty cell","ok")) | BA10: =IF(COUNTA($C10:$AU10)=0,"",IF(ISBLANK($G10),"Empty cell","ok")) | BB10: =IF(COUNTA($C10:$AU10)=0,"",IF(ISBLANK($H10),"Empty cell",IF(OR($H10="n",$H10="d",$H10="c",$H10="e",$H10="f"),"ok","Should be n, d, c, e, or f"))) | BC10: =IF(COUNTA($C10:$AU10)=0,"",IF(ISBLANK($I10),"Empty cell",IF($I10<1,"Prod. Gr. Code should be an int. betw. 1 and "&No_of_Product_Classes,IF($I10>No_of_Product_Classes,"Prod. Gr. Code should be an int. betw. 1 and "&No_of_Product_Classes,IF($I10=INT($I10),"ok","Prod. Gr. Code should be an int. betw. 1 and "&No_of_Product_Classes))))) | BD10: =IF(COUNTA($C10:$AU10)=0,"","ok") | BE10: =IF(COUNTA($C10:$AU10)=0,"",IF(H10="d","ok",IF(ISBLANK($K10),"Empty cell",IF(ISNUMBER(K10)=FALSE,"Entry should be a positive integer",IF($K10<1,"Entry should be a positive integer",IF($K10=INT($K10),"ok","Entry should be a positive integer")))))) | BF10: =IF(COUNTA($C10:$AU10)=0,"",IF(H10="d","ok",IF(ISBLANK(L10),"Empty cell",IF(L10="yes","ok",IF(L10="y","ok",IF(L10="no","ok",IF(L10="n","ok","Entry should be either 'yes', 'y', 'no' or 'n'"))))))) | BG10: =IF(COUNTA($C10:$AU10)=0,"",IF(H10="d","ok",IF(ISBLANK(L10),IF(ISBLANK(M10),"ok","Waiver question not answered"),IF(OR(L10="yes",L10="y"),IF(ISBLANK(M10),"Empty cell",IF(ISNUMBER(M10),IF(M10<1,"Entry should be a date in M/D/YYYY format","ok"),"Entry should be a date in M/D/YYYY format")),IF(OR(L10="no",L10="n"),IF(ISBLANK(M10),"ok","No entry should be made in cell"),IF(ISBLANK(M10),"ok","No entry should be made in cell")))))) | BH10: =IF(COUNTA($C10:$AU10)=0,"",IF(H10="d","ok",IF(ISBLANK(N10),"Empty cell",IF(N10="yes","ok",IF(N10="y","ok",IF(N10="no","ok",IF(N10="n","ok","Entry should be either 'yes', 'y', 'no' or 'n'"))))))) | BI10: =IF(COUNTA($C10:$AU10)=0,"",IF(H10="d","ok",IF(ISBLANK(N10),IF(ISBLANK(O10),"ok","Exemption question not answered"),IF(OR(N10="yes",N10="y"),IF(ISBLANK(O10),"Empty cell",IF(ISNUMBER(O10),IF(O10<1,"Entry should be a date in M/D/YYYY format","ok"),"Entry should be a date in M/D/YYYY format")),IF(OR(N10="no",N10="n"),IF(ISBLANK(O10),"ok","No entry should be made in cell"),IF(ISBLANK(O10),"ok","No entry should be made in cell")))))) | BJ10: =IF(COUNTA($C10:$AU10)=0,"","ok") | BK10: =IF(COUNTA($C10:$AU10)=0,"","ok") | BL10: =IF(COUNTA($C10:$AU10)=0,"",IF(H10="d","ok",IF(ISBLANK($R10),"Empty cell",IF(ISNUMBER($R10),IF($R10>0,"ok","Entry should be greater than 0"),"Entry should be a number")))) | BM10: =IF(COUNTA($C10:$AU10)=0,"",IF(H10="d","ok",IF(ISBLANK($S10),"Empty cell",IF(ISNUMBER($S10),IF($S10>0,"ok","Entry should be greater than 0"),"Entry should be a number")))) | BN10: =IF(COUNTA($C10:$AU10)=0,"",IF(H10="d","ok",IF(ISBLANK($T10),"Empty cell",IF(ISNUMBER($T10)=FALSE,"Entry should be a positive integer",IF($T10<1,"Entry should be a positive integer",IF($T10=INT($T10),"ok","Entry should be a positive integer")))))) | BO10: =IF(COUNTA($C10:$AU10)=0,"",IF(H10="d","ok",IF(ISBLANK(U10),"Empty cell",IF(U10="yes","ok",IF(U10="y","ok",IF(U10="no","ok",IF(U10="n","ok","Entry should be either 'yes', 'y', 'no' or 'n'"))))))) | BP10: =IF(COUNTA($C10:$AU10)=0,"",IF($H10="d","ok",IF(ISBLANK(U10),IF(ISBLANK(V10),"ok","Soil sensor question not answered"),IF(OR(U10="yes",U10="y"),IF(ISBLANK(V10),"Empty cell",IF(ISNUMBER(V10),IF(INT(V10)=V10,IF(V10<=0,"Entry should be a positive integer","ok"),"Entry should be a positive integer"),"Entry should be a positive integer")),IF(OR(U10="no",U10="n"),IF(ISBLANK(V10),"ok","No entry should be made in cell"),IF(ISBLANK(V10),"ok","No entry should be made in cell")))))) | BQ10: =IF(COUNTA($C10:$AU10)=0,"",IF(H10="d","ok",IF(ISBLANK($W10),"Empty cell",IF(ISNUMBER($W10),IF($W10>0,"ok","Entry should be greater than 0"),"Entry should be a number")))) | BR10: =IF(COUNTA($C10:$AU10)=0,"",IF($H10="d","ok",IF(ISBLANK($X10),"Empty cell","ok"))) | BS10: =IF(COUNTA($C10:$AU10)=0,"",IF(H10="d","ok",IF(ISBLANK(Y10),"Empty cell",IF(Y10="yes","ok",IF(Y10="y","ok",IF(Y10="no","ok",IF(Y10="n","ok","Entry should be either 'yes', 'y', 'no' or 'n'"))))))) | BT10: =IF(COUNTA($C10:$AU10)=0,"",IF($H10="d","ok",IF(ISBLANK($Z10),"Empty cell","ok"))) | BU10: =IF(COUNTA($C10:$AU10)=0,"",IF(H10="d","ok",IF(ISBLANK(AA10),"Empty cell",IF(AA10="C","ok",IF(AA10="D","ok","Entry should be either 'C' or 'D''"))))) | BV10: =IF(COUNTA($C10:$AU10)=0,"",IF($H10="d","ok",IF(ISBLANK(AB10),"Empty cell",IF(AB10="yes","ok",IF(AB10="y","ok",IF(AB10="no","ok",IF(AB10="n","ok","Entry should be either 'yes', 'y', 'no' or 'n'"))))))) | BW10: =IF(COUNTA($C10:$AU10)=0,"",IF($H10="d","ok",IF(ISBLANK($AB10),IF(ISBLANK(AC10),"ok","Built-In Water Softening System question not answered"),IF(OR($AB10="yes",$AB10="y"),IF(ISBLANK(AC10),"Empty cell",IF(ISNUMBER(AC10),IF(AC10<=0,"Entry should be a positive number","ok"),"Entry should be a positive number")),IF(OR($AB10="no",$AB10="n"),IF(ISBLANK(AC10),"ok","No entry should be made in cell"),IF(ISBLANK(AC10),"ok","No entry should be made in cell")))))) | BX10: =IF(COUNTA($C10:$AU10)=0,"",IF($H10="d","ok",IF(ISBLANK($AB10),IF(ISBLANK(AD10),"ok","Built-In Water Softening System question not answered"),IF(OR($AB10="yes",$AB10="y"),IF(ISBLANK(AD10),"Empty cell",IF(ISNUMBER(AD10),IF(AD10<=0,"Entry should be a positive number","ok"),"Entry should be a positive number")),IF(OR($AB10="no",$AB10="n"),IF(ISBLANK(AD10),"ok","No entry should be made in cell"),IF(ISBLANK(AD10),"ok","No entry should be made in cell")))))) | BY10: =IF(COUNTA($C10:$AU10)=0,"",IF($H10="d","ok",IF(ISBLANK($AB10),IF(ISBLANK(AE10),"ok","Built-In Water Softening System question not answered"),IF(OR($AB10="yes",$AB10="y"),IF(ISBLANK(AE10),"Empty cell",IF(ISNUMBER(AE10),IF(INT(AE10)=AE10,IF(AE10<=0,"Entry should be a positive integer","ok"),"Entry should be a positive integer"),"Entry should be a positive integer")),IF(OR($AB10="no",$AB10="n"),IF(ISBLANK(AE10),"ok","No entry should be made in cell"),IF(ISBLANK(AE10),"ok","No entry should be made in cell")))))) | BZ10: =IF(COUNTA($C10:$AU10)=0,"",IF($H10="d","ok",IF(ISBLANK($AB10),IF(ISBLANK(AF10),"ok","Built-In Water Softening System question not answered"),IF(OR($AB10="yes",$AB10="y"),IF(ISBLANK(AF10),"Empty cell","ok"),IF(OR($AB10="no",$AB10="n"),IF(ISBLANK(AF10),"ok","No entry should be made in cell"),IF(ISBLANK(AF10),"ok","No entry should be made in cell")))))) | CA10: =IF(COUNTA($C10:$AU10)=0,"",IF(ISBLANK(AG10),"ok",IF(AG10="yes","ok",IF(AG10="y","ok",IF(AG10="no","ok",IF(AG10="n","ok","Entry should be either 'yes', 'y', 'no' or 'n'")))))) | CB10: =IF(COUNTA($C10:$AU10)=0,"",IF($H10="d","ok",IF(ISBLANK($AG10),IF(ISBLANK(AH10),"ok","Water Re-Use System question not answered"),IF(OR($AG10="yes",$AG10="y"),IF(ISBLANK(AH10),"ok",IF(ISNUMBER(AH10),IF(AH10<=0,"Entry should be a positive number","ok"),"Entry should be a positive number")),IF(OR($AG10="no",$AG10="n"),IF(ISBLANK(AH10),"ok","No entry should be made in cell"),IF(ISBLANK(AH10),"ok","No entry should be made in cell")))))) | CC10: =IF(COUNTA($C10:$AU10)=0,"",IF($H10="d","ok",IF(ISBLANK($AG10),IF(ISBLANK(AI10),"ok","Water Re-Use System question not answered"),IF(OR($AG10="yes",$AG10="y"),IF(ISBLANK(AI10),"ok",IF(ISNUMBER(AI10),IF(AI10<=0,"Entry should be a positive number","ok"),"Entry should be a positive number")),IF(OR($AG10="no",$AG10="n"),IF(ISBLANK(AI10),"ok","No entry should be made in cell"),IF(ISBLANK(AI10),"ok","No entry should be made in cell")))))) | CD10: =IF(COUNTA($C10:$AU10)=0,"",IF($H10="d","ok",IF(ISBLANK($AG10),IF(ISBLANK(AJ10),"ok","Water Re-Use System question not answered"),IF(OR($AG10="yes",$AG10="y"),IF(ISBLANK(AJ10),"ok",IF(ISNUMBER(AJ10),IF(INT(AJ10)=AJ10,IF(AJ10<=0,"Entry should be a positive integer","ok"),"Entry should be a positive integer"),"Entry should be a positive integer")),IF(OR($AG10="no",$AG10="n"),IF(ISBLANK(AJ10),"ok","No entry should be made in cell"),IF(ISBLANK(AJ10),"ok","No entry should be made in cell")))))) | CE10: =IF(COUNTA($C10:$AU10)=0,"",IF($H10="d","ok",IF(ISBLANK($AG10),IF(ISBLANK(AK10),"ok","Water Re-Use System question not answered"),IF(OR($AG10="yes",$AG10="y"),IF(ISBLANK(AK10),"ok",IF(ISNUMBER(AK10),IF(AK10<=0,"Entry should be a positive number","ok"),"Entry should be a positive number")),IF(OR($AG10="no",$AG10="n"),IF(ISBLANK(AK10),"ok","No entry should be made in cell"),IF(ISBLANK(AK10),"ok","No entry should be made in cell")))))) | CF10: =IF(COUNTA($C10:$AU10)=0,"",IF($H10="d","ok",IF(ISBLANK($AG10),IF(ISBLANK(AL10),"ok","Water Re-Use System question not answered"),IF(OR($AG10="yes",$AG10="y"),IF(ISBLANK(AL10),"ok",IF(ISNUMBER(AL10),IF(AL10<=0,"Entry should be a positive number","ok"),"Entry should be a positive number")),IF(OR($AG10="no",$AG10="n"),IF(ISBLANK(AL10),"ok","No entry should be made in cell"),IF(ISBLANK(AL10),"ok","No entry should be made in cell")))))) | CG10: =IF(COUNTA($C10:$AU10)=0,"",IF($H10="d","ok",IF(ISBLANK($AG10),IF(ISBLANK(AM10),"ok","Water Re-Use System question not answered"),IF(OR($AG10="yes",$AG10="y"),IF(ISBLANK(AM10),"ok",IF(ISNUMBER(AM10),IF(INT(AM10)=AM10,IF(AM10<=0,"Entry should be a positive integer","ok"),"Entry should be a positive integer"),"Entry should be a positive integer")),IF(OR($AG10="no",$AG10="n"),IF(ISBLANK(AM10),"ok","No entry should be made in cell"),IF(ISBLANK(AM10),"ok","No entry should be made in cell")))))) | CH10: =IF(COUNTA($C10:$AU10)=0,"",IF($H10="d","ok",IF(ISBLANK($AG10),IF(ISBLANK(AN10),"ok","Water Re-Use System question not answered"),IF(OR($AG10="yes",$AG10="y"),IF(ISBLANK(AN10),"ok",IF(ISNUMBER(AN10),IF(AN10<=0,"Entry should be a positive number","ok"),"Entry should be a positive number")),IF(OR($AG10="no",$AG10="n"),IF(ISBLANK(AN10),"ok","No entry should be made in cell"),IF(ISBLANK(AN10),"ok","No entry should be made in cell")))))) | CI10: =IF(COUNTA($C10:$AU10)=0,"",IF($H10="d","ok",IF(ISBLANK($AG10),IF(ISBLANK(AO10),"ok","Water Re-Use System question not answered"),IF(OR($AG10="yes",$AG10="y"),IF(ISBLANK(AO10),"ok","ok"),IF(OR($AG10="no",$AG10="n"),IF(ISBLANK(AO10),"ok","No entry should be made in cell"),IF(ISBLANK(AO10),"ok","No entry should be made in cell")))))) | CJ10: =IF(COUNTA($C10:$AU10)=0,"",IF($H10="d","ok",IF(ISBLANK(AP10),"ok",IF(AP10="yes","ok",IF(AP10="y","ok",IF(AP10="no","ok",IF(AP10="n","ok","Entry should be either 'yes', 'y', 'no' or 'n'"))))))) | CK10: =IF(COUNTA($C10:$AU10)=0,"",IF($H10="d","ok",IF(ISBLANK($AP10),IF(ISBLANK(AQ10),"ok","Built-in Reservoir question not answered"),IF(OR($AP10="yes",$AP10="y"),IF(ISBLANK(AQ10),"ok",IF(ISNUMBER(AQ10),IF(AQ10<=0,"Entry should be a positive number","ok"),"Entry should be a positive number")),IF(OR($AP10="no",$AP10="n"),IF(ISBLANK(AQ10),"ok","No entry should be made in cell"),IF(ISBLANK(AQ10),"ok","No entry should be made in cell")))))) | CL10: =IF(COUNTA($C10:$AU10)=0,"",IF($H10="d","ok",IF(ISBLANK($AP10),IF(ISBLANK(AR10),"ok","Built-in Reservoir question not answered"),IF(OR($AP10="yes",$AP10="y"),IF(ISBLANK(AR10),"ok",IF(ISNUMBER(AR10),IF(AR10<0,"Entry should be a number >= 0","ok"),"Entry should be a number >= 0")),IF(OR($AP10="no",$AP10="n"),IF(ISBLANK(AR10),"ok","No entry should be made in cell"),IF(ISBLANK(AR10),"ok","No entry should be made in cell")))))) | CM10: =IF(COUNTA($C10:$AU10)=0,"",IF($H10="d","ok",IF(ISBLANK($AP10),IF(ISBLANK(AS10),"ok","Built-in Reservoir question not answered"),IF(OR($AP10="yes",$AP10="y"),IF(ISBLANK(AS10),"ok",IF(ISNUMBER(AS10),IF(AS10<=0,"Entry should be a positive number","ok"),"Entry should be a positive number")),IF(OR($AP10="no",$AP10="n"),IF(ISBLANK(AS10),"ok","No entry should be made in cell"),IF(ISBLANK(AS10),"ok","No entry should be made in cell")))))) | CN10: =IF(COUNTA($C10:$AU10)=0,"",IF($H10="d","ok",IF(ISBLANK($AP10),IF(ISBLANK(AT10),"ok","Built-in Reservoir question not answered"),IF(OR($AP10="yes",$AP10="y"),IF(ISBLANK(AT10),"ok",IF(ISNUMBER(AT10),IF(AT10<=0,"Entry should be a positive number","ok"),"Entry should be a positive number")),IF(OR($AP10="no",$AP10="n"),IF(ISBLANK(AT10),"ok","No entry should be made in cell"),IF(ISBLANK(AT10),"ok","No entry should be made in cell")))))) | CO10: =IF(COUNTA($C10:$AU10)=0,"",IF(H10="d","ok",IF(ISBLANK(AU10),"Empty cell",IF(OR(LEFT(AU10,7)="http://",LEFT(AU10,8)="https://",LEFT(AU10,6)="ftp://",LEFT(AU10,7)="sftp://",AU10="By annual report date"),"ok","Entry must begin with http://, https://, ftp:// or sftp://or be 'By annual report date'")))) | CS10: Number of Columns | CT10: 45 | CV10: =IF(BC10="ok",VLOOKUP(I10,PrClDesc,2),"") | CX10: aaaaaa
A11: 2 | B11: =IF(COUNTIF(AW11:CO11,"")=No_of_Columns,"",IF(COUNTIF(AW11:CO11,"ok")=No_of_Columns,"ok","Error")) | AW11: =IF(COUNTA($C11:$AU11)=0,"",IF(ISBLANK($C11),"Empty cell","ok")) | AX11: =IF(COUNTA($C11:$AU11)=0,"","ok") | AY11: =IF(COUNTA($C11:$AU11)=0,"",IF(ISBLANK($E11),"Empty cell","ok")) | AZ11: =IF(COUNTA($C11:$AU11)=0,"",IF(ISBLANK($F11),"Empty cell","ok")) | BA11: =IF(COUNTA($C11:$AU11)=0,"",IF(ISBLANK($G11),"Empty cell","ok")) | BB11: =IF(COUNTA($C11:$AU11)=0,"",IF(ISBLANK($H11),"Empty cell",IF(OR($H11="n",$H11="d",$H11="c",$H11="e",$H11="f"),"ok","Should be n, d, c, e, or f"))) | BC11: =IF(COUNTA($C11:$AU11)=0,"",IF(ISBLANK($I11),"Empty cell",IF($I11<1,"Prod. Gr. Code should be an int. betw. 1 and "&No_of_Product_Classes,IF($I11>No_of_Product_Classes,"Prod. Gr. Code should be an int. betw. 1 and "&No_of_Product_Classes,IF($I11=INT($I11),"ok","Prod. Gr. Code should be an int. betw. 1 and "&No_of_Product_Classes))))) | BD11: =IF(COUNTA($C11:$AU11)=0,"","ok") | BE11: =IF(COUNTA($C11:$AU11)=0,"",IF(H11="d","ok",IF(ISBLANK($K11),"Empty cell",IF(ISNUMBER(K11)=FALSE,"Entry should be a positive integer",IF($K11<1,"Entry should be a positive integer",IF($K11=INT($K11),"ok","Entry should be a positive integer")))))) | BF11: =IF(COUNTA($C11:$AU11)=0,"",IF(H11="d","ok",IF(ISBLANK(L11),"Empty cell",IF(L11="yes","ok",IF(L11="y","ok",IF(L11="no","ok",IF(L11="n","ok","Entry should be either 'yes', 'y', 'no' or 'n'"))))))) | BG11: =IF(COUNTA($C11:$AU11)=0,"",IF(H11="d","ok",IF(ISBLANK(L11),IF(ISBLANK(M11),"ok","Waiver question not answered"),IF(OR(L11="yes",L11="y"),IF(ISBLANK(M11),"Empty cell",IF(ISNUMBER(M11),IF(M11<1,"Entry should be a date in M/D/YYYY format","ok"),"Entry should be a date in M/D/YYYY format")),IF(OR(L11="no",L11="n"),IF(ISBLANK(M11),"ok","No entry should be made in cell"),IF(ISBLANK(M11),"ok","No entry should be made in cell")))))) | BH11: =IF(COUNTA($C11:$AU11)=0,"",IF(H11="d","ok",IF(ISBLANK(N11),"Empty cell",IF(N11="yes","ok",IF(N11="y","ok",IF(N11="no","ok",IF(N11="n","ok","Entry should be either 'yes', 'y', 'no' or 'n'"))))))) | BI11: =IF(COUNTA($C11:$AU11)=0,"",IF(H11="d","ok",IF(ISBLANK(N11),IF(ISBLANK(O11),"ok","Exemption question not answered"),IF(OR(N11="yes",N11="y"),IF(ISBLANK(O11),"Empty cell",IF(ISNUMBER(O11),IF(O11<1,"Entry should be a date in M/D/YYYY format","ok"),"Entry should be a date in M/D/YYYY format")),IF(OR(N11="no",N11="n"),IF(ISBLANK(O11),"ok","No entry should be made in cell"),IF(ISBLANK(O11),"ok","No entry should be made in cell")))))) | BJ11: =IF(COUNTA($C11:$AU11)=0,"","ok") | BK11: =IF(COUNTA($C11:$AU11)=0,"","ok") | BL11: =IF(COUNTA($C11:$AU11)=0,"",IF(H11="d","ok",IF(ISBLANK($R11),"Empty cell",IF(ISNUMBER($R11),IF($R11>0,"ok","Entry should be greater than 0"),"Entry should be a number")))) | BM11: =IF(COUNTA($C11:$AU11)=0,"",IF(H11="d","ok",IF(ISBLANK($S11),"Empty cell",IF(ISNUMBER($S11),IF($S11>0,"ok","Entry should be greater than 0"),"Entry should be a number")))) | BN11: =IF(COUNTA($C11:$AU11)=0,"",IF(H11="d","ok",IF(ISBLANK($T11),"Empty cell",IF(ISNUMBER($T11)=FALSE,"Entry should be a positive integer",IF($T11<1,"Entry should be a positive integer",IF($T11=INT($T11),"ok","Entry should be a positive integer")))))) | BO11: =IF(COUNTA($C11:$AU11)=0,"",IF(H11="d","ok",IF(ISBLANK(U11),"Empty cell",IF(U11="yes","ok",IF(U11="y","ok",IF(U11="no","ok",IF(U11="n","ok","Entry should be either 'yes', 'y', 'no' or 'n'"))))))) | BP11: =IF(COUNTA($C11:$AU11)=0,"",IF($H11="d","ok",IF(ISBLANK(U11),IF(ISBLANK(V11),"ok","Soil sensor question not answered"),IF(OR(U11="yes",U11="y"),IF(ISBLANK(V11),"Empty cell",IF(ISNUMBER(V11),IF(INT(V11)=V11,IF(V11<=0,"Entry should be a positive integer","ok"),"Entry should be a positive integer"),"Entry should be a positive integer")),IF(OR(U11="no",U11="n"),IF(ISBLANK(V11),"ok","No entry should be made in cell"),IF(ISBLANK(V11),"ok","No entry should be made in cell")))))) | BQ11: =IF(COUNTA($C11:$AU11)=0,"",IF(H11="d","ok",IF(ISBLANK($W11),"Empty cell",IF(ISNUMBER($W11),IF($W11>0,"ok","Entry should be greater than 0"),"Entry should be a number")))) | BR11: =IF(COUNTA($C11:$AU11)=0,"",IF($H11="d","ok",IF(ISBLANK($X11),"Empty cell","ok"))) | BS11: =IF(COUNTA($C11:$AU11)=0,"",IF(H11="d","ok",IF(ISBLANK(Y11),"Empty cell",IF(Y11="yes","ok",IF(Y11="y","ok",IF(Y11="no","ok",IF(Y11="n","ok","Entry should be either 'yes', 'y', 'no' or 'n'"))))))) | BT11: =IF(COUNTA($C11:$AU11)=0,"",IF($H11="d","ok",IF(ISBLANK($Z11),"Empty cell","ok"))) | BU11: =IF(COUNTA($C11:$AU11)=0,"",IF(H11="d","ok",IF(ISBLANK(AA11),"Empty cell",IF(AA11="C","ok",IF(AA11="D","ok","Entry should be either 'C' or 'D''"))))) | BV11: =IF(COUNTA($C11:$AU11)=0,"",IF($H11="d","ok",IF(ISBLANK(AB11),"Empty cell",IF(AB11="yes","ok",IF(AB11="y","ok",IF(AB11="no","ok",IF(AB11="n","ok","Entry should be either 'yes', 'y', 'no' or 'n'"))))))) | BW11: =IF(COUNTA($C11:$AU11)=0,"",IF($H11="d","ok",IF(ISBLANK($AB11),IF(ISBLANK(AC11),"ok","Built-In Water Softening System question not answered"),IF(OR($AB11="yes",$AB11="y"),IF(ISBLANK(AC11),"Empty cell",IF(ISNUMBER(AC11),IF(AC11<=0,"Entry should be a positive number","ok"),"Entry should be a positive number")),IF(OR($AB11="no",$AB11="n"),IF(ISBLANK(AC11),"ok","No entry should be made in cell"),IF(ISBLANK(AC11),"ok","No entry should be made in cell")))))) | BX11: =IF(COUNTA($C11:$AU11)=0,"",IF($H11="d","ok",IF(ISBLANK($AB11),IF(ISBLANK(AD11),"ok","Built-In Water Softening System question not answered"),IF(OR($AB11="yes",$AB11="y"),IF(ISBLANK(AD11),"Empty cell",IF(ISNUMBER(AD11),IF(AD11<=0,"Entry should be a positive number","ok"),"Entry should be a positive number")),IF(OR($AB11="no",$AB11="n"),IF(ISBLANK(AD11),"ok","No entry should be made in cell"),IF(ISBLANK(AD11),"ok","No entry should be made in cell")))))) | BY11: =IF(COUNTA($C11:$AU11)=0,"",IF($H11="d","ok",IF(ISBLANK($AB11),IF(ISBLANK(AE11),"ok","Built-In Water Softening System question not answered"),IF(OR($AB11="yes",$AB11="y"),IF(ISBLANK(AE11),"Empty cell",IF(ISNUMBER(AE11),IF(INT(AE11)=AE11,IF(AE11<=0,"Entry should be a positive integer","ok"),"Entry should be a positive integer"),"Entry should be a positive integer")),IF(OR($AB11="no",$AB11="n"),IF(ISBLANK(AE11),"ok","No entry should be made in cell"),IF(ISBLANK(AE11),"ok","No entry should be made in cell")))))) | BZ11: =IF(COUNTA($C11:$AU11)=0,"",IF($H11="d","ok",IF(ISBLANK($AB11),IF(ISBLANK(AF11),"ok","Built-In Water Softening System question not answered"),IF(OR($AB11="yes",$AB11="y"),IF(ISBLANK(AF11),"Empty cell","ok"),IF(OR($AB11="no",$AB11="n"),IF(ISBLANK(AF11),"ok","No entry should be made in cell"),IF(ISBLANK(AF11),"ok","No entry should be made in cell")))))) | CA11: =IF(COUNTA($C11:$AU11)=0,"",IF(ISBLANK(AG11),"ok",IF(AG11="yes","ok",IF(AG11="y","ok",IF(AG11="no","ok",IF(AG11="n","ok","Entry should be either 'yes', 'y', 'no' or 'n'")))))) | CB11: =IF(COUNTA($C11:$AU11)=0,"",IF($H11="d","ok",IF(ISBLANK($AG11),IF(ISBLANK(AH11),"ok","Water Re-Use System question not answered"),IF(OR($AG11="yes",$AG11="y"),IF(ISBLANK(AH11),"ok",IF(ISNUMBER(AH11),IF(AH11<=0,"Entry should be a positive number","ok"),"Entry should be a positive number")),IF(OR($AG11="no",$AG11="n"),IF(ISBLANK(AH11),"ok","No entry should be made in cell"),IF(ISBLANK(AH11),"ok","No entry should be made in cell")))))) | CC11: =IF(COUNTA($C11:$AU11)=0,"",IF($H11="d","ok",IF(ISBLANK($AG11),IF(ISBLANK(AI11),"ok","Water Re-Use System question not answered"),IF(OR($AG11="yes",$AG11="y"),IF(ISBLANK(AI11),"ok",IF(ISNUMBER(AI11),IF(AI11<=0,"Entry should be a positive number","ok"),"Entry should be a positive number")),IF(OR($AG11="no",$AG11="n"),IF(ISBLANK(AI11),"ok","No entry should be made in cell"),IF(ISBLANK(AI11),"ok","No entry should be made in cell")))))) | CD11: =IF(COUNTA($C11:$AU11)=0,"",IF($H11="d","ok",IF(ISBLANK($AG11),IF(ISBLANK(AJ11),"ok","Water Re-Use System question not answered"),IF(OR($AG11="yes",$AG11="y"),IF(ISBLANK(AJ11),"ok",IF(ISNUMBER(AJ11),IF(INT(AJ11)=AJ11,IF(AJ11<=0,"Entry should be a positive integer","ok"),"Entry should be a positive integer"),"Entry should be a positive integer")),IF(OR($AG11="no",$AG11="n"),IF(ISBLANK(AJ11),"ok","No entry should be made in cell"),IF(ISBLANK(AJ11),"ok","No entry should be made in cell")))))) | CE11: =IF(COUNTA($C11:$AU11)=0,"",IF($H11="d","ok",IF(ISBLANK($AG11),IF(ISBLANK(AK11),"ok","Water Re-Use System question not answered"),IF(OR($AG11="yes",$AG11="y"),IF(ISBLANK(AK11),"ok",IF(ISNUMBER(AK11),IF(AK11<=0,"Entry should be a positive number","ok"),"Entry should be a positive number")),IF(OR($AG11="no",$AG11="n"),IF(ISBLANK(AK11),"ok","No entry should be made in cell"),IF(ISBLANK(AK11),"ok","No entry should be made in cell")))))) | CF11: =IF(COUNTA($C11:$AU11)=0,"",IF($H11="d","ok",IF(ISBLANK($AG11),IF(ISBLANK(AL11),"ok","Water Re-Use System question not answered"),IF(OR($AG11="yes",$AG11="y"),IF(ISBLANK(AL11),"Empty cell",IF(ISNUMBER(AL11),IF(AL11<=0,"Entry should be a positive number","ok"),"Entry should be a positive number")),IF(OR($AG11="no",$AG11="n"),IF(ISBLANK(AL11),"ok","No entry should be made in cell"),IF(ISBLANK(AL11),"ok","No entry should be made in cell")))))) | CG11: =IF(COUNTA($C11:$AU11)=0,"",IF($H11="d","ok",IF(ISBLANK($AG11),IF(ISBLANK(AM11),"ok","Water Re-Use System question not answered"),IF(OR($AG11="yes",$AG11="y"),IF(ISBLANK(AM11),"ok",IF(ISNUMBER(AM11),IF(INT(AM11)=AM11,IF(AM11<=0,"Entry should be a positive integer","ok"),"Entry should be a positive integer"),"Entry should be a positive integer")),IF(OR($AG11="no",$AG11="n"),IF(ISBLANK(AM11),"ok","No entry should be made in cell"),IF(ISBLANK(AM11),"ok","No entry should be made in cell")))))) | CH11: =IF(COUNTA($C11:$AU11)=0,"",IF($H11="d","ok",IF(ISBLANK($AG11),IF(ISBLANK(AN11),"ok","Water Re-Use System question not answered"),IF(OR($AG11="yes",$AG11="y"),IF(ISBLANK(AN11),"ok",IF(ISNUMBER(AN11),IF(AN11<=0,"Entry should be a positive number","ok"),"Entry should be a positive number")),IF(OR($AG11="no",$AG11="n"),IF(ISBLANK(AN11),"ok","No entry should be made in cell"),IF(ISBLANK(AN11),"ok","No entry should be made in cell")))))) | CI11: =IF(COUNTA($C11:$AU11)=0,"",IF($H11="d","ok",IF(ISBLANK($AG11),IF(ISBLANK(AO11),"ok","Water Re-Use System question not answered"),IF(OR($AG11="yes",$AG11="y"),IF(ISBLANK(AO11),"ok","ok"),IF(OR($AG11="no",$AG11="n"),IF(ISBLANK(AO11),"ok","No entry should be made in cell"),IF(ISBLANK(AO11),"ok","No entry should be made in cell")))))) | CJ11: =IF(COUNTA($C11:$AU11)=0,"",IF($H11="d","ok",IF(ISBLANK(AP11),"ok",IF(AP11="yes","ok",IF(AP11="y","ok",IF(AP11="no","ok",IF(AP11="n","ok","Entry should be either 'yes', 'y', 'no' or 'n'"))))))) | CK11: =IF(COUNTA($C11:$AU11)=0,"",IF($H11="d","ok",IF(ISBLANK($AP11),IF(ISBLANK(AQ11),"ok","Built-in Reservoir question not answered"),IF(OR($AP11="yes",$AP11="y"),IF(ISBLANK(AQ11),"ok",IF(ISNUMBER(AQ11),IF(AQ11<=0,"Entry should be a positive number","ok"),"Entry should be a positive number")),IF(OR($AP11="no",$AP11="n"),IF(ISBLANK(AQ11),"ok","No entry should be made in cell"),IF(ISBLANK(AQ11),"ok","No entry should be made in cell")))))) | CL11: =IF(COUNTA($C11:$AU11)=0,"",IF($H11="d","ok",IF(ISBLANK($AP11),IF(ISBLANK(AR11),"ok","Built-in Reservoir question not answered"),IF(OR($AP11="yes",$AP11="y"),IF(ISBLANK(AR11),"ok",IF(ISNUMBER(AR11),IF(AR11<0,"Entry should be a number >= 0","ok"),"Entry should be a number >= 0")),IF(OR($AP11="no",$AP11="n"),IF(ISBLANK(AR11),"ok","No entry should be made in cell"),IF(ISBLANK(AR11),"ok","No entry should be made in cell")))))) | CM11: =IF(COUNTA($C11:$AU11)=0,"",IF($H11="d","ok",IF(ISBLANK($AP11),IF(ISBLANK(AS11),"ok","Built-in Reservoir question not answered"),IF(OR($AP11="yes",$AP11="y"),IF(ISBLANK(AS11),"ok",IF(ISNUMBER(AS11),IF(AS11<=0,"Entry should be a positive number","ok"),"Entry should be a positive number")),IF(OR($AP11="no",$AP11="n"),IF(ISBLANK(AS11),"ok","No entry should be made in cell"),IF(ISBLANK(AS11),"ok","No entry should be made in cell")))))) | CN11: =IF(COUNTA($C11:$AU11)=0,"",IF($H11="d","ok",IF(ISBLANK($AP11),IF(ISBLANK(AT11),"ok","Built-in Reservoir question not answered"),IF(OR($AP11="yes",$AP11="y"),IF(ISBLANK(AT11),"ok",IF(ISNUMBER(AT11),IF(AT11<=0,"Entry should be a positive number","ok"),"Entry should be a positive number")),IF(OR($AP11="no",$AP11="n"),IF(ISBLANK(AT11),"ok","No entry should be made in cell"),IF(ISBLANK(AT11),"ok","No entry should be made in cell")))))) | CO11: =IF(COUNTA($C11:$AU11)=0,"",IF(H11="d","ok",IF(ISBLANK(AU11),"Empty cell",IF(OR(LEFT(AU11,7)="http://",LEFT(AU11,8)="https://",LEFT(AU11,6)="ftp://",LEFT(AU11,7)="sftp://",AU11="By annual report date"),"ok","Entry must begin with http://, https://, ftp:// or sftp://or be 'By annual report date'")))) | CS11: Number of Product Classes | CT11: 2 | CV11: =IF(BC11="ok",VLOOKUP(I11,PrClDesc,2),"") | CX11: aaaaaa
A12: 3 | B12: =IF(COUNTIF(AW12:CO12,"")=No_of_Columns,"",IF(COUNTIF(AW12:CO12,"ok")=No_of_Columns,"ok","Error")) | AW12: =IF(COUNTA($C12:$AU12)=0,"",IF(ISBLANK($C12),"Empty cell","ok")) | AX12: =IF(COUNTA($C12:$AU12)=0,"","ok") | AY12: =IF(COUNTA($C12:$AU12)=0,"",IF(ISBLANK($E12),"Empty cell","ok")) | AZ12: =IF(COUNTA($C12:$AU12)=0,"",IF(ISBLANK($F12),"Empty cell","ok")) | BA12: =IF(COUNTA($C12:$AU12)=0,"",IF(ISBLANK($G12),"Empty cell","ok")) | BB12: =IF(COUNTA($C12:$AU12)=0,"",IF(ISBLANK($H12),"Empty cell",IF(OR($H12="n",$H12="d",$H12="c",$H12="e",$H12="f"),"ok","Should be n, d, c, e, or f"))) | BC12: =IF(COUNTA($C12:$AU12)=0,"",IF(ISBLANK($I12),"Empty cell",IF($I12<1,"Prod. Gr. Code should be an int. betw. 1 and "&No_of_Product_Classes,IF($I12>No_of_Product_Classes,"Prod. Gr. Code should be an int. betw. 1 and "&No_of_Product_Classes,IF($I12=INT($I12),"ok","Prod. Gr. Code should be an int. betw. 1 and "&No_of_Product_Classes))))) | BD12: =IF(COUNTA($C12:$AU12)=0,"","ok") | BE12: =IF(COUNTA($C12:$AU12)=0,"",IF(H12="d","ok",IF(ISBLANK($K12),"Empty cell",IF(ISNUMBER(K12)=FALSE,"Entry should be a positive integer",IF($K12<1,"Entry should be a positive integer",IF($K12=INT($K12),"ok","Entry should be a positive integer")))))) | BF12: =IF(COUNTA($C12:$AU12)=0,"",IF(H12="d","ok",IF(ISBLANK(L12),"Empty cell",IF(L12="yes","ok",IF(L12="y","ok",IF(L12="no","ok",IF(L12="n","ok","Entry should be either 'yes', 'y', 'no' or 'n'"))))))) | BG12: =IF(COUNTA($C12:$AU12)=0,"",IF(H12="d","ok",IF(ISBLANK(L12),IF(ISBLANK(M12),"ok","Waiver question not answered"),IF(OR(L12="yes",L12="y"),IF(ISBLANK(M12),"Empty cell",IF(ISNUMBER(M12),IF(M12<1,"Entry should be a date in M/D/YYYY format","ok"),"Entry should be a date in M/D/YYYY format")),IF(OR(L12="no",L12="n"),IF(ISBLANK(M12),"ok","No entry should be made in cell"),IF(ISBLANK(M12),"ok","No entry should be made in cell")))))) | BH12: =IF(COUNTA($C12:$AU12)=0,"",IF(H12="d","ok",IF(ISBLANK(N12),"Empty cell",IF(N12="yes","ok",IF(N12="y","ok",IF(N12="no","ok",IF(N12="n","ok","Entry should be either 'yes', 'y', 'no' or 'n'"))))))) | BI12: =IF(COUNTA($C12:$AU12)=0,"",IF(H12="d","ok",IF(ISBLANK(N12),IF(ISBLANK(O12),"ok","Exemption question not answered"),IF(OR(N12="yes",N12="y"),IF(ISBLANK(O12),"Empty cell",IF(ISNUMBER(O12),IF(O12<1,"Entry should be a date in M/D/YYYY format","ok"),"Entry should be a date in M/D/YYYY format")),IF(OR(N12="no",N12="n"),IF(ISBLANK(O12),"ok","No entry should be made in cell"),IF(ISBLANK(O12),"ok","No entry should be made in cell")))))) | BJ12: =IF(COUNTA($C12:$AU12)=0,"","ok") | BK12: =IF(COUNTA($C12:$AU12)=0,"","ok") | BL12: =IF(COUNTA($C12:$AU12)=0,"",IF(H12="d","ok",IF(ISBLANK($R12),"Empty cell",IF(ISNUMBER($R12),IF($R12>0,"ok","Entry should be greater than 0"),"Entry should be a number")))) | BM12: =IF(COUNTA($C12:$AU12)=0,"",IF(H12="d","ok",IF(ISBLANK($S12),"Empty cell",IF(ISNUMBER($S12),IF($S12>0,"ok","Entry should be greater than 0"),"Entry should be a number")))) | BN12: =IF(COUNTA($C12:$AU12)=0,"",IF(H12="d","ok",IF(ISBLANK($T12),"Empty cell",IF(ISNUMBER($T12)=FALSE,"Entry should be a positive integer",IF($T12<1,"Entry should be a positive integer",IF($T12=INT($T12),"ok","Entry should be a positive integer")))))) | BO12: =IF(COUNTA($C12:$AU12)=0,"",IF(H12="d","ok",IF(ISBLANK(U12),"Empty cell",IF(U12="yes","ok",IF(U12="y","ok",IF(U12="no","ok",IF(U12="n","ok","Entry should be either 'yes', 'y', 'no' or 'n'"))))))) | BP12: =IF(COUNTA($C12:$AU12)=0,"",IF($H12="d","ok",IF(ISBLANK(U12),IF(ISBLANK(V12),"ok","Soil sensor question not answered"),IF(OR(U12="yes",U12="y"),IF(ISBLANK(V12),"Empty cell",IF(ISNUMBER(V12),IF(INT(V12)=V12,IF(V12<=0,"Entry should be a positive integer","ok"),"Entry should be a positive integer"),"Entry should be a positive integer")),IF(OR(U12="no",U12="n"),IF(ISBLANK(V12),"ok","No entry should be made in cell"),IF(ISBLANK(V12),"ok","No entry should be made in cell")))))) | BQ12: =IF(COUNTA($C12:$AU12)=0,"",IF(H12="d","ok",IF(ISBLANK($W12),"Empty cell",IF(ISNUMBER($W12),IF($W12>0,"ok","Entry should be greater than 0"),"Entry should be a number")))) | BR12: =IF(COUNTA($C12:$AU12)=0,"",IF($H12="d","ok",IF(ISBLANK($X12),"Empty cell","ok"))) | BS12: =IF(COUNTA($C12:$AU12)=0,"",IF(H12="d","ok",IF(ISBLANK(Y12),"Empty cell",IF(Y12="yes","ok",IF(Y12="y","ok",IF(Y12="no","ok",IF(Y12="n","ok","Entry should be either 'yes', 'y', 'no' or 'n'"))))))) | BT12: =IF(COUNTA($C12:$AU12)=0,"",IF($H12="d","ok",IF(ISBLANK($Z12),"Empty cell","ok"))) | BU12: =IF(COUNTA($C12:$AU12)=0,"",IF(H12="d","ok",IF(ISBLANK(AA12),"Empty cell",IF(AA12="C","ok",IF(AA12="D","ok","Entry should be either 'C' or 'D''"))))) | BV12: =IF(COUNTA($C12:$AU12)=0,"",IF($H12="d","ok",IF(ISBLANK(AB12),"Empty cell",IF(AB12="yes","ok",IF(AB12="y","ok",IF(AB12="no","ok",IF(AB12="n","ok","Entry should be either 'yes', 'y', 'no' or 'n'"))))))) | BW12: =IF(COUNTA($C12:$AU12)=0,"",IF($H12="d","ok",IF(ISBLANK($AB12),IF(ISBLANK(AC12),"ok","Built-In Water Softening System question not answered"),IF(OR($AB12="yes",$AB12="y"),IF(ISBLANK(AC12),"Empty cell",IF(ISNUMBER(AC12),IF(AC12<=0,"Entry should be a positive number","ok"),"Entry should be a positive number")),IF(OR($AB12="no",$AB12="n"),IF(ISBLANK(AC12),"ok","No entry should be made in cell"),IF(ISBLANK(AC12),"ok","No entry should be made in cell")))))) | BX12: =IF(COUNTA($C12:$AU12)=0,"",IF($H12="d","ok",IF(ISBLANK($AB12),IF(ISBLANK(AD12),"ok","Built-In Water Softening System question not answered"),IF(OR($AB12="yes",$AB12="y"),IF(ISBLANK(AD12),"Empty cell",IF(ISNUMBER(AD12),IF(AD12<=0,"Entry should be a positive number","ok"),"Entry should be a positive number")),IF(OR($AB12="no",$AB12="n"),IF(ISBLANK(AD12),"ok","No entry should be made in cell"),IF(ISBLANK(AD12),"ok","No entry should be made in cell")))))) | BY12: =IF(COUNTA($C12:$AU12)=0,"",IF($H12="d","ok",IF(ISBLANK($AB12),IF(ISBLANK(AE12),"ok","Built-In Water Softening System question not answered"),IF(OR($AB12="yes",$AB12="y"),IF(ISBLANK(AE12),"Empty cell",IF(ISNUMBER(AE12),IF(INT(AE12)=AE12,IF(AE12<=0,"Entry should be a positive integer","ok"),"Entry should be a positive integer"),"Entry should be a positive integer")),IF(OR($AB12="no",$AB12="n"),IF(ISBLANK(AE12),"ok","No entry should be made in cell"),IF(ISBLANK(AE12),"ok","No entry should be made in cell")))))) | BZ12: =IF(COUNTA($C12:$AU12)=0,"",IF($H12="d","ok",IF(ISBLANK($AB12),IF(ISBLANK(AF12),"ok","Built-In Water Softening System question not answered"),IF(OR($AB12="yes",$AB12="y"),IF(ISBLANK(AF12),"Empty cell","ok"),IF(OR($AB12="no",$AB12="n"),IF(ISBLANK(AF12),"ok","No entry should be made in cell"),IF(ISBLANK(AF12),"ok","No entry should be made in cell")))))) | CA12: =IF(COUNTA($C12:$AU12)=0,"",IF(ISBLANK(AG12),"ok",IF(AG12="yes","ok",IF(AG12="y","ok",IF(AG12="no","ok",IF(AG12="n","ok","Entry should be either 'yes', 'y', 'no' or 'n'")))))) | CB12: =IF(COUNTA($C12:$AU12)=0,"",IF($H12="d","ok",IF(ISBLANK($AG12),IF(ISBLANK(AH12),"ok","Water Re-Use System question not answered"),IF(OR($AG12="yes",$AG12="y"),IF(ISBLANK(AH12),"ok",IF(ISNUMBER(AH12),IF(AH12<=0,"Entry should be a positive number","ok"),"Entry should be a positive number")),IF(OR($AG12="no",$AG12="n"),IF(ISBLANK(AH12),"ok","No entry should be made in cell"),IF(ISBLANK(AH12),"ok","No entry should be made in cell")))))) | CC12: =IF(COUNTA($C12:$AU12)=0,"",IF($H12="d","ok",IF(ISBLANK($AG12),IF(ISBLANK(AI12),"ok","Water Re-Use System question not answered"),IF(OR($AG12="yes",$AG12="y"),IF(ISBLANK(AI12),"ok",IF(ISNUMBER(AI12),IF(AI12<=0,"Entry should be a positive number","ok"),"Entry should be a positive number")),IF(OR($AG12="no",$AG12="n"),IF(ISBLANK(AI12),"ok","No entry should be made in cell"),IF(ISBLANK(AI12),"ok","No entry should be made in cell")))))) | CD12: =IF(COUNTA($C12:$AU12)=0,"",IF($H12="d","ok",IF(ISBLANK($AG12),IF(ISBLANK(AJ12),"ok","Water Re-Use System question not answered"),IF(OR($AG12="yes",$AG12="y"),IF(ISBLANK(AJ12),"ok",IF(ISNUMBER(AJ12),IF(INT(AJ12)=AJ12,IF(AJ12<=0,"Entry should be a positive integer","ok"),"Entry should be a positive integer"),"Entry should be a positive integer")),IF(OR($AG12="no",$AG12="n"),IF(ISBLANK(AJ12),"ok","No entry should be made in cell"),IF(ISBLANK(AJ12),"ok","No entry should be made in cell")))))) | CE12: =IF(COUNTA($C12:$AU12)=0,"",IF($H12="d","ok",IF(ISBLANK($AG12),IF(ISBLANK(AK12),"ok","Water Re-Use System question not answered"),IF(OR($AG12="yes",$AG12="y"),IF(ISBLANK(AK12),"ok",IF(ISNUMBER(AK12),IF(AK12<=0,"Entry should be a positive number","ok"),"Entry should be a positive number")),IF(OR($AG12="no",$AG12="n"),IF(ISBLANK(AK12),"ok","No entry should be made in cell"),IF(ISBLANK(AK12),"ok","No entry should be made in cell")))))) | CF12: =IF(COUNTA($C12:$AU12)=0,"",IF($H12="d","ok",IF(ISBLANK($AG12),IF(ISBLANK(AL12),"ok","Water Re-Use System question not answered"),IF(OR($AG12="yes",$AG12="y"),IF(ISBLANK(AL12),"Empty cell",IF(ISNUMBER(AL12),IF(AL12<=0,"Entry should be a positive number","ok"),"Entry should be a positive number")),IF(OR($AG12="no",$AG12="n"),IF(ISBLANK(AL12),"ok","No entry should be made in cell"),IF(ISBLANK(AL12),"ok","No entry should be made in cell")))))) | CG12: =IF(COUNTA($C12:$AU12)=0,"",IF($H12="d","ok",IF(ISBLANK($AG12),IF(ISBLANK(AM12),"ok","Water Re-Use System question not answered"),IF(OR($AG12="yes",$AG12="y"),IF(ISBLANK(AM12),"ok",IF(ISNUMBER(AM12),IF(INT(AM12)=AM12,IF(AM12<=0,"Entry should be a positive integer","ok"),"Entry should be a positive integer"),"Entry should be a positive integer")),IF(OR($AG12="no",$AG12="n"),IF(ISBLANK(AM12),"ok","No entry should be made in cell"),IF(ISBLANK(AM12),"ok","No entry should be made in cell")))))) | CH12: =IF(COUNTA($C12:$AU12)=0,"",IF($H12="d","ok",IF(ISBLANK($AG12),IF(ISBLANK(AN12),"ok","Water Re-Use System question not answered"),IF(OR($AG12="yes",$AG12="y"),IF(ISBLANK(AN12),"ok",IF(ISNUMBER(AN12),IF(AN12<=0,"Entry should be a positive number","ok"),"Entry should be a positive number")),IF(OR($AG12="no",$AG12="n"),IF(ISBLANK(AN12),"ok","No entry should be made in cell"),IF(ISBLANK(AN12),"ok","No entry should be made in cell")))))) | CI12: =IF(COUNTA($C12:$AU12)=0,"",IF($H12="d","ok",IF(ISBLANK($AG12),IF(ISBLANK(AO12),"ok","Water Re-Use System question not answered"),IF(OR($AG12="yes",$AG12="y"),IF(ISBLANK(AO12),"ok","ok"),IF(OR($AG12="no",$AG12="n"),IF(ISBLANK(AO12),"ok","No entry should be made in cell"),IF(ISBLANK(AO12),"ok","No entry should be made in cell")))))) | CJ12: =IF(COUNTA($C12:$AU12)=0,"",IF($H12="d","ok",IF(ISBLANK(AP12),"ok",IF(AP12="yes","ok",IF(AP12="y","ok",IF(AP12="no","ok",IF(AP12="n","ok","Entry should be either 'yes', 'y', 'no' or 'n'"))))))) | CK12: =IF(COUNTA($C12:$AU12)=0,"",IF($H12="d","ok",IF(ISBLANK($AP12),IF(ISBLANK(AQ12),"ok","Built-in Reservoir question not answered"),IF(OR($AP12="yes",$AP12="y"),IF(ISBLANK(AQ12),"ok",IF(ISNUMBER(AQ12),IF(AQ12<=0,"Entry should be a positive number","ok"),"Entry should be a positive number")),IF(OR($AP12="no",$AP12="n"),IF(ISBLANK(AQ12),"ok","No entry should be made in cell"),IF(ISBLANK(AQ12),"ok","No entry should be made in cell")))))) | CL12: =IF(COUNTA($C12:$AU12)=0,"",IF($H12="d","ok",IF(ISBLANK($AP12),IF(ISBLANK(AR12),"ok","Built-in Reservoir question not answered"),IF(OR($AP12="yes",$AP12="y"),IF(ISBLANK(AR12),"ok",IF(ISNUMBER(AR12),IF(AR12<0,"Entry should be a number >= 0","ok"),"Entry should be a number >= 0")),IF(OR($AP12="no",$AP12="n"),IF(ISBLANK(AR12),"ok","No entry should be made in cell"),IF(ISBLANK(AR12),"ok","No entry should be made in cell")))))) | CM12: =IF(COUNTA($C12:$AU12)=0,"",IF($H12="d","ok",IF(ISBLANK($AP12),IF(ISBLANK(AS12),"ok","Built-in Reservoir question not answered"),IF(OR($AP12="yes",$AP12="y"),IF(ISBLANK(AS12),"ok",IF(ISNUMBER(AS12),IF(AS12<=0,"Entry should be a positive number","ok"),"Entry should be a positive number")),IF(OR($AP12="no",$AP12="n"),IF(ISBLANK(AS12),"ok","No entry should be made in cell"),IF(ISBLANK(AS12),"ok","No entry should be made in cell")))))) | CN12: =IF(COUNTA($C12:$AU12)=0,"",IF($H12="d","ok",IF(ISBLANK($AP12),IF(ISBLANK(AT12),"ok","Built-in Reservoir question not answered"),IF(OR($AP12="yes",$AP12="y"),IF(ISBLANK(AT12),"ok",IF(ISNUMBER(AT12),IF(AT12<=0,"Entry should be a positive number","ok"),"Entry should be a positive number")),IF(OR($AP12="no",$AP12="n"),IF(ISBLANK(AT12),"ok","No entry should be made in cell"),IF(ISBLANK(AT12),"ok","No entry should be made in cell")))))) | CO12: =IF(COUNTA($C12:$AU12)=0,"",IF(H12="d","ok",IF(ISBLANK(AU12),"Empty cell",IF(OR(LEFT(AU12,7)="http://",LEFT(AU12,8)="https://",LEFT(AU12,6)="ftp://",LEFT(AU12,7)="sftp://",AU12="By annual report date"),"ok","Entry must begin with http://, https://, ftp:// or sftp://or be 'By annual report date'")))) | CV12: =IF(BC12="ok",VLOOKUP(I12,PrClDesc,2),"") | CX12: aaaaaa
