Workbook
Name INPUT: #REF!
Name INPUT: Input!$C$11:$AX$110
Name No_of_Columns: #REF!
Name No_of_Columns: Input!$DG$11
Name No_of_Product_Classes: #REF!
Name No_of_Product_Classes: Input!$DG$12
Name PrClDesc: #REF!
Name PrClDesc: 'Product Group Codes'!$A$4:$C$17

Sheet Certification
A1: OMB Control Number: 1910-1400 (Expiration Date: September 30, 2024) | L1: Version 5.1 | P1: 13
A2: DOE F 220.39 | N2: Certifier | O2: Submitter | P2: 17
A3: =D3 -> Small Air-Cooled 3-Phase Commercial Package and Variable Refrigerant Flow Air Conditioners and Heat Pumps | C3: Product Type: | D3: Small Air-Cooled 3-Phase Commercial Package and Variable Refrigerant Flow Air Conditioners and Heat Pumps | J3: Status of This Certification Sheet | K3: =IF(AND(COUNTIF(D11,"Please enter required data")+COUNTIF(K11,"Please enter required data")+COUNTIF(E16:E20,"Please enter required data")+COUNTIF(K16:K20,"Please enter required data")+COUNTIF(E26,"Please enter required data")+COUNTIF(K26,"Please enter required data")=14,COUNTIF(K16:K20,"No entry should be made")=0),"No Data",IF(AND(COUNTIF(D11,"Please enter required data")+COUNTIF(K11,"Please enter required data")+COUNTIF(E16:E20,"Please enter required data")+COUNTIF(K16:K20,"Please enter required data")+COUNTIF(E26,"Please enter required data")+COUNTIF(K26,"Please enter required data")=0,COUNTIF(K16:K20,"No entry should be made")=0),"OK","Error")) -> No Data | N3: =N11 -> 0 | O3: =N12 -> 0 | P3: 20
A4: =RIGHT(L1,LEN(L1)-8) -> 5.1 | P4: 10
J5: Overall Status of Template | K5: =IF(OR(K3="Error",Input!E3="Error"),"Error",IF(OR(K3="No Data",Input!E3="No Data"),"No Data","OK")) -> No Data | N5: =IF(N3=1,"U.S. Manufacturer",IF(N3=2,"Importer","No Type")) -> No Type | O5: =IF(O3=1,IF(N3=1,"U.S. Manufacturer",IF(N3=2,"Importer","No Type")),IF(O3=2,"Third Party Representative","No Type")) -> No Type | P5: 20
D6: Click here for instructions for completing this form | P6: 20
P7: 10
A8: Each Importer and U.S. Manufacturer is legally required to certify the compliance of the products it imports, produces, assembles or manufactures. This party is the "Certifier" on this form. This certification may be submitted by the Importer or U.S. manufacturer or by a Third Party Representative. This party is the "Submitter" on this form. | P8: 40
B9: Certifier - Party Legally Obligated to Certify Compliance | H9: Submitter - Party Submitting This Report | P9: 18
B10: The party responsible for certification is (select one only): | H10: The party submitting this report is (select one only): | P10: 18
D11: =IF(OR(N11=1,N11=2),"","Please enter required data") -> Please enter required data | K11: =IF(OR(N12=1,N12=2),"","Please enter required data") -> Please enter required data | N11: 0 | P11: 28
N12: 0 | P12: 28
P13: 13
B14: Certifier Contact Information | H14: Third Party Representative Contact Information, if Applicable | P14: 13
P15: 13
A16: Full Legal Name of Individual | E16: =IF(ISBLANK(D16),"Please enter required data",IF(ISNONTEXT(D16),"Please enter required data","")) -> Please enter required data | G16: Full Legal Name of Individual | K16: =IF($N$12=1,IF(ISBLANK(J16),"","No entry should be made"),IF(ISBLANK(J16),"Please enter required data",IF(ISNONTEXT(J16),"Please enter required data",""))) -> Please enter required data | N16: aaaaaaaaaaaaaaaaa | P16: 23
A17: Full Legal Name of Company | E17: =IF(ISBLANK(D17),"Please enter required data",IF(ISNONTEXT(D17),"Please enter required data","")) -> Please enter required data | G17: Full Legal Name of Company | K17: =IF($N$12=1,IF(ISBLANK(J17),"","No entry should be made"),IF(ISBLANK(J17),"Please enter required data",IF(ISNONTEXT(J17),"Please enter required data",""))) -> Please enter required data | N17: aaaaaaaaaaaaaaaaa | P17: 23
A18: Complete Company Mailing Address | E18: =IF(ISBLANK(D18),"Please enter required data",IF(ISNONTEXT(D18),"Please enter required data","")) -> Please enter required data | G18: Complete Company Mailing Address | K18: =IF($N$12=1,IF(ISBLANK(J18),"","No entry should be made"),IF(ISBLANK(J18),"Please enter required data",IF(ISNONTEXT(J18),"Please enter required data",""))) -> Please enter required data | N18: aaaaaaaaaaaaaaaaa | P18: 23
A19: Phone Number | E19: =IF(ISBLANK(D19),"Please enter required data","") -> Please enter required data | G19: Phone Number | K19: =IF($N$12=1,IF(ISBLANK(J19),"","No entry should be made"),IF(ISBLANK(J19),"Please enter required data","")) -> Please enter required data | N19: aaaaaaaaaaaaaaaaa | P19: 23
A20: Email Address | E20: =IF(IF(ISERROR(FIND("@",D20)),1,0)+IF(ISERROR(FIND(".",D20)),1,0)>0,"Please enter required data"," ") -> Please enter required data | G20: Email Address | K20: =IF($N$12=1,IF(ISBLANK(J20),"","No entry should be made"),IF(IF(ISERROR(FIND("@",J20)),1,0)+IF(ISERROR(FIND(".",J20)),1,0)>0,"Please enter required data"," ")) -> Please enter required data | N20: aaaaaaaaaaaaaaaaa | P20: 23
P21: 13
P22: 13
B23: ="Compliance Statement "&IF(N12=2,"- Third Party Representative", IF(AND(N11=1,N12=1),"- U.S. Manufacturer",IF(AND(N11=2,N12=1),"- Importer",""))) -> Compliance Statement | P23: 17
B24: =IF(N12=0,"Select one of the options for 'Submitter - Party Submitting This Report' above",IF(N12=1,N24,IF(N12=2,O24,"Error in Submitter Type"))) -> Select one of the options for 'Submitter - Party Submitting This Report' above | N24: I certify that: (1) This certification report is submitted in accordance with 10 CFR Parts 429, 430, and 431; 16 CFR 305; and the Energy Policy and Conservation Act, as amended. (2) The basic models listed in this certification report comply with the applicable conservation standard(s); (3) All required testing has been conducted in conformance with the applicable test requirements prescribed in parts 10 CFR Parts 429, 430 and 431, as appropriate, or in accordance with the terms of an applicable test procedure waiver; (4) All information reported in this certification report is true, accurate, and complete; and (5) I am aware of the penalties associated with violations of the Energy Policy and Conservation Act (Pub. L. 94-163), as amended by Pub. L. 95-619, Pub. L. 100-12, Pub. L. 100-357, and Pub. L. 102-486 (the Act), the regulations thereunder, and 18 U.S.C. 1001 which prohibits knowingly making false statements to the Federal Government. | O24: I certify that: (1) This certification report is submitted in accordance with 10 CFR Parts 429, 430, and 431; 16 CFR 305; and the Energy Policy and Conservation Act, as amended. (2) An authorization granting me the authority to submit this information on behalf of the Certifier is on file with the U.S. Department of Energy. (3) The basic models listed in this certification report comply with the applicable conservation standard(s); (4) All required testing has been conducted in conformance with the applicable test requirements prescribed in 10 CFR Parts 429, 430 and 431, as appropriate, or in accordance with the terms of an applicable test procedure waiver; (5) All information reported in this certification report is true, accurate, and complete; and (6) I am aware of the penalties associated with violations of the Energy Policy and Conservation Act (Pub. L. 94-163), as amended by Pub. L. 95-619, Pub. L. 100-12, Pub. L. 100-357, and Pub. L. 102-486 (the Act), the regulations thereunder, and 18 U.S.C. 1001 which prohibits knowingly making false statements to the Federal Government. | P24: 115
P25: 6
B26: Submitter Signature (Type your Full Legal Name) | E26: =IF(ISBLANK(D26),"Please enter required data",IF(ISNONTEXT(D26),"Please enter required data","")) -> Please enter required data | I26: Date (MM/DD/YYYY) | K26: =IF(ISNUMBER(J26),"","Please enter required data") -> Please enter required data | P26: 38
P27: 13
P28: 13
P29: 13
B30: OMB Control Number: 1910-1400 (Expiration Date: September 30, 2024) | P30: 13
P31: 13
B32: Paperwork Reduction Act Statement | P32: 13
B33: OMB Burden Disclosure Statement | P33: 13
P34: 13
B35: This data is being collected for manufacturers to certify compliance to DOE's energy conservation, water conservation, or design standards. The data you supply will be used by the Department to monitor compliance with the energy conservation, water conservation, and design standards and testing requirements for the consumer products and commercial and industrial equipment mandated by the Energy Policy and Conservation Act, as amended. Public reporting burden for this collection of information is estimated to average 35 hours per response, including the time for reviewing instructions, searching existing data sources, gathering and maintaining the data needed, and completing and reviewing the collection of information. Send comments regarding this burden estimate or any other aspect of this collection of information, including suggestions for reducing this burden, to Office of the Chief Information Officer, Records Management Division, IM-23, Paperwork Reduction Project (1910-1400), U.S. Department of Energy, 1000 Independence Ave SW, Washington, DC, 20585-1290; and to the Office of Management and Budget (OMB), OIRA, Paperwork Reduction Project (1910-1400), Washington, DC 20503. Notwithstanding any other provision of the law, no person is required to respond to, nor shall any person be subject to a penalty for failure to comply with a collection of information subject to the requirements of the Paperwork Reduction Act unless that collection of information displays a currently valid OMB control number. Submission of this data is mandatory. | P35: 185
P36: 13

Sheet Input
A1: =Certification!A3 -> Small Air-Cooled 3-Phase Commercial Package and Variable Refrigerant Flow Air Conditioners and Heat Pumps | B1: Small Air-Cooled 3-Phase Commercial Package and Variable Refrigerant Flow Air Conditioners and Heat Pumps | J1: =Certification!L1 -> Version 5.1 | L1: · Please enter your data in the columns shaded in gray below, using a separate line for each model. · Click on the column heading for instructions on how to complete cells in that column. · Cells highlighted in yellow indicate an "Error." "Error" means that information is missing or there is an issue with the entry. · If the "Status" for a row is "Error," you can see an explanation in the columns to the far right.
A2: =Certification!A4 -> 5.1
C3: Status of This Input Sheet | E3: =IF(COUNTA(INPUT)=0,"No Data",IF(COUNTIF(B11:B110,"Error")>0,"Error","OK")) -> No Data | H3: Overall Status of Template | J3: =Certification!K5 -> No Data
AF4: The maximum number of indoor units available for each basic model in this template is 5. If a basic model has more than 5 indoor units, please contact us at: https://www.regulations.doe.gov/contact-us.
B5: Certification Report | E5: Click here for instructions for completing this form | H5: If you are resubmitting a specific combination, you must enter data for the Indoor Units and Air Movers in the exact same order as in the original submission | BC5: The cells below provide an explanation for "Errors". | BG5: The cells below provide an explanation for "Errors". | BK5: The cells below provide an explanation for "Errors". | BO5: The cells below provide an explanation for "Errors". | BS5: The cells below provide an explanation for "Errors". | BW5: The cells below provide an explanation for "Errors". | CA5: The cells below provide an explanation for "Errors". | CE5: The cells below provide an explanation for "Errors". | CI5: The cells below provide an explanation for "Errors". | CM5: The cells below provide an explanation for "Errors". | CQ5: The cells below provide an explanation for "Errors". | CU5: The cells below provide an explanation for "Errors".
AU8: Entry in the Columns Below is Optional
A9: Line No. | B9: Status | C9: Manufacturer (Outdoor Unit or Single-Package Unit) | D9: Brand Name(s) (Outdoor Unit or Single-Package Unit) | E9: Basic Model Number | F9: Individual Model Number Covered by Basic Model (Outdoor Unit or Single-Package Unit) | G9: Product Group Code | H9: For Split-System or VRF Indoor Unit 1 Only | K9: For Split-System or VRF Air Mover 1 Only, if Applicable | N9: For Split-System or VRF Indoor Unit 2 Only, if Applicable | Q9: For Split-System or VRF Air Mover 2 Only, if Applicable | T9: For Split-System or VRF Indoor Unit 3 Only, if Applicable | W9: For Split-System or VRF Air Mover 3 Only, if Applicable | Z9: For Split-System or VRF Indoor Unit 4 Only, if Applicable | AC9: For Split-System or VRF Air Mover 4 Only, if Applicable | AF9: For Split-System or VRF Indoor Unit 5 Only, if Applicable | AI9: For Split-System or VRF Air Mover 5 Only, if Applicable | AL9: Have Any of the Model Numbers Been Identified as Private by the Manufacturer? | AM9: Action | AN9: Sample Size (Number of Units Tested) | AO9: Is the Certification for this Basic Model Based on a Waiver of DOE's Test Procedure Requirements? | AP9: Date of Test Procedure Waiver, if Applicable | AQ9: Is the Certification based upon any Exception Relief from an Applicable Standard by DOE's Office of Hearing and Appeals? | AR9: Date of Exception Relief, if Applicable | AS9: Is Certification Based on the use of an Alternative Efficiency Determination Method (AEDM)? | AT9: Name of AEDM (If Applicable) | AU9: Seasonal Energy Efficiency Ratio 2 (SEER2) | AV9: Heating Seasonal Performance Factor 2 (HSPF2) | AW9: Rated Cooling Capacity (Btu/hour) | AX9: Supplemental Testing Instructions PDF Filename | BC9: =C9&" Status" -> Manufacturer (Outdoor Unit or Single-Package Unit) Status | BD9: =D9&" Status" -> Brand Name(s) (Outdoor Unit or Single-Package Unit) Status | BE9: =E9&" Status" -> Basic Model Number Status | BF9: =F9&" Status" -> Individual Model Number Covered by Basic Model (Outdoor Unit or Single-Package Unit) Status | BG9: =G9&" Status" -> Product Group Code Status | BH9: =H9 -> For Split-System or VRF Indoor Unit 1 Only | BK9: =K9 -> For Split-System or VRF Air Mover 1 Only, if Applicable | BN9: =N9 -> For Split-System or VRF Indoor Unit 2 Only, if Applicable | BQ9: =Q9 -> For Split-System or VRF Air Mover 2 Only, if Applicable | BT9: =T9 -> For Split-System or VRF Indoor Unit 3 Only, if Applicable | BW9: =W9 -> For Split-System or VRF Air Mover 3 Only, if Applicable | BZ9: =Z9 -> For Split-System or VRF Indoor Unit 4 Only, if Applicable | CC9: =AC9 -> For Split-System or VRF Air Mover 4 Only, if Applicable | CF9: =AF9 -> For Split-System or VRF Indoor Unit 5 Only, if Applicable | CI9: =AI9 -> For Split-System or VRF Air Mover 5 Only, if Applicable | CL9: =AL9&" Status" -> Have Any of the Model Numbers Been Identified as Private by the Manufacturer? Status | CM9: =AM9&" Status" -> Action Status | CN9: =AN9&" Status" -> Sample Size (Number of Units Tested) Status | CO9: =AO9&" Status" -> Is the Certification for this Basic Model Based on a Waiver of DOE's Test Procedure Requirements? Status | CP9: =AP9&" Status" -> Date of Test Procedure Waiver, if Applicable Status | CQ9: =AQ9&" Status" -> Is the Certification based upon any Exception Relief from an Applicable Standard by DOE's Office of Hearing and Appeals? Status | CR9: =AR9&" Status" -> Date of Exception Relief, if Applicable Status | CS9: =AS9&" Status" -> Is Certification Based on the use of an Alternative Efficiency Determination Method (AEDM)? Status | ... CX9: =AX9&" Status" -> Supplemental Testing Instructions PDF Filename Status
H10: Manufacturer | I10: Brand(s) | J10: Individual Model Number | K10: Manufacturer | L10: Brand(s) | M10: Individual Model Number | N10: Manufacturer | O10: Brand | P10: Individual Model Number | Q10: Manufacturer | R10: Brand | S10: Individual Model Number | T10: Manufacturer | U10: Brand | V10: Individual Model Number | W10: Manufacturer | X10: Brand | Y10: Individual Model Number | Z10: Manufacturer | AA10: Brand | AB10: Individual Model Number | AC10: Manufacturer | AD10: Brand | AE10: Individual Model Number | AF10: Manufacturer | AG10: Brand | AH10: Individual Model Number | AI10: Manufacturer | AJ10: Brand | AK10: Individual Model Number | BH10: =H10&" Status" -> Manufacturer Status | BI10: =I10&" Status" -> Brand(s) Status | BJ10: =J10&" Status" -> Individual Model Number Status | BK10: =K10&" Status" -> Manufacturer Status | BL10: =L10&" Status" -> Brand(s) Status | BM10: =M10&" Status" -> Individual Model Number Status | BN10: =N10&" Status" -> Manufacturer Status | BO10: =O10&" Status" -> Brand Status | ... CK10: =AK10&" Status" -> Individual Model Number Status | DF10: The cells below will not be changeable or visible in the final version, but show the ability to modify template easily for additional product group codes for changes in required factors. | DI10: Product Group Code Description | DL10: Do not change this column's width. Entries below force row height to be at least 2 lines
A11: 1 | B11: =IF(COUNTIF(BC11:CX11,"")=No_of_Columns,"",IF(COUNTIF(BC11:CX11,"ok")=No_of_Columns,"ok","Error")) | BC11: =IF(COUNTA($C11:$AX11)=0,"",IF(ISBLANK($C11),"Empty cell","ok")) | BD11: =IF(COUNTA($C11:$AX11)=0,"",IF(ISBLANK(D11),"Empty cell","ok")) | BE11: =IF(COUNTA($C11:$AX11)=0,"",IF(ISBLANK(E11),"Empty cell","ok")) | BF11: =IF(COUNTA($C11:$AX11)=0,"",IF(ISBLANK(F11),"Empty cell","ok")) | BG11: =IF(COUNTA($C11:$AX11)=0,"",IF(ISBLANK($G11),"Empty cell",IF($G11<1,"Prod. Gr. Code should be an int. betw. 1 and "&No_of_Product_Classes,IF($G11>No_of_Product_Classes,"Prod. Gr. Code should be an int. betw. 1 and "&No_of_Product_Classes,IF($G11=INT($G11),"ok","Prod. Gr. Code should be an int. betw. 1 and "&No_of_Product_Classes))))) | BH11: =IF(COUNTA($C11:$AX11)=0,"",IF(OR(G11=1,G11=3,G11=5,G11=7,G11=9,G11=10,G11=11,G11=12),IF(ISBLANK(H11),"Empty cell",IF(ISBLANK(J11),"ok",IF(AND(H11="***",J11="***"),"ok",IF(AND(H11<>"***",J11<>"***"),"ok","Manufacturer & Indiv. Model No. must both or neither be ***")))),IF(ISBLANK(H11),"ok","No entry should be made"))) | BI11: =IF(COUNTA($C11:$AX11)=0,"",IF(OR(G11=1,G11=3,G11=5,G11=7,G11=9,G11=10,G11=11,G11=12),IF(ISBLANK(I11),"Empty cell","ok"),IF(ISBLANK(I11),"ok","No entry should be made"))) | BJ11: =IF(COUNTA($C11:$AX11)=0,"",IF(OR(G11=1,G11=3,G11=5,G11=7,G11=9,G11=10,G11=11,G11=12),IF(ISBLANK(J11),"Empty cell",IF(ISBLANK(H11),"ok",IF(AND(J11="***",H11="***"),"ok",IF(AND(J11<>"***",H11<>"***"),"ok","Manufacturer & Indiv. Model No. must both or neither be ***")))),IF(ISBLANK(J11),"ok","No entry should be made"))) | BK11: =IF(COUNTA($C11:$AX11)=0,"",IF(OR(G11=1,G11=3,G11=5,G11=7,G11=9,G11=10,G11=11,G11=12),IF(OR(H11="***",J11="***"),IF(ISBLANK(K11),"Empty cell",IF(K11="***","ok","Entry should be ***")),IF(K11="***","Entry should not be ***","ok")),IF(ISBLANK(K11),"ok","No entry should be made"))) | BL11: =IF(COUNTA($C11:$AX11)=0,"",IF(OR(G11=1,G11=3,G11=5,G11=7,G11=9,G11=10,G11=11,G11=12),IF(ISBLANK(K11),IF(ISBLANK(L11),IF(OR(H11="***",J11="***"),"Empty cell","ok"),"Manuf. Air Mover 1 column not completed"),IF(ISBLANK(L11),"Empty cell","ok")),IF(ISBLANK(L11),"ok","No entry should be made"))) | BM11: =IF(COUNTA($C11:$AX11)=0,"",IF(OR(G11=1,G11=3,G11=5,G11=7,G11=9,G11=10,G11=11,G11=12),IF(ISBLANK(K11),IF(ISBLANK(M11),IF(OR(H11="***",J11="***"),"Empty cell","ok"),"Manuf. Air Mover 1 column not completed"),IF(K11="***",IF(ISBLANK(M11),"Empty cell",IF(M11="***","ok","Entry should be ***")),IF(ISBLANK(M11),"Empty cell",IF(M11="***","Entry should not be ***","ok")))),IF(ISBLANK(M11),"ok","No entry should be made"))) | BN11: =IF(COUNTA($C11:$AX11)=0,"",IF(OR(G11=1,G11=3,G11=5,G11=7,G11=9,G11=10,G11=11,G11=12),IF(OR($H11="***",$J11="***"),IF(ISBLANK(N11),"ok","No entry should be made"),IF(N11="***","Entry cannot be ***","ok")),IF(ISBLANK(N11),"ok","No entry should be made"))) | BO11: =IF(COUNTA($C11:$AX11)=0,"",IF(OR(G11=1,G11=3,G11=5,G11=7,G11=9,G11=10,G11=11,G11=12),IF(ISBLANK(N11),IF(ISBLANK(O11),"ok","Manuf. Indoor Unit 2 not entered"),IF(ISBLANK(O11),"Empty cell","ok")),IF(ISBLANK(O11),"ok","No entry should be made"))) | BP11: =IF(COUNTA($C11:$AX11)=0,"",IF(OR(G11=1,G11=3,G11=5,G11=7,G11=9,G11=10,G11=11,G11=12),IF(ISBLANK(N11),IF(ISBLANK(P11),"ok","Manuf. Indoor Unit 2 not entered"),IF(ISBLANK(P11),"Empty cell",IF(P11="***","Entry cannot be ***","ok"))),IF(ISBLANK(P11),"ok","No entry should be made"))) | BQ11: =IF(COUNTA($C11:$AX11)=0,"",IF(OR(G11=1,G11=3,G11=5,G11=7,G11=9,G11=10,G11=11,G11=12),IF(ISBLANK(N11),IF(ISBLANK(Q11),"ok","Info for Indoor Unit 2 not entered"),IF(Q11="***","Entry cannot be ***","ok")),IF(ISBLANK(Q11),"ok","No entry should be made"))) | BR11: =IF(COUNTA($C11:$AX11)=0,"",IF(OR(G11=1,G11=3,G11=5,G11=7,G11=9,G11=10,G11=11,G11=12),IF(ISBLANK(Q11),IF(ISBLANK(R11),"ok","Manuf. Air Mover 2 not entered"),IF(ISBLANK(R11),"Empty cell","ok")),IF(ISBLANK(R11),"ok","No entry should be made"))) | BS11: =IF(COUNTA($C11:$AX11)=0,"",IF(OR(G11=1,G11=3,G11=5,G11=7,G11=9,G11=10,G11=11,G11=12),IF(ISBLANK(Q11),IF(ISBLANK(S11),"ok","Manuf. Air Mover 2 not entered"),IF(ISBLANK(S11),"Empty cell",IF(S11="***","Entry cannot be ***","ok"))),IF(ISBLANK(S11),"ok","No entry should be made"))) | BT11: =IF(COUNTA($C11:$AX11)=0,"",IF(OR(G11=1,G11=3,G11=5,G11=7,G11=9,G11=10,G11=11,G11=12),IF(ISBLANK(N11),IF(ISBLANK(T11),"ok","Info for Indoor Unit 2 not entered"),IF(T11="***","Entry cannot be ***","ok")),IF(ISBLANK(T11),"ok","No entry should be made"))) | BU11: =IF(COUNTA($C11:$AX11)=0,"",IF(OR(G11=1,G11=3,G11=5,G11=7,G11=9,G11=10,G11=11,G11=12),IF(ISBLANK(T11),IF(ISBLANK(U11),"ok","Manuf. Indoor Unit 3 not entered"),IF(ISBLANK(U11),"Empty cell","ok")),IF(ISBLANK(U11),"ok","No entry should be made"))) | BV11: =IF(COUNTA($C11:$AX11)=0,"",IF(OR(G11=1,G11=3,G11=5,G11=7,G11=9,G11=10,G11=11,G11=12),IF(ISBLANK(T11),IF(ISBLANK(V11),"ok","Manuf. Indoor Unit 3 not entered"),IF(ISBLANK(V11),"Empty cell",IF(V11="***","Entry cannot be ***","ok"))),IF(ISBLANK(V11),"ok","No entry should be made"))) | BW11: =IF(COUNTA($C11:$AX11)=0,"",IF(OR(G11=1,G11=3,G11=5,G11=7,G11=9,G11=10,G11=11,G11=12),IF(ISBLANK(T11),IF(ISBLANK(W11),"ok","Info for Indoor Unit 3 not entered"),IF(W11="***","Entry cannot be ***","ok")),IF(ISBLANK(W11),"ok","No entry should be made"))) | BX11: =IF(COUNTA($C11:$AX11)=0,"",IF(OR(G11=1,G11=3,G11=5,G11=7,G11=9,G11=10,G11=11,G11=12),IF(ISBLANK(W11),IF(ISBLANK(X11),"ok","Manuf. Air Mover 3 not entered"),IF(ISBLANK(X11),"Empty cell","ok")),IF(ISBLANK(X11),"ok","No entry should be made"))) | BY11: =IF(COUNTA($C11:$AX11)=0,"",IF(OR(G11=1,G11=3,G11=5,G11=7,G11=9,G11=10,G11=11,G11=12),IF(ISBLANK(W11),IF(ISBLANK(Y11),"ok","Manuf. Air Mover 3 not entered"),IF(ISBLANK(Y11),"Empty cell",IF(Y11="***","Entry cannot be ***","ok"))),IF(ISBLANK(Y11),"ok","No entry should be made"))) | BZ11: =IF(COUNTA($C11:$AX11)=0,"",IF(OR(G11=1,G11=3,G11=5,G11=7,G11=9,G11=10,G11=11,G11=12),IF(ISBLANK(T11),IF(ISBLANK(Z11),"ok","Info for Indoor Unit 3 not entered"),IF(Z11="***","Entry cannot be ***","ok")),IF(ISBLANK(Z11),"ok","No entry should be made"))) | CA11: =IF(COUNTA($C11:$AX11)=0,"",IF(OR(G11=1,G11=3,G11=5,G11=7,G11=9,G11=10,G11=11,G11=12),IF(ISBLANK(Z11),IF(ISBLANK(AA11),"ok","Manuf. Indoor Unit 4 not entered"),IF(ISBLANK(AA11),"Empty cell","ok")),IF(ISBLANK(AA11),"ok","No entry should be made"))) | CB11: =IF(COUNTA($C11:$AX11)=0,"",IF(OR(G11=1,G11=3,G11=5,G11=7,G11=9,G11=10,G11=11,G11=12),IF(ISBLANK(Z11),IF(ISBLANK(AB11),"ok","Manuf. Indoor Unit 4 not entered"),IF(ISBLANK(AB11),"Empty cell",IF(AB11="***","Entry cannot be ***","ok"))),IF(ISBLANK(AB11),"ok","No entry should be made"))) | CC11: =IF(COUNTA($C11:$AX11)=0,"",IF(OR(G11=1,G11=3,G11=5,G11=7,G11=9,G11=10,G11=11,G11=12),IF(ISBLANK(Z11),IF(ISBLANK(AC11),"ok","Info for Indoor Unit 4 not entered"),IF(AC11="***","Entry cannot be ***","ok")),IF(ISBLANK(AC11),"ok","No entry should be made"))) | CD11: =IF(COUNTA($C11:$AX11)=0,"",IF(OR(G11=1,G11=3,G11=5,G11=7,G11=9,G11=10,G11=11,G11=12),IF(ISBLANK(AC11),IF(ISBLANK(AD11),"ok","Manuf. Air Mover 4 not entered"),IF(ISBLANK(AD11),"Empty cell","ok")),IF(ISBLANK(AD11),"ok","No entry should be made"))) | CE11: =IF(COUNTA($C11:$AX11)=0,"",IF(OR(G11=1,G11=3,G11=5,G11=7,G11=9,G11=10,G11=11,G11=12),IF(ISBLANK(AC11),IF(ISBLANK(AE11),"ok","Manuf. Air Mover 4 not entered"),IF(ISBLANK(AE11),"Empty cell",IF(AE11="***","Entry cannot be ***","ok"))),IF(ISBLANK(AE11),"ok","No entry should be made"))) | CF11: =IF(COUNTA($C11:$AX11)=0,"",IF(OR(G11=1,G11=3,G11=5,G11=7,G11=9,G11=10,G11=11,G11=12),IF(ISBLANK(Z11),IF(ISBLANK(AF11),"ok","Info for Indoor Unit 4 not entered"),IF(AF11="***","Entry cannot be ***","ok")),IF(ISBLANK(AF11),"ok","No entry should be made"))) | CG11: =IF(COUNTA($C11:$AX11)=0,"",IF(OR(G11=1,G11=3,G11=5,G11=7,G11=9,G11=10,G11=11,G11=12),IF(ISBLANK(AF11),IF(ISBLANK(AG11),"ok","Manuf. Indoor Unit 5 not entered"),IF(ISBLANK(AG11),"Empty cell","ok")),IF(ISBLANK(AG11),"ok","No entry should be made"))) | CH11: =IF(COUNTA($C11:$AX11)=0,"",IF(OR(G11=1,G11=3,G11=5,G11=7,G11=9,G11=10,G11=11,G11=12),IF(ISBLANK(AF11),IF(ISBLANK(AH11),"ok","Manuf. Indoor Unit 5 not entered"),IF(ISBLANK(AH11),"Empty cell",IF(AH11="***","Entry cannot be ***","ok"))),IF(ISBLANK(AH11),"ok","No entry should be made"))) | CI11: =IF(COUNTA($C11:$AX11)=0,"",IF(OR(G11=1,G11=3,G11=5,G11=7,G11=9,G11=10,G11=11,G11=12),IF(ISBLANK(AF11),IF(ISBLANK(AI11),"ok","Info for Indoor Unit 5 not entered"),IF(AI11="***","Entry cannot be ***","ok")),IF(ISBLANK(AI11),"ok","No entry should be made"))) | CJ11: =IF(COUNTA($C11:$AX11)=0,"",IF(OR(G11=1,G11=3,G11=5,G11=7,G11=9,G11=10,G11=11,G11=12),IF(ISBLANK(AI11),IF(ISBLANK(AJ11),"ok","Manuf. Air Mover 5 not entered"),IF(ISBLANK(AJ11),"Empty cell","ok")),IF(ISBLANK(AJ11),"ok","No entry should be made"))) | CK11: =IF(COUNTA($C11:$AX11)=0,"",IF(OR(G11=1,G11=3,G11=5,G11=7,G11=9,G11=10,G11=11,G11=12),IF(ISBLANK(AI11),IF(ISBLANK(AK11),"ok","Manuf. Air Mover 5 not entered"),IF(ISBLANK(AK11),"Empty cell",IF(AK11="***","Entry cannot be ***","ok"))),IF(ISBLANK(AK11),"ok","No entry should be made"))) | CL11: =IF(COUNTA($C11:$AX11)=0,"",IF(ISBLANK(AL11),"Empty cell",IF(AL11="yes","ok",IF(AL11="y","ok",IF(AL11="no","ok",IF(AL11="n","ok","Entry should be either 'yes', 'y', 'no' or 'n'")))))) | CM11: =IF(COUNTA($C11:$AX11)=0,"",IF(ISBLANK($AM11),"Empty cell",IF(OR($AM11="n",$AM11="eto",$AM11="d",$AM11="c",$AM11="e",$AM11="f"),"ok","Should be n, eto, d, c, e, or f"))) | CN11: =IF(COUNTA($C11:$AX11)=0,"",IF(AM11="d","ok",IF(ISBLANK($AN11),"Empty cell",IF(OR(AS11="yes",AS11="y"),IF(AN11=0,"ok","Entry should be 0"),IF(OR(AS11="no",AS11="n"),IF(ISNUMBER(AN11),IF(INT(AN11)=AN11,IF(AN11>0,"ok","Entry should be a positive integer"),"Entry should be a positive integer"),"Entry should be a positive integer"),IF(ISNUMBER(AN11),IF(INT(AN11)=AN11,IF(AN11>=0,"ok","Need to answer AEDM question"),"Need to answer AEDM question"),"Need to answer AEDM question")))))) | CO11: =IF(COUNTA($C11:$AX11)=0,"",IF(AM11="d","ok",IF(ISBLANK(AO11),"Empty cell",IF(AO11="yes","ok",IF(AO11="y","ok",IF(AO11="no","ok",IF(AO11="n","ok","Entry should be either 'yes', 'y', 'no' or 'n'"))))))) | CP11: =IF(COUNTA($C11:$AX11)=0,"",IF(AM11="d","ok",IF(ISBLANK(AO11),IF(ISBLANK(AP11),"ok","Waiver question not answered"),IF(OR(AO11="yes",AO11="y"),IF(ISBLANK(AP11),"Empty cell",IF(ISNUMBER(AP11),IF(AP11<1,"Entry should be a date in M/D/YYYY format","ok"),"Entry should be a date in M/D/YYYY format")),IF(OR(AO11="no",AO11="n"),IF(ISBLANK(AP11),"ok","No entry should be made in cell"),IF(ISBLANK(AP11),"ok","No entry should be made in cell")))))) | CQ11: =IF(COUNTA($C11:$AX11)=0,"",IF(AM11="d","ok",IF(ISBLANK(AQ11),"Empty cell",IF(AQ11="yes","ok",IF(AQ11="y","ok",IF(AQ11="no","ok",IF(AQ11="n","ok","Entry should be either 'yes', 'y', 'no' or 'n'"))))))) | CR11: =IF(COUNTA($C11:$AX11)=0,"",IF(AM11="d","ok",IF(ISBLANK(AQ11),IF(ISBLANK(AR11),"ok","Exemption question not answered"),IF(OR(AQ11="yes",AQ11="y"),IF(ISBLANK(AR11),"Empty cell",IF(ISNUMBER(AR11),IF(AR11<1,"Entry should be a date in M/D/YYYY format","ok"),"Entry should be a date in M/D/YYYY format")),IF(OR(AQ11="no",AQ11="n"),IF(ISBLANK(AR11),"ok","No entry should be made in cell"),IF(ISBLANK(AR11),"ok","No entry should be made in cell")))))) | CS11: =IF(COUNTA($C11:$AX11)=0,"",IF(AM11="d","ok",IF(ISBLANK(AS11),"Empty cell",IF(AS11="yes","ok",IF(AS11="y","ok",IF(AS11="no","ok",IF(AS11="n","ok","Entry should be either 'yes', 'y', 'no' or 'n'"))))))) | CT11: =IF(COUNTA($C11:$AX11)=0,"",IF(AM11="d","ok",IF(ISBLANK(AS11),IF(ISBLANK(AT11),"ok","AEDM question not answered"),IF(OR(AS11="yes",AS11="y"),IF(ISBLANK(AT11),"Empty cell","ok"),IF(OR(AS11="no",AS11="n"),IF(ISBLANK(AT11),"ok","No entry should be made in cell"),IF(ISBLANK(AT11),"ok","No entry should be made in cell")))))) | CU11: =IF(COUNTA($C11:$AX11)=0,"",IF($AM11="d","ok",IF(ISBLANK(AU11),"ok",IF(ISNUMBER(AU11),IF(AU11>0,"ok","Entry should be greater than 0"),"Entry should be a number")))) | CV11: =IF(COUNTA($C11:$AX11)=0,"",IF($AM11="d","ok",IF(OR(G11=3,G11=4,G11=7,G11=8,G11=10,G11=12,G11=14),IF(ISBLANK(AV11),"ok",IF(ISNUMBER($AV11),IF($AV11>0,"ok","Entry should be greater than 0"),"Entry should be a number")),IF(ISBLANK(AV11),"ok","Model is not a heat pump")))) | CW11: =IF(COUNTA($C11:$AX11)=0,"",IF($AM11="d","ok",IF(ISBLANK(AW11),"ok",IF(ISNUMBER(AW11),IF(AW11>0,"ok","Entry should be greater than 0"),"Entry should be a number")))) | CX11: =IF(COUNTA($C11:$AX11)=0,"",IF($AM11="d","ok",IF(ISBLANK($AX11),"ok",IF(RIGHT(AX11,4)=".pdf",IF(LEFT(AX11,3)="DOE",IF(ISNUMBER(VALUE(MID(AX11,4,4))),"ok","Filename is not in correct format"),"Filename is not in correct format"),"Filename is not in correct format")))) | DF11: Number of Columns | DG11: 48 | DI11: =IF(BG11="ok",VLOOKUP(G11,PrClDesc,2),"") | DL11: aaaaaa
A12: 2 | B12: =IF(COUNTIF(BC12:CX12,"")=No_of_Columns,"",IF(COUNTIF(BC12:CX12,"ok")=No_of_Columns,"ok","Error")) | BC12: =IF(COUNTA($C12:$AX12)=0,"",IF(ISBLANK($C12),"Empty cell","ok")) | BD12: =IF(COUNTA($C12:$AX12)=0,"",IF(ISBLANK(D12),"Empty cell","ok")) | BE12: =IF(COUNTA($C12:$AX12)=0,"",IF(ISBLANK(E12),"Empty cell","ok")) | BF12: =IF(COUNTA($C12:$AX12)=0,"",IF(ISBLANK(F12),"Empty cell","ok")) | BG12: =IF(COUNTA($C12:$AX12)=0,"",IF(ISBLANK($G12),"Empty cell",IF($G12<1,"Prod. Gr. Code should be an int. betw. 1 and "&No_of_Product_Classes,IF($G12>No_of_Product_Classes,"Prod. Gr. Code should be an int. betw. 1 and "&No_of_Product_Classes,IF($G12=INT($G12),"ok","Prod. Gr. Code should be an int. betw. 1 and "&No_of_Product_Classes))))) | BH12: =IF(COUNTA($C12:$AX12)=0,"",IF(OR(G12=1,G12=3,G12=5,G12=7,G12=9,G12=10,G12=11,G12=12),IF(ISBLANK(H12),"Empty cell",IF(ISBLANK(J12),"ok",IF(AND(H12="***",J12="***"),"ok",IF(AND(H12<>"***",J12<>"***"),"ok","Manufacturer & Indiv. Model No. must both or neither be ***")))),IF(ISBLANK(H12),"ok","No entry should be made"))) | BI12: =IF(COUNTA($C12:$AX12)=0,"",IF(OR(G12=1,G12=3,G12=5,G12=7,G12=9,G12=10,G12=11,G12=12),IF(ISBLANK(I12),"Empty cell","ok"),IF(ISBLANK(I12),"ok","No entry should be made"))) | BJ12: =IF(COUNTA($C12:$AX12)=0,"",IF(OR(G12=1,G12=3,G12=5,G12=7,G12=9,G12=10,G12=11,G12=12),IF(ISBLANK(J12),"Empty cell",IF(ISBLANK(H12),"ok",IF(AND(J12="***",H12="***"),"ok",IF(AND(J12<>"***",H12<>"***"),"ok","Manufacturer & Indiv. Model No. must both or neither be ***")))),IF(ISBLANK(J12),"ok","No entry should be made"))) | BK12: =IF(COUNTA($C12:$AX12)=0,"",IF(OR(G12=1,G12=3,G12=5,G12=7,G12=9,G12=10,G12=11,G12=12),IF(OR(H12="***",J12="***"),IF(ISBLANK(K12),"Empty cell",IF(K12="***","ok","Entry should be ***")),IF(K12="***","Entry should not be ***","ok")),IF(ISBLANK(K12),"ok","No entry should be made"))) | BL12: =IF(COUNTA($C12:$AX12)=0,"",IF(OR(G12=1,G12=3,G12=5,G12=7,G12=9,G12=10,G12=11,G12=12),IF(ISBLANK(K12),IF(ISBLANK(L12),IF(OR(H12="***",J12="***"),"Empty cell","ok"),"Manuf. Air Mover 1 column not completed"),IF(ISBLANK(L12),"Empty cell","ok")),IF(ISBLANK(L12),"ok","No entry should be made"))) | BM12: =IF(COUNTA($C12:$AX12)=0,"",IF(OR(G12=1,G12=3,G12=5,G12=7,G12=9,G12=10,G12=11,G12=12),IF(ISBLANK(K12),IF(ISBLANK(M12),IF(OR(H12="***",J12="***"),"Empty cell","ok"),"Manuf. Air Mover 1 column not completed"),IF(K12="***",IF(ISBLANK(M12),"Empty cell",IF(M12="***","ok","Entry should be ***")),IF(ISBLANK(M12),"Empty cell",IF(M12="***","Entry should not be ***","ok")))),IF(ISBLANK(M12),"ok","No entry should be made"))) | BN12: =IF(COUNTA($C12:$AX12)=0,"",IF(OR(G12=1,G12=3,G12=5,G12=7,G12=9,G12=10,G12=11,G12=12),IF(OR($H12="***",$J12="***"),IF(ISBLANK(N12),"ok","No entry should be made"),IF(N12="***","Entry cannot be ***","ok")),IF(ISBLANK(N12),"ok","No entry should be made"))) | BO12: =IF(COUNTA($C12:$AX12)=0,"",IF(OR(G12=1,G12=3,G12=5,G12=7,G12=9,G12=10,G12=11,G12=12),IF(ISBLANK(N12),IF(ISBLANK(O12),"ok","Manuf. Indoor Unit 2 not entered"),IF(ISBLANK(O12),"Empty cell","ok")),IF(ISBLANK(O12),"ok","No entry should be made"))) | BP12: =IF(COUNTA($C12:$AX12)=0,"",IF(OR(G12=1,G12=3,G12=5,G12=7,G12=9,G12=10,G12=11,G12=12),IF(ISBLANK(N12),IF(ISBLANK(P12),"ok","Manuf. Indoor Unit 2 not entered"),IF(ISBLANK(P12),"Empty cell",IF(P12="***","Entry cannot be ***","ok"))),IF(ISBLANK(P12),"ok","No entry should be made"))) | BQ12: =IF(COUNTA($C12:$AX12)=0,"",IF(OR(G12=1,G12=3,G12=5,G12=7,G12=9,G12=10,G12=11,G12=12),IF(ISBLANK(N12),IF(ISBLANK(Q12),"ok","Info for Indoor Unit 2 not entered"),IF(Q12="***","Entry cannot be ***","ok")),IF(ISBLANK(Q12),"ok","No entry should be made"))) | BR12: =IF(COUNTA($C12:$AX12)=0,"",IF(OR(G12=1,G12=3,G12=5,G12=7,G12=9,G12=10,G12=11,G12=12),IF(ISBLANK(Q12),IF(ISBLANK(R12),"ok","Manuf. Air Mover 2 not entered"),IF(ISBLANK(R12),"Empty cell","ok")),IF(ISBLANK(R12),"ok","No entry should be made"))) | BS12: =IF(COUNTA($C12:$AX12)=0,"",IF(OR(G12=1,G12=3,G12=5,G12=7,G12=9,G12=10,G12=11,G12=12),IF(ISBLANK(Q12),IF(ISBLANK(S12),"ok","Manuf. Air Mover 2 not entered"),IF(ISBLANK(S12),"Empty cell",IF(S12="***","Entry cannot be ***","ok"))),IF(ISBLANK(S12),"ok","No entry should be made"))) | BT12: =IF(COUNTA($C12:$AX12)=0,"",IF(OR(G12=1,G12=3,G12=5,G12=7,G12=9,G12=10,G12=11,G12=12),IF(ISBLANK(N12),IF(ISBLANK(T12),"ok","Info for Indoor Unit 2 not entered"),IF(T12="***","Entry cannot be ***","ok")),IF(ISBLANK(T12),"ok","No entry should be made"))) | BU12: =IF(COUNTA($C12:$AX12)=0,"",IF(OR(G12=1,G12=3,G12=5,G12=7,G12=9,G12=10,G12=11,G12=12),IF(ISBLANK(T12),IF(ISBLANK(U12),"ok","Manuf. Indoor Unit 3 not entered"),IF(ISBLANK(U12),"Empty cell","ok")),IF(ISBLANK(U12),"ok","No entry should be made"))) | BV12: =IF(COUNTA($C12:$AX12)=0,"",IF(OR(G12=1,G12=3,G12=5,G12=7,G12=9,G12=10,G12=11,G12=12),IF(ISBLANK(T12),IF(ISBLANK(V12),"ok","Manuf. Indoor Unit 3 not entered"),IF(ISBLANK(V12),"Empty cell",IF(V12="***","Entry cannot be ***","ok"))),IF(ISBLANK(V12),"ok","No entry should be made"))) | BW12: =IF(COUNTA($C12:$AX12)=0,"",IF(OR(G12=1,G12=3,G12=5,G12=7,G12=9,G12=10,G12=11,G12=12),IF(ISBLANK(T12),IF(ISBLANK(W12),"ok","Info for Indoor Unit 3 not entered"),IF(W12="***","Entry cannot be ***","ok")),IF(ISBLANK(W12),"ok","No entry should be made"))) | BX12: =IF(COUNTA($C12:$AX12)=0,"",IF(OR(G12=1,G12=3,G12=5,G12=7,G12=9,G12=10,G12=11,G12=12),IF(ISBLANK(W12),IF(ISBLANK(X12),"ok","Manuf. Air Mover 3 not entered"),IF(ISBLANK(X12),"Empty cell","ok")),IF(ISBLANK(X12),"ok","No entry should be made"))) | BY12: =IF(COUNTA($C12:$AX12)=0,"",IF(OR(G12=1,G12=3,G12=5,G12=7,G12=9,G12=10,G12=11,G12=12),IF(ISBLANK(W12),IF(ISBLANK(Y12),"ok","Manuf. Air Mover 3 not entered"),IF(ISBLANK(Y12),"Empty cell",IF(Y12="***","Entry cannot be ***","ok"))),IF(ISBLANK(Y12),"ok","No entry should be made"))) | BZ12: =IF(COUNTA($C12:$AX12)=0,"",IF(OR(G12=1,G12=3,G12=5,G12=7,G12=9,G12=10,G12=11,G12=12),IF(ISBLANK(T12),IF(ISBLANK(Z12),"ok","Info for Indoor Unit 3 not entered"),IF(Z12="***","Entry cannot be ***","ok")),IF(ISBLANK(Z12),"ok","No entry should be made"))) | CA12: =IF(COUNTA($C12:$AX12)=0,"",IF(OR(G12=1,G12=3,G12=5,G12=7,G12=9,G12=10,G12=11,G12=12),IF(ISBLANK(Z12),IF(ISBLANK(AA12),"ok","Manuf. Indoor Unit 4 not entered"),IF(ISBLANK(AA12),"Empty cell","ok")),IF(ISBLANK(AA12),"ok","No entry should be made"))) | CB12: =IF(COUNTA($C12:$AX12)=0,"",IF(OR(G12=1,G12=3,G12=5,G12=7,G12=9,G12=10,G12=11,G12=12),IF(ISBLANK(Z12),IF(ISBLANK(AB12),"ok","Manuf. Indoor Unit 4 not entered"),IF(ISBLANK(AB12),"Empty cell",IF(AB12="***","Entry cannot be ***","ok"))),IF(ISBLANK(AB12),"ok","No entry should be made"))) | CC12: =IF(COUNTA($C12:$AX12)=0,"",IF(OR(G12=1,G12=3,G12=5,G12=7,G12=9,G12=10,G12=11,G12=12),IF(ISBLANK(Z12),IF(ISBLANK(AC12),"ok","Info for Indoor Unit 4 not entered"),IF(AC12="***","Entry cannot be ***","ok")),IF(ISBLANK(AC12),"ok","No entry should be made"))) | CD12: =IF(COUNTA($C12:$AX12)=0,"",IF(OR(G12=1,G12=3,G12=5,G12=7,G12=9,G12=10,G12=11,G12=12),IF(ISBLANK(AC12),IF(ISBLANK(AD12),"ok","Manuf. Air Mover 4 not entered"),IF(ISBLANK(AD12),"Empty cell","ok")),IF(ISBLANK(AD12),"ok","No entry should be made"))) | CE12: =IF(COUNTA($C12:$AX12)=0,"",IF(OR(G12=1,G12=3,G12=5,G12=7,G12=9,G12=10,G12=11,G12=12),IF(ISBLANK(AC12),IF(ISBLANK(AE12),"ok","Manuf. Air Mover 4 not entered"),IF(ISBLANK(AE12),"Empty cell",IF(AE12="***","Entry cannot be ***","ok"))),IF(ISBLANK(AE12),"ok","No entry should be made"))) | CF12: =IF(COUNTA($C12:$AX12)=0,"",IF(OR(G12=1,G12=3,G12=5,G12=7,G12=9,G12=10,G12=11,G12=12),IF(ISBLANK(Z12),IF(ISBLANK(AF12),"ok","Info for Indoor Unit 4 not entered"),IF(AF12="***","Entry cannot be ***","ok")),IF(ISBLANK(AF12),"ok","No entry should be made"))) | CG12: =IF(COUNTA($C12:$AX12)=0,"",IF(OR(G12=1,G12=3,G12=5,G12=7,G12=9,G12=10,G12=11,G12=12),IF(ISBLANK(AF12),IF(ISBLANK(AG12),"ok","Manuf. Indoor Unit 5 not entered"),IF(ISBLANK(AG12),"Empty cell","ok")),IF(ISBLANK(AG12),"ok","No entry should be made"))) | CH12: =IF(COUNTA($C12:$AX12)=0,"",IF(OR(G12=1,G12=3,G12=5,G12=7,G12=9,G12=10,G12=11,G12=12),IF(ISBLANK(AF12),IF(ISBLANK(AH12),"ok","Manuf. Indoor Unit 5 not entered"),IF(ISBLANK(AH12),"Empty cell",IF(AH12="***","Entry cannot be ***","ok"))),IF(ISBLANK(AH12),"ok","No entry should be made"))) | CI12: =IF(COUNTA($C12:$AX12)=0,"",IF(OR(G12=1,G12=3,G12=5,G12=7,G12=9,G12=10,G12=11,G12=12),IF(ISBLANK(AF12),IF(ISBLANK(AI12),"ok","Info for Indoor Unit 5 not entered"),IF(AI12="***","Entry cannot be ***","ok")),IF(ISBLANK(AI12),"ok","No entry should be made"))) | CJ12: =IF(COUNTA($C12:$AX12)=0,"",IF(OR(G12=1,G12=3,G12=5,G12=7,G12=9,G12=10,G12=11,G12=12),IF(ISBLANK(AI12),IF(ISBLANK(AJ12),"ok","Manuf. Air Mover 5 not entered"),IF(ISBLANK(AJ12),"Empty cell","ok")),IF(ISBLANK(AJ12),"ok","No entry should be made"))) | CK12: =IF(COUNTA($C12:$AX12)=0,"",IF(OR(G12=1,G12=3,G12=5,G12=7,G12=9,G12=10,G12=11,G12=12),IF(ISBLANK(AI12),IF(ISBLANK(AK12),"ok","Manuf. Air Mover 5 not entered"),IF(ISBLANK(AK12),"Empty cell",IF(AK12="***","Entry cannot be ***","ok"))),IF(ISBLANK(AK12),"ok","No entry should be made"))) | CL12: =IF(COUNTA($C12:$AX12)=0,"",IF(ISBLANK(AL12),"Empty cell",IF(AL12="yes","ok",IF(AL12="y","ok",IF(AL12="no","ok",IF(AL12="n","ok","Entry should be either 'yes', 'y', 'no' or 'n'")))))) | CM12: =IF(COUNTA($C12:$AX12)=0,"",IF(ISBLANK($AM12),"Empty cell",IF(OR($AM12="n",$AM12="eto",$AM12="d",$AM12="c",$AM12="e",$AM12="f"),"ok","Should be n, eto, d, c, e, or f"))) | CN12: =IF(COUNTA($C12:$AX12)=0,"",IF(AM12="d","ok",IF(ISBLANK($AN12),"Empty cell",IF(OR(AS12="yes",AS12="y"),IF(AN12=0,"ok","Entry should be 0"),IF(OR(AS12="no",AS12="n"),IF(ISNUMBER(AN12),IF(INT(AN12)=AN12,IF(AN12>0,"ok","Entry should be a positive integer"),"Entry should be a positive integer"),"Entry should be a positive integer"),IF(ISNUMBER(AN12),IF(INT(AN12)=AN12,IF(AN12>=0,"ok","Need to answer AEDM question"),"Need to answer AEDM question"),"Need to answer AEDM question")))))) | CO12: =IF(COUNTA($C12:$AX12)=0,"",IF(AM12="d","ok",IF(ISBLANK(AO12),"Empty cell",IF(AO12="yes","ok",IF(AO12="y","ok",IF(AO12="no","ok",IF(AO12="n","ok","Entry should be either 'yes', 'y', 'no' or 'n'"))))))) | CP12: =IF(COUNTA($C12:$AX12)=0,"",IF(AM12="d","ok",IF(ISBLANK(AO12),IF(ISBLANK(AP12),"ok","Waiver question not answered"),IF(OR(AO12="yes",AO12="y"),IF(ISBLANK(AP12),"Empty cell",IF(ISNUMBER(AP12),IF(AP12<1,"Entry should be a date in M/D/YYYY format","ok"),"Entry should be a date in M/D/YYYY format")),IF(OR(AO12="no",AO12="n"),IF(ISBLANK(AP12),"ok","No entry should be made in cell"),IF(ISBLANK(AP12),"ok","No entry should be made in cell")))))) | CQ12: =IF(COUNTA($C12:$AX12)=0,"",IF(AM12="d","ok",IF(ISBLANK(AQ12),"Empty cell",IF(AQ12="yes","ok",IF(AQ12="y","ok",IF(AQ12="no","ok",IF(AQ12="n","ok","Entry should be either 'yes', 'y', 'no' or 'n'"))))))) | CR12: =IF(COUNTA($C12:$AX12)=0,"",IF(AM12="d","ok",IF(ISBLANK(AQ12),IF(ISBLANK(AR12),"ok","Exemption question not answered"),IF(OR(AQ12="yes",AQ12="y"),IF(ISBLANK(AR12),"Empty cell",IF(ISNUMBER(AR12),IF(AR12<1,"Entry should be a date in M/D/YYYY format","ok"),"Entry should be a date in M/D/YYYY format")),IF(OR(AQ12="no",AQ12="n"),IF(ISBLANK(AR12),"ok","No entry should be made in cell"),IF(ISBLANK(AR12),"ok","No entry should be made in cell")))))) | CS12: =IF(COUNTA($C12:$AX12)=0,"",IF(AM12="d","ok",IF(ISBLANK(AS12),"Empty cell",IF(AS12="yes","ok",IF(AS12="y","ok",IF(AS12="no","ok",IF(AS12="n","ok","Entry should be either 'yes', 'y', 'no' or 'n'"))))))) | CT12: =IF(COUNTA($C12:$AX12)=0,"",IF(AM12="d","ok",IF(ISBLANK(AS12),IF(ISBLANK(AT12),"ok","AEDM question not answered"),IF(OR(AS12="yes",AS12="y"),IF(ISBLANK(AT12),"Empty cell","ok"),IF(OR(AS12="no",AS12="n"),IF(ISBLANK(AT12),"ok","No entry should be made in cell"),IF(ISBLANK(AT12),"ok","No entry should be made in cell")))))) | CU12: =IF(COUNTA($C12:$AX12)=0,"",IF($AM12="d","ok",IF(ISBLANK(AU12),"ok",IF(ISNUMBER(AU12),IF(AU12>0,"ok","Entry should be greater than 0"),"Entry should be a number")))) | CV12: =IF(COUNTA($C12:$AX12)=0,"",IF($AM12="d","ok",IF(OR(G12=3,G12=4,G12=7,G12=8,G12=10,G12=12,G12=14),IF(ISBLANK(AV12),"ok",IF(ISNUMBER($AV12),IF($AV12>0,"ok","Entry should be greater than 0"),"Entry should be a number")),IF(ISBLANK(AV12),"ok","Model is not a heat pump")))) | CW12: =IF(COUNTA($C12:$AX12)=0,"",IF($AM12="d","ok",IF(ISBLANK(AW12),"ok",IF(ISNUMBER(AW12),IF(AW12>0,"ok","Entry should be greater than 0"),"Entry should be a number")))) | CX12: =IF(COUNTA($C12:$AX12)=0,"",IF($AM12="d","ok",IF(ISBLANK($AX12),"ok",IF(RIGHT(AX12,4)=".pdf",IF(LEFT(AX12,3)="DOE",IF(ISNUMBER(VALUE(MID(AX12,4,4))),"ok","Filename is not in correct format"),"Filename is not in correct format"),"Filename is not in correct format")))) | DF12: Number of Product Group Codes | DG12: 14 | DI12: =IF(BG12="ok",VLOOKUP(G12,PrClDesc,2),"") | DL12: aaaaaa
A13: 3 | B13: =IF(COUNTIF(BC13:CX13,"")=No_of_Columns,"",IF(COUNTIF(BC13:CX13,"ok")=No_of_Columns,"ok","Error")) | BC13: =IF(COUNTA($C13:$AX13)=0,"",IF(ISBLANK($C13),"Empty cell","ok")) | BD13: =IF(COUNTA($C13:$AX13)=0,"",IF(ISBLANK(D13),"Empty cell","ok")) | BE13: =IF(COUNTA($C13:$AX13)=0,"",IF(ISBLANK(E13),"Empty cell","ok")) | BF13: =IF(COUNTA($C13:$AX13)=0,"",IF(ISBLANK(F13),"Empty cell","ok")) | BG13: =IF(COUNTA($C13:$AX13)=0,"",IF(ISBLANK($G13),"Empty cell",IF($G13<1,"Prod. Gr. Code should be an int. betw. 1 and "&No_of_Product_Classes,IF($G13>No_of_Product_Classes,"Prod. Gr. Code should be an int. betw. 1 and "&No_of_Product_Classes,IF($G13=INT($G13),"ok","Prod. Gr. Code should be an int. betw. 1 and "&No_of_Product_Classes))))) | BH13: =IF(COUNTA($C13:$AX13)=0,"",IF(OR(G13=1,G13=3,G13=5,G13=7,G13=9,G13=10,G13=11,G13=12),IF(ISBLANK(H13),"Empty cell",IF(ISBLANK(J13),"ok",IF(AND(H13="***",J13="***"),"ok",IF(AND(H13<>"***",J13<>"***"),"ok","Manufacturer & Indiv. Model No. must both or neither be ***")))),IF(ISBLANK(H13),"ok","No entry should be made"))) | BI13: =IF(COUNTA($C13:$AX13)=0,"",IF(OR(G13=1,G13=3,G13=5,G13=7,G13=9,G13=10,G13=11,G13=12),IF(ISBLANK(I13),"Empty cell","ok"),IF(ISBLANK(I13),"ok","No entry should be made"))) | BJ13: =IF(COUNTA($C13:$AX13)=0,"",IF(OR(G13=1,G13=3,G13=5,G13=7,G13=9,G13=10,G13=11,G13=12),IF(ISBLANK(J13),"Empty cell",IF(ISBLANK(H13),"ok",IF(AND(J13="***",H13="***"),"ok",IF(AND(J13<>"***",H13<>"***"),"ok","Manufacturer & Indiv. Model No. must both or neither be ***")))),IF(ISBLANK(J13),"ok","No entry should be made"))) | BK13: =IF(COUNTA($C13:$AX13)=0,"",IF(OR(G13=1,G13=3,G13=5,G13=7,G13=9,G13=10,G13=11,G13=12),IF(OR(H13="***",J13="***"),IF(ISBLANK(K13),"Empty cell",IF(K13="***","ok","Entry should be ***")),IF(K13="***","Entry should not be ***","ok")),IF(ISBLANK(K13),"ok","No entry should be made"))) | BL13: =IF(COUNTA($C13:$AX13)=0,"",IF(OR(G13=1,G13=3,G13=5,G13=7,G13=9,G13=10,G13=11,G13=12),IF(ISBLANK(K13),IF(ISBLANK(L13),IF(OR(H13="***",J13="***"),"Empty cell","ok"),"Manuf. Air Mover 1 column not completed"),IF(ISBLANK(L13),"Empty cell","ok")),IF(ISBLANK(L13),"ok","No entry should be made"))) | BM13: =IF(COUNTA($C13:$AX13)=0,"",IF(OR(G13=1,G13=3,G13=5,G13=7,G13=9,G13=10,G13=11,G13=12),IF(ISBLANK(K13),IF(ISBLANK(M13),IF(OR(H13="***",J13="***"),"Empty cell","ok"),"Manuf. Air Mover 1 column not completed"),IF(K13="***",IF(ISBLANK(M13),"Empty cell",IF(M13="***","ok","Entry should be ***")),IF(ISBLANK(M13),"Empty cell",IF(M13="***","Entry should not be ***","ok")))),IF(ISBLANK(M13),"ok","No entry should be made"))) | BN13: =IF(COUNTA($C13:$AX13)=0,"",IF(OR(G13=1,G13=3,G13=5,G13=7,G13=9,G13=10,G13=11,G13=12),IF(OR($H13="***",$J13="***"),IF(ISBLANK(N13),"ok","No entry should be made"),IF(N13="***","Entry cannot be ***","ok")),IF(ISBLANK(N13),"ok","No entry should be made"))) | BO13: =IF(COUNTA($C13:$AX13)=0,"",IF(OR(G13=1,G13=3,G13=5,G13=7,G13=9,G13=10,G13=11,G13=12),IF(ISBLANK(N13),IF(ISBLANK(O13),"ok","Manuf. Indoor Unit 2 not entered"),IF(ISBLANK(O13),"Empty cell","ok")),IF(ISBLANK(O13),"ok","No entry should be made"))) | BP13: =IF(COUNTA($C13:$AX13)=0,"",IF(OR(G13=1,G13=3,G13=5,G13=7,G13=9,G13=10,G13=11,G13=12),IF(ISBLANK(N13),IF(ISBLANK(P13),"ok","Manuf. Indoor Unit 2 not entered"),IF(ISBLANK(P13),"Empty cell",IF(P13="***","Entry cannot be ***","ok"))),IF(ISBLANK(P13),"ok","No entry should be made"))) | BQ13: =IF(COUNTA($C13:$AX13)=0,"",IF(OR(G13=1,G13=3,G13=5,G13=7,G13=9,G13=10,G13=11,G13=12),IF(ISBLANK(N13),IF(ISBLANK(Q13),"ok","Info for Indoor Unit 2 not entered"),IF(Q13="***","Entry cannot be ***","ok")),IF(ISBLANK(Q13),"ok","No entry should be made"))) | BR13: =IF(COUNTA($C13:$AX13)=0,"",IF(OR(G13=1,G13=3,G13=5,G13=7,G13=9,G13=10,G13=11,G13=12),IF(ISBLANK(Q13),IF(ISBLANK(R13),"ok","Manuf. Air Mover 2 not entered"),IF(ISBLANK(R13),"Empty cell","ok")),IF(ISBLANK(R13),"ok","No entry should be made"))) | BS13: =IF(COUNTA($C13:$AX13)=0,"",IF(OR(G13=1,G13=3,G13=5,G13=7,G13=9,G13=10,G13=11,G13=12),IF(ISBLANK(Q13),IF(ISBLANK(S13),"ok","Manuf. Air Mover 2 not entered"),IF(ISBLANK(S13),"Empty cell",IF(S13="***","Entry cannot be ***","ok"))),IF(ISBLANK(S13),"ok","No entry should be made"))) | BT13: =IF(COUNTA($C13:$AX13)=0,"",IF(OR(G13=1,G13=3,G13=5,G13=7,G13=9,G13=10,G13=11,G13=12),IF(ISBLANK(N13),IF(ISBLANK(T13),"ok","Info for Indoor Unit 2 not entered"),IF(T13="***","Entry cannot be ***","ok")),IF(ISBLANK(T13),"ok","No entry should be made"))) | BU13: =IF(COUNTA($C13:$AX13)=0,"",IF(OR(G13=1,G13=3,G13=5,G13=7,G13=9,G13=10,G13=11,G13=12),IF(ISBLANK(T13),IF(ISBLANK(U13),"ok","Manuf. Indoor Unit 3 not entered"),IF(ISBLANK(U13),"Empty cell","ok")),IF(ISBLANK(U13),"ok","No entry should be made"))) | BV13: =IF(COUNTA($C13:$AX13)=0,"",IF(OR(G13=1,G13=3,G13=5,G13=7,G13=9,G13=10,G13=11,G13=12),IF(ISBLANK(T13),IF(ISBLANK(V13),"ok","Manuf. Indoor Unit 3 not entered"),IF(ISBLANK(V13),"Empty cell",IF(V13="***","Entry cannot be ***","ok"))),IF(ISBLANK(V13),"ok","No entry should be made"))) | BW13: =IF(COUNTA($C13:$AX13)=0,"",IF(OR(G13=1,G13=3,G13=5,G13=7,G13=9,G13=10,G13=11,G13=12),IF(ISBLANK(T13),IF(ISBLANK(W13),"ok","Info for Indoor Unit 3 not entered"),IF(W13="***","Entry cannot be ***","ok")),IF(ISBLANK(W13),"ok","No entry should be made"))) | BX13: =IF(COUNTA($C13:$AX13)=0,"",IF(OR(G13=1,G13=3,G13=5,G13=7,G13=9,G13=10,G13=11,G13=12),IF(ISBLANK(W13),IF(ISBLANK(X13),"ok","Manuf. Air Mover 3 not entered"),IF(ISBLANK(X13),"Empty cell","ok")),IF(ISBLANK(X13),"ok","No entry should be made"))) | BY13: =IF(COUNTA($C13:$AX13)=0,"",IF(OR(G13=1,G13=3,G13=5,G13=7,G13=9,G13=10,G13=11,G13=12),IF(ISBLANK(W13),IF(ISBLANK(Y13),"ok","Manuf. Air Mover 3 not entered"),IF(ISBLANK(Y13),"Empty cell",IF(Y13="***","Entry cannot be ***","ok"))),IF(ISBLANK(Y13),"ok","No entry should be made"))) | BZ13: =IF(COUNTA($C13:$AX13)=0,"",IF(OR(G13=1,G13=3,G13=5,G13=7,G13=9,G13=10,G13=11,G13=12),IF(ISBLANK(T13),IF(ISBLANK(Z13),"ok","Info for Indoor Unit 3 not entered"),IF(Z13="***","Entry cannot be ***","ok")),IF(ISBLANK(Z13),"ok","No entry should be made"))) | CA13: =IF(COUNTA($C13:$AX13)=0,"",IF(OR(G13=1,G13=3,G13=5,G13=7,G13=9,G13=10,G13=11,G13=12),IF(ISBLANK(Z13),IF(ISBLANK(AA13),"ok","Manuf. Indoor Unit 4 not entered"),IF(ISBLANK(AA13),"Empty cell","ok")),IF(ISBLANK(AA13),"ok","No entry should be made"))) | CB13: =IF(COUNTA($C13:$AX13)=0,"",IF(OR(G13=1,G13=3,G13=5,G13=7,G13=9,G13=10,G13=11,G13=12),IF(ISBLANK(Z13),IF(ISBLANK(AB13),"ok","Manuf. Indoor Unit 4 not entered"),IF(ISBLANK(AB13),"Empty cell",IF(AB13="***","Entry cannot be ***","ok"))),IF(ISBLANK(AB13),"ok","No entry should be made"))) | CC13: =IF(COUNTA($C13:$AX13)=0,"",IF(OR(G13=1,G13=3,G13=5,G13=7,G13=9,G13=10,G13=11,G13=12),IF(ISBLANK(Z13),IF(ISBLANK(AC13),"ok","Info for Indoor Unit 4 not entered"),IF(AC13="***","Entry cannot be ***","ok")),IF(ISBLANK(AC13),"ok","No entry should be made"))) | CD13: =IF(COUNTA($C13:$AX13)=0,"",IF(OR(G13=1,G13=3,G13=5,G13=7,G13=9,G13=10,G13=11,G13=12),IF(ISBLANK(AC13),IF(ISBLANK(AD13),"ok","Manuf. Air Mover 4 not entered"),IF(ISBLANK(AD13),"Empty cell","ok")),IF(ISBLANK(AD13),"ok","No entry should be made"))) | CE13: =IF(COUNTA($C13:$AX13)=0,"",IF(OR(G13=1,G13=3,G13=5,G13=7,G13=9,G13=10,G13=11,G13=12),IF(ISBLANK(AC13),IF(ISBLANK(AE13),"ok","Manuf. Air Mover 4 not entered"),IF(ISBLANK(AE13),"Empty cell",IF(AE13="***","Entry cannot be ***","ok"))),IF(ISBLANK(AE13),"ok","No entry should be made"))) | CF13: =IF(COUNTA($C13:$AX13)=0,"",IF(OR(G13=1,G13=3,G13=5,G13=7,G13=9,G13=10,G13=11,G13=12),IF(ISBLANK(Z13),IF(ISBLANK(AF13),"ok","Info for Indoor Unit 4 not entered"),IF(AF13="***","Entry cannot be ***","ok")),IF(ISBLANK(AF13),"ok","No entry should be made"))) | CG13: =IF(COUNTA($C13:$AX13)=0,"",IF(OR(G13=1,G13=3,G13=5,G13=7,G13=9,G13=10,G13=11,G13=12),IF(ISBLANK(AF13),IF(ISBLANK(AG13),"ok","Manuf. Indoor Unit 5 not entered"),IF(ISBLANK(AG13),"Empty cell","ok")),IF(ISBLANK(AG13),"ok","No entry should be made"))) | CH13: =IF(COUNTA($C13:$AX13)=0,"",IF(OR(G13=1,G13=3,G13=5,G13=7,G13=9,G13=10,G13=11,G13=12),IF(ISBLANK(AF13),IF(ISBLANK(AH13),"ok","Manuf. Indoor Unit 5 not entered"),IF(ISBLANK(AH13),"Empty cell",IF(AH13="***","Entry cannot be ***","ok"))),IF(ISBLANK(AH13),"ok","No entry should be made"))) | CI13: =IF(COUNTA($C13:$AX13)=0,"",IF(OR(G13=1,G13=3,G13=5,G13=7,G13=9,G13=10,G13=11,G13=12),IF(ISBLANK(AF13),IF(ISBLANK(AI13),"ok","Info for Indoor Unit 5 not entered"),IF(AI13="***","Entry cannot be ***","ok")),IF(ISBLANK(AI13),"ok","No entry should be made"))) | CJ13: =IF(COUNTA($C13:$AX13)=0,"",IF(OR(G13=1,G13=3,G13=5,G13=7,G13=9,G13=10,G13=11,G13=12),IF(ISBLANK(AI13),IF(ISBLANK(AJ13),"ok","Manuf. Air Mover 5 not entered"),IF(ISBLANK(AJ13),"Empty cell","ok")),IF(ISBLANK(AJ13),"ok","No entry should be made"))) | CK13: =IF(COUNTA($C13:$AX13)=0,"",IF(OR(G13=1,G13=3,G13=5,G13=7,G13=9,G13=10,G13=11,G13=12),IF(ISBLANK(AI13),IF(ISBLANK(AK13),"ok","Manuf. Air Mover 5 not entered"),IF(ISBLANK(AK13),"Empty cell",IF(AK13="***","Entry cannot be ***","ok"))),IF(ISBLANK(AK13),"ok","No entry should be made"))) | CL13: =IF(COUNTA($C13:$AX13)=0,"",IF(ISBLANK(AL13),"Empty cell",IF(AL13="yes","ok",IF(AL13="y","ok",IF(AL13="no","ok",IF(AL13="n","ok","Entry should be either 'yes', 'y', 'no' or 'n'")))))) | CM13: =IF(COUNTA($C13:$AX13)=0,"",IF(ISBLANK($AM13),"Empty cell",IF(OR($AM13="n",$AM13="eto",$AM13="d",$AM13="c",$AM13="e",$AM13="f"),"ok","Should be n, eto, d, c, e, or f"))) | CN13: =IF(COUNTA($C13:$AX13)=0,"",IF(AM13="d","ok",IF(ISBLANK($AN13),"Empty cell",IF(OR(AS13="yes",AS13="y"),IF(AN13=0,"ok","Entry should be 0"),IF(OR(AS13="no",AS13="n"),IF(ISNUMBER(AN13),IF(INT(AN13)=AN13,IF(AN13>0,"ok","Entry should be a positive integer"),"Entry should be a positive integer"),"Entry should be a positive integer"),IF(ISNUMBER(AN13),IF(INT(AN13)=AN13,IF(AN13>=0,"ok","Need to answer AEDM question"),"Need to answer AEDM question"),"Need to answer AEDM question")))))) | CO13: =IF(COUNTA($C13:$AX13)=0,"",IF(AM13="d","ok",IF(ISBLANK(AO13),"Empty cell",IF(AO13="yes","ok",IF(AO13="y","ok",IF(AO13="no","ok",IF(AO13="n","ok","Entry should be either 'yes', 'y', 'no' or 'n'"))))))) | CP13: =IF(COUNTA($C13:$AX13)=0,"",IF(AM13="d","ok",IF(ISBLANK(AO13),IF(ISBLANK(AP13),"ok","Waiver question not answered"),IF(OR(AO13="yes",AO13="y"),IF(ISBLANK(AP13),"Empty cell",IF(ISNUMBER(AP13),IF(AP13<1,"Entry should be a date in M/D/YYYY format","ok"),"Entry should be a date in M/D/YYYY format")),IF(OR(AO13="no",AO13="n"),IF(ISBLANK(AP13),"ok","No entry should be made in cell"),IF(ISBLANK(AP13),"ok","No entry should be made in cell")))))) | CQ13: =IF(COUNTA($C13:$AX13)=0,"",IF(AM13="d","ok",IF(ISBLANK(AQ13),"Empty cell",IF(AQ13="yes","ok",IF(AQ13="y","ok",IF(AQ13="no","ok",IF(AQ13="n","ok","Entry should be either 'yes', 'y', 'no' or 'n'"))))))) | CR13: =IF(COUNTA($C13:$AX13)=0,"",IF(AM13="d","ok",IF(ISBLANK(AQ13),IF(ISBLANK(AR13),"ok","Exemption question not answered"),IF(OR(AQ13="yes",AQ13="y"),IF(ISBLANK(AR13),"Empty cell",IF(ISNUMBER(AR13),IF(AR13<1,"Entry should be a date in M/D/YYYY format","ok"),"Entry should be a date in M/D/YYYY format")),IF(OR(AQ13="no",AQ13="n"),IF(ISBLANK(AR13),"ok","No entry should be made in cell"),IF(ISBLANK(AR13),"ok","No entry should be made in cell")))))) | CS13: =IF(COUNTA($C13:$AX13)=0,"",IF(AM13="d","ok",IF(ISBLANK(AS13),"Empty cell",IF(AS13="yes","ok",IF(AS13="y","ok",IF(AS13="no","ok",IF(AS13="n","ok","Entry should be either 'yes', 'y', 'no' or 'n'"))))))) | CT13: =IF(COUNTA($C13:$AX13)=0,"",IF(AM13="d","ok",IF(ISBLANK(AS13),IF(ISBLANK(AT13),"ok","AEDM question not answered"),IF(OR(AS13="yes",AS13="y"),IF(ISBLANK(AT13),"Empty cell","ok"),IF(OR(AS13="no",AS13="n"),IF(ISBLANK(AT13),"ok","No entry should be made in cell"),IF(ISBLANK(AT13),"ok","No entry should be made in cell")))))) | CU13: =IF(COUNTA($C13:$AX13)=0,"",IF($AM13="d","ok",IF(ISBLANK(AU13),"ok",IF(ISNUMBER(AU13),IF(AU13>0,"ok","Entry should be greater than 0"),"Entry should be a number")))) | CV13: =IF(COUNTA($C13:$AX13)=0,"",IF($AM13="d","ok",IF(OR(G13=3,G13=4,G13=7,G13=8,G13=10,G13=12,G13=14),IF(ISBLANK(AV13),"ok",IF(ISNUMBER($AV13),IF($AV13>0,"ok","Entry should be greater than 0"),"Entry should be a number")),IF(ISBLANK(AV13),"ok","Model is not a heat pump")))) | CW13: =IF(COUNTA($C13:$AX13)=0,"",IF($AM13="d","ok",IF(ISBLANK(AW13),"ok",IF(ISNUMBER(AW13),IF(AW13>0,"ok","Entry should be greater than 0"),"Entry should be a number")))) | CX13: =IF(COUNTA($C13:$AX13)=0,"",IF($AM13="d","ok",IF(ISBLANK($AX13),"ok",IF(RIGHT(AX13,4)=".pdf",IF(LEFT(AX13,3)="DOE",IF(ISNUMBER(VALUE(MID(AX13,4,4))),"ok","Filename is not in correct format"),"Filename is not in correct format"),"Filename is not in correct format")))) | DI13: =IF(BG13="ok",VLOOKUP(G13,PrClDesc,2),"") | DL13: aaaaaa
A14: 4 | B14: =IF(COUNTIF(BC14:CX14,"")=No_of_Columns,"",IF(COUNTIF(BC14:CX14,"ok")=No_of_Columns,"ok","Error")) | BC14: =IF(COUNTA($C14:$AX14)=0,"",IF(ISBLANK($C14),"Empty cell","ok")) | BD14: =IF(COUNTA($C14:$AX14)=0,"",IF(ISBLANK(D14),"Empty cell","ok")) | BE14: =IF(COUNTA($C14:$AX14)=0,"",IF(ISBLANK(E14),"Empty cell","ok")) | BF14: =IF(COUNTA($C14:$AX14)=0,"",IF(ISBLANK(F14),"Empty cell","ok")) | BG14: =IF(COUNTA($C14:$AX14)=0,"",IF(ISBLANK($G14),"Empty cell",IF($G14<1,"Prod. Gr. Code should be an int. betw. 1 and "&No_of_Product_Classes,IF($G14>No_of_Product_Classes,"Prod. Gr. Code should be an int. betw. 1 and "&No_of_Product_Classes,IF($G14=INT($G14),"ok","Prod. Gr. Code should be an int. betw. 1 and "&No_of_Product_Classes))))) | BH14: =IF(COUNTA($C14:$AX14)=0,"",IF(OR(G14=1,G14=3,G14=5,G14=7,G14=9,G14=10,G14=11,G14=12),IF(ISBLANK(H14),"Empty cell",IF(ISBLANK(J14),"ok",IF(AND(H14="***",J14="***"),"ok",IF(AND(H14<>"***",J14<>"***"),"ok","Manufacturer & Indiv. Model No. must both or neither be ***")))),IF(ISBLANK(H14),"ok","No entry should be made"))) | BI14: =IF(COUNTA($C14:$AX14)=0,"",IF(OR(G14=1,G14=3,G14=5,G14=7,G14=9,G14=10,G14=11,G14=12),IF(ISBLANK(I14),"Empty cell","ok"),IF(ISBLANK(I14),"ok","No entry should be made"))) | BJ14: =IF(COUNTA($C14:$AX14)=0,"",IF(OR(G14=1,G14=3,G14=5,G14=7,G14=9,G14=10,G14=11,G14=12),IF(ISBLANK(J14),"Empty cell",IF(ISBLANK(H14),"ok",IF(AND(J14="***",H14="***"),"ok",IF(AND(J14<>"***",H14<>"***"),"ok","Manufacturer & Indiv. Model No. must both or neither be ***")))),IF(ISBLANK(J14),"ok","No entry should be made"))) | BK14: =IF(COUNTA($C14:$AX14)=0,"",IF(OR(G14=1,G14=3,G14=5,G14=7,G14=9,G14=10,G14=11,G14=12),IF(OR(H14="***",J14="***"),IF(ISBLANK(K14),"Empty cell",IF(K14="***","ok","Entry should be ***")),IF(K14="***","Entry should not be ***","ok")),IF(ISBLANK(K14),"ok","No entry should be made"))) | BL14: =IF(COUNTA($C14:$AX14)=0,"",IF(OR(G14=1,G14=3,G14=5,G14=7,G14=9,G14=10,G14=11,G14=12),IF(ISBLANK(K14),IF(ISBLANK(L14),IF(OR(H14="***",J14="***"),"Empty cell","ok"),"Manuf. Air Mover 1 column not completed"),IF(ISBLANK(L14),"Empty cell","ok")),IF(ISBLANK(L14),"ok","No entry should be made"))) | BM14: =IF(COUNTA($C14:$AX14)=0,"",IF(OR(G14=1,G14=3,G14=5,G14=7,G14=9,G14=10,G14=11,G14=12),IF(ISBLANK(K14),IF(ISBLANK(M14),IF(OR(H14="***",J14="***"),"Empty cell","ok"),"Manuf. Air Mover 1 column not completed"),IF(K14="***",IF(ISBLANK(M14),"Empty cell",IF(M14="***","ok","Entry should be ***")),IF(ISBLANK(M14),"Empty cell",IF(M14="***","Entry should not be ***","ok")))),IF(ISBLANK(M14),"ok","No entry should be made"))) | BN14: =IF(COUNTA($C14:$AX14)=0,"",IF(OR(G14=1,G14=3,G14=5,G14=7,G14=9,G14=10,G14=11,G14=12),IF(OR($H14="***",$J14="***"),IF(ISBLANK(N14),"ok","No entry should be made"),IF(N14="***","Entry cannot be ***","ok")),IF(ISBLANK(N14),"ok","No entry should be made"))) | BO14: =IF(COUNTA($C14:$AX14)=0,"",IF(OR(G14=1,G14=3,G14=5,G14=7,G14=9,G14=10,G14=11,G14=12),IF(ISBLANK(N14),IF(ISBLANK(O14),"ok","Manuf. Indoor Unit 2 not entered"),IF(ISBLANK(O14),"Empty cell","ok")),IF(ISBLANK(O14),"ok","No entry should be made"))) | BP14: =IF(COUNTA($C14:$AX14)=0,"",IF(OR(G14=1,G14=3,G14=5,G14=7,G14=9,G14=10,G14=11,G14=12),IF(ISBLANK(N14),IF(ISBLANK(P14),"ok","Manuf. Indoor Unit 2 not entered"),IF(ISBLANK(P14),"Empty cell",IF(P14="***","Entry cannot be ***","ok"))),IF(ISBLANK(P14),"ok","No entry should be made"))) | BQ14: =IF(COUNTA($C14:$AX14)=0,"",IF(OR(G14=1,G14=3,G14=5,G14=7,G14=9,G14=10,G14=11,G14=12),IF(ISBLANK(N14),IF(ISBLANK(Q14),"ok","Info for Indoor Unit 2 not entered"),IF(Q14="***","Entry cannot be ***","ok")),IF(ISBLANK(Q14),"ok","No entry should be made"))) | BR14: =IF(COUNTA($C14:$AX14)=0,"",IF(OR(G14=1,G14=3,G14=5,G14=7,G14=9,G14=10,G14=11,G14=12),IF(ISBLANK(Q14),IF(ISBLANK(R14),"ok","Manuf. Air Mover 2 not entered"),IF(ISBLANK(R14),"Empty cell","ok")),IF(ISBLANK(R14),"ok","No entry should be made"))) | BS14: =IF(COUNTA($C14:$AX14)=0,"",IF(OR(G14=1,G14=3,G14=5,G14=7,G14=9,G14=10,G14=11,G14=12),IF(ISBLANK(Q14),IF(ISBLANK(S14),"ok","Manuf. Air Mover 2 not entered"),IF(ISBLANK(S14),"Empty cell",IF(S14="***","Entry cannot be ***","ok"))),IF(ISBLANK(S14),"ok","No entry should be made"))) | BT14: =IF(COUNTA($C14:$AX14)=0,"",IF(OR(G14=1,G14=3,G14=5,G14=7,G14=9,G14=10,G14=11,G14=12),IF(ISBLANK(N14),IF(ISBLANK(T14),"ok","Info for Indoor Unit 2 not entered"),IF(T14="***","Entry cannot be ***","ok")),IF(ISBLANK(T14),"ok","No entry should be made"))) | BU14: =IF(COUNTA($C14:$AX14)=0,"",IF(OR(G14=1,G14=3,G14=5,G14=7,G14=9,G14=10,G14=11,G14=12),IF(ISBLANK(T14),IF(ISBLANK(U14),"ok","Manuf. Indoor Unit 3 not entered"),IF(ISBLANK(U14),"Empty cell","ok")),IF(ISBLANK(U14),"ok","No entry should be made"))) | BV14: =IF(COUNTA($C14:$AX14)=0,"",IF(OR(G14=1,G14=3,G14=5,G14=7,G14=9,G14=10,G14=11,G14=12),IF(ISBLANK(T14),IF(ISBLANK(V14),"ok","Manuf. Indoor Unit 3 not entered"),IF(ISBLANK(V14),"Empty cell",IF(V14="***","Entry cannot be ***","ok"))),IF(ISBLANK(V14),"ok","No entry should be made"))) | BW14: =IF(COUNTA($C14:$AX14)=0,"",IF(OR(G14=1,G14=3,G14=5,G14=7,G14=9,G14=10,G14=11,G14=12),IF(ISBLANK(T14),IF(ISBLANK(W14),"ok","Info for Indoor Unit 3 not entered"),IF(W14="***","Entry cannot be ***","ok")),IF(ISBLANK(W14),"ok","No entry should be made"))) | BX14: =IF(COUNTA($C14:$AX14)=0,"",IF(OR(G14=1,G14=3,G14=5,G14=7,G14=9,G14=10,G14=11,G14=12),IF(ISBLANK(W14),IF(ISBLANK(X14),"ok","Manuf. Air Mover 3 not entered"),IF(ISBLANK(X14),"Empty cell","ok")),IF(ISBLANK(X14),"ok","No entry should be made"))) | BY14: =IF(COUNTA($C14:$AX14)=0,"",IF(OR(G14=1,G14=3,G14=5,G14=7,G14=9,G14=10,G14=11,G14=12),IF(ISBLANK(W14),IF(ISBLANK(Y14),"ok","Manuf. Air Mover 3 not entered"),IF(ISBLANK(Y14),"Empty cell",IF(Y14="***","Entry cannot be ***","ok"))),IF(ISBLANK(Y14),"ok","No entry should be made"))) | BZ14: =IF(COUNTA($C14:$AX14)=0,"",IF(OR(G14=1,G14=3,G14=5,G14=7,G14=9,G14=10,G14=11,G14=12),IF(ISBLANK(T14),IF(ISBLANK(Z14),"ok","Info for Indoor Unit 3 not entered"),IF(Z14="***","Entry cannot be ***","ok")),IF(ISBLANK(Z14),"ok","No entry should be made"))) | CA14: =IF(COUNTA($C14:$AX14)=0,"",IF(OR(G14=1,G14=3,G14=5,G14=7,G14=9,G14=10,G14=11,G14=12),IF(ISBLANK(Z14),IF(ISBLANK(AA14),"ok","Manuf. Indoor Unit 4 not entered"),IF(ISBLANK(AA14),"Empty cell","ok")),IF(ISBLANK(AA14),"ok","No entry should be made"))) | CB14: =IF(COUNTA($C14:$AX14)=0,"",IF(OR(G14=1,G14=3,G14=5,G14=7,G14=9,G14=10,G14=11,G14=12),IF(ISBLANK(Z14),IF(ISBLANK(AB14),"ok","Manuf. Indoor Unit 4 not entered"),IF(ISBLANK(AB14),"Empty cell",IF(AB14="***","Entry cannot be ***","ok"))),IF(ISBLANK(AB14),"ok","No entry should be made"))) | CC14: =IF(COUNTA($C14:$AX14)=0,"",IF(OR(G14=1,G14=3,G14=5,G14=7,G14=9,G14=10,G14=11,G14=12),IF(ISBLANK(Z14),IF(ISBLANK(AC14),"ok","Info for Indoor Unit 4 not entered"),IF(AC14="***","Entry cannot be ***","ok")),IF(ISBLANK(AC14),"ok","No entry should be made"))) | CD14: =IF(COUNTA($C14:$AX14)=0,"",IF(OR(G14=1,G14=3,G14=5,G14=7,G14=9,G14=10,G14=11,G14=12),IF(ISBLANK(AC14),IF(ISBLANK(AD14),"ok","Manuf. Air Mover 4 not entered"),IF(ISBLANK(AD14),"Empty cell","ok")),IF(ISBLANK(AD14),"ok","No entry should be made"))) | CE14: =IF(COUNTA($C14:$AX14)=0,"",IF(OR(G14=1,G14=3,G14=5,G14=7,G14=9,G14=10,G14=11,G14=12),IF(ISBLANK(AC14),IF(ISBLANK(AE14),"ok","Manuf. Air Mover 4 not entered"),IF(ISBLANK(AE14),"Empty cell",IF(AE14="***","Entry cannot be ***","ok"))),IF(ISBLANK(AE14),"ok","No entry should be made"))) | CF14: =IF(COUNTA($C14:$AX14)=0,"",IF(OR(G14=1,G14=3,G14=5,G14=7,G14=9,G14=10,G14=11,G14=12),IF(ISBLANK(Z14),IF(ISBLANK(AF14),"ok","Info for Indoor Unit 4 not entered"),IF(AF14="***","Entry cannot be ***","ok")),IF(ISBLANK(AF14),"ok","No entry should be made"))) | CG14: =IF(COUNTA($C14:$AX14)=0,"",IF(OR(G14=1,G14=3,G14=5,G14=7,G14=9,G14=10,G14=11,G14=12),IF(ISBLANK(AF14),IF(ISBLANK(AG14),"ok","Manuf. Indoor Unit 5 not entered"),IF(ISBLANK(AG14),"Empty cell","ok")),IF(ISBLANK(AG14),"ok","No entry should be made"))) | CH14: =IF(COUNTA($C14:$AX14)=0,"",IF(OR(G14=1,G14=3,G14=5,G14=7,G14=9,G14=10,G14=11,G14=12),IF(ISBLANK(AF14),IF(ISBLANK(AH14),"ok","Manuf. Indoor Unit 5 not entered"),IF(ISBLANK(AH14),"Empty cell",IF(AH14="***","Entry cannot be ***","ok"))),IF(ISBLANK(AH14),"ok","No entry should be made"))) | CI14: =IF(COUNTA($C14:$AX14)=0,"",IF(OR(G14=1,G14=3,G14=5,G14=7,G14=9,G14=10,G14=11,G14=12),IF(ISBLANK(AF14),IF(ISBLANK(AI14),"ok","Info for Indoor Unit 5 not entered"),IF(AI14="***","Entry cannot be ***","ok")),IF(ISBLANK(AI14),"ok","No entry should be made"))) | CJ14: =IF(COUNTA($C14:$AX14)=0,"",IF(OR(G14=1,G14=3,G14=5,G14=7,G14=9,G14=10,G14=11,G14=12),IF(ISBLANK(AI14),IF(ISBLANK(AJ14),"ok","Manuf. Air Mover 5 not entered"),IF(ISBLANK(AJ14),"Empty cell","ok")),IF(ISBLANK(AJ14),"ok","No entry should be made"))) | CK14: =IF(COUNTA($C14:$AX14)=0,"",IF(OR(G14=1,G14=3,G14=5,G14=7,G14=9,G14=10,G14=11,G14=12),IF(ISBLANK(AI14),IF(ISBLANK(AK14),"ok","Manuf. Air Mover 5 not entered"),IF(ISBLANK(AK14),"Empty cell",IF(AK14="***","Entry cannot be ***","ok"))),IF(ISBLANK(AK14),"ok","No entry should be made"))) | CL14: =IF(COUNTA($C14:$AX14)=0,"",IF(ISBLANK(AL14),"Empty cell",IF(AL14="yes","ok",IF(AL14="y","ok",IF(AL14="no","ok",IF(AL14="n","ok","Entry should be either 'yes', 'y', 'no' or 'n'")))))) | CM14: =IF(COUNTA($C14:$AX14)=0,"",IF(ISBLANK($AM14),"Empty cell",IF(OR($AM14="n",$AM14="eto",$AM14="d",$AM14="c",$AM14="e",$AM14="f"),"ok","Should be n, eto, d, c, e, or f"))) | CN14: =IF(COUNTA($C14:$AX14)=0,"",IF(AM14="d","ok",IF(ISBLANK($AN14),"Empty cell",IF(OR(AS14="yes",AS14="y"),IF(AN14=0,"ok","Entry should be 0"),IF(OR(AS14="no",AS14="n"),IF(ISNUMBER(AN14),IF(INT(AN14)=AN14,IF(AN14>0,"ok","Entry should be a positive integer"),"Entry should be a positive integer"),"Entry should be a positive integer"),IF(ISNUMBER(AN14),IF(INT(AN14)=AN14,IF(AN14>=0,"ok","Need to answer AEDM question"),"Need to answer AEDM question"),"Need to answer AEDM question")))))) | CO14: =IF(COUNTA($C14:$AX14)=0,"",IF(AM14="d","ok",IF(ISBLANK(AO14),"Empty cell",IF(AO14="yes","ok",IF(AO14="y","ok",IF(AO14="no","ok",IF(AO14="n","ok","Entry should be either 'yes', 'y', 'no' or 'n'"))))))) | CP14: =IF(COUNTA($C14:$AX14)=0,"",IF(AM14="d","ok",IF(ISBLANK(AO14),IF(ISBLANK(AP14),"ok","Waiver question not answered"),IF(OR(AO14="yes",AO14="y"),IF(ISBLANK(AP14),"Empty cell",IF(ISNUMBER(AP14),IF(AP14<1,"Entry should be a date in M/D/YYYY format","ok"),"Entry should be a date in M/D/YYYY format")),IF(OR(AO14="no",AO14="n"),IF(ISBLANK(AP14),"ok","No entry should be made in cell"),IF(ISBLANK(AP14),"ok","No entry should be made in cell")))))) | CQ14: =IF(COUNTA($C14:$AX14)=0,"",IF(AM14="d","ok",IF(ISBLANK(AQ14),"Empty cell",IF(AQ14="yes","ok",IF(AQ14="y","ok",IF(AQ14="no","ok",IF(AQ14="n","ok","Entry should be either 'yes', 'y', 'no' or 'n'"))))))) | CR14: =IF(COUNTA($C14:$AX14)=0,"",IF(AM14="d","ok",IF(ISBLANK(AQ14),IF(ISBLANK(AR14),"ok","Exemption question not answered"),IF(OR(AQ14="yes",AQ14="y"),IF(ISBLANK(AR14),"Empty cell",IF(ISNUMBER(AR14),IF(AR14<1,"Entry should be a date in M/D/YYYY format","ok"),"Entry should be a date in M/D/YYYY format")),IF(OR(AQ14="no",AQ14="n"),IF(ISBLANK(AR14),"ok","No entry should be made in cell"),IF(ISBLANK(AR14),"ok","No entry should be made in cell")))))) | CS14: =IF(COUNTA($C14:$AX14)=0,"",IF(AM14="d","ok",IF(ISBLANK(AS14),"Empty cell",IF(AS14="yes","ok",IF(AS14="y","ok",IF(AS14="no","ok",IF(AS14="n","ok","Entry should be either 'yes', 'y', 'no' or 'n'"))))))) | CT14: =IF(COUNTA($C14:$AX14)=0,"",IF(AM14="d","ok",IF(ISBLANK(AS14),IF(ISBLANK(AT14),"ok","AEDM question not answered"),IF(OR(AS14="yes",AS14="y"),IF(ISBLANK(AT14),"Empty cell","ok"),IF(OR(AS14="no",AS14="n"),IF(ISBLANK(AT14),"ok","No entry should be made in cell"),IF(ISBLANK(AT14),"ok","No entry should be made in cell")))))) | CU14: =IF(COUNTA($C14:$AX14)=0,"",IF($AM14="d","ok",IF(ISBLANK(AU14),"ok",IF(ISNUMBER(AU14),IF(AU14>0,"ok","Entry should be greater than 0"),"Entry should be a number")))) | CV14: =IF(COUNTA($C14:$AX14)=0,"",IF($AM14="d","ok",IF(OR(G14=3,G14=4,G14=7,G14=8,G14=10,G14=12,G14=14),IF(ISBLANK(AV14),"ok",IF(ISNUMBER($AV14),IF($AV14>0,"ok","Entry should be greater than 0"),"Entry should be a number")),IF(ISBLANK(AV14),"ok","Model is not a heat pump")))) | CW14: =IF(COUNTA($C14:$AX14)=0,"",IF($AM14="d","ok",IF(ISBLANK(AW14),"ok",IF(ISNUMBER(AW14),IF(AW14>0,"ok","Entry should be greater than 0"),"Entry should be a number")))) | CX14: =IF(COUNTA($C14:$AX14)=0,"",IF($AM14="d","ok",IF(ISBLANK($AX14),"ok",IF(RIGHT(AX14,4)=".pdf",IF(LEFT(AX14,3)="DOE",IF(ISNUMBER(VALUE(MID(AX14,4,4))),"ok","Filename is not in correct format"),"Filename is not in correct format"),"Filename is not in correct format")))) | DI14: =IF(BG14="ok",VLOOKUP(G14,PrClDesc,2),"") | DL14: aaaaaa
A15: 5 | B15: =IF(COUNTIF(BC15:CX15,"")=No_of_Columns,"",IF(COUNTIF(BC15:CX15,"ok")=No_of_Columns,"ok","Error")) | BC15: =IF(COUNTA($C15:$AX15)=0,"",IF(ISBLANK($C15),"Empty cell","ok")) | BD15: =IF(COUNTA($C15:$AX15)=0,"",IF(ISBLANK(D15),"Empty cell","ok")) | BE15: =IF(COUNTA($C15:$AX15)=0,"",IF(ISBLANK(E15),"Empty cell","ok")) | BF15: =IF(COUNTA($C15:$AX15)=0,"",IF(ISBLANK(F15),"Empty cell","ok")) | BG15: =IF(COUNTA($C15:$AX15)=0,"",IF(ISBLANK($G15),"Empty cell",IF($G15<1,"Prod. Gr. Code should be an int. betw. 1 and "&No_of_Product_Classes,IF($G15>No_of_Product_Classes,"Prod. Gr. Code should be an int. betw. 1 and "&No_of_Product_Classes,IF($G15=INT($G15),"ok","Prod. Gr. Code should be an int. betw. 1 and "&No_of_Product_Classes))))) | BH15: =IF(COUNTA($C15:$AX15)=0,"",IF(OR(G15=1,G15=3,G15=5,G15=7,G15=9,G15=10,G15=11,G15=12),IF(ISBLANK(H15),"Empty cell",IF(ISBLANK(J15),"ok",IF(AND(H15="***",J15="***"),"ok",IF(AND(H15<>"***",J15<>"***"),"ok","Manufacturer & Indiv. Model No. must both or neither be ***")))),IF(ISBLANK(H15),"ok","No entry should be made"))) | BI15: =IF(COUNTA($C15:$AX15)=0,"",IF(OR(G15=1,G15=3,G15=5,G15=7,G15=9,G15=10,G15=11,G15=12),IF(ISBLANK(I15),"Empty cell","ok"),IF(ISBLANK(I15),"ok","No entry should be made"))) | BJ15: =IF(COUNTA($C15:$AX15)=0,"",IF(OR(G15=1,G15=3,G15=5,G15=7,G15=9,G15=10,G15=11,G15=12),IF(ISBLANK(J15),"Empty cell",IF(ISBLANK(H15),"ok",IF(AND(J15="***",H15="***"),"ok",IF(AND(J15<>"***",H15<>"***"),"ok","Manufacturer & Indiv. Model No. must both or neither be ***")))),IF(ISBLANK(J15),"ok","No entry should be made"))) | BK15: =IF(COUNTA($C15:$AX15)=0,"",IF(OR(G15=1,G15=3,G15=5,G15=7,G15=9,G15=10,G15=11,G15=12),IF(OR(H15="***",J15="***"),IF(ISBLANK(K15),"Empty cell",IF(K15="***","ok","Entry should be ***")),IF(K15="***","Entry should not be ***","ok")),IF(ISBLANK(K15),"ok","No entry should be made"))) | BL15: =IF(COUNTA($C15:$AX15)=0,"",IF(OR(G15=1,G15=3,G15=5,G15=7,G15=9,G15=10,G15=11,G15=12),IF(ISBLANK(K15),IF(ISBLANK(L15),IF(OR(H15="***",J15="***"),"Empty cell","ok"),"Manuf. Air Mover 1 column not completed"),IF(ISBLANK(L15),"Empty cell","ok")),IF(ISBLANK(L15),"ok","No entry should be made"))) | BM15: =IF(COUNTA($C15:$AX15)=0,"",IF(OR(G15=1,G15=3,G15=5,G15=7,G15=9,G15=10,G15=11,G15=12),IF(ISBLANK(K15),IF(ISBLANK(M15),IF(OR(H15="***",J15="***"),"Empty cell","ok"),"Manuf. Air Mover 1 column not completed"),IF(K15="***",IF(ISBLANK(M15),"Empty cell",IF(M15="***","ok","Entry should be ***")),IF(ISBLANK(M15),"Empty cell",IF(M15="***","Entry should not be ***","ok")))),IF(ISBLANK(M15),"ok","No entry should be made"))) | BN15: =IF(COUNTA($C15:$AX15)=0,"",IF(OR(G15=1,G15=3,G15=5,G15=7,G15=9,G15=10,G15=11,G15=12),IF(OR($H15="***",$J15="***"),IF(ISBLANK(N15),"ok","No entry should be made"),IF(N15="***","Entry cannot be ***","ok")),IF(ISBLANK(N15),"ok","No entry should be made"))) | BO15: =IF(COUNTA($C15:$AX15)=0,"",IF(OR(G15=1,G15=3,G15=5,G15=7,G15=9,G15=10,G15=11,G15=12),IF(ISBLANK(N15),IF(ISBLANK(O15),"ok","Manuf. Indoor Unit 2 not entered"),IF(ISBLANK(O15),"Empty cell","ok")),IF(ISBLANK(O15),"ok","No entry should be made"))) | BP15: =IF(COUNTA($C15:$AX15)=0,"",IF(OR(G15=1,G15=3,G15=5,G15=7,G15=9,G15=10,G15=11,G15=12),IF(ISBLANK(N15),IF(ISBLANK(P15),"ok","Manuf. Indoor Unit 2 not entered"),IF(ISBLANK(P15),"Empty cell",IF(P15="***","Entry cannot be ***","ok"))),IF(ISBLANK(P15),"ok","No entry should be made"))) | BQ15: =IF(COUNTA($C15:$AX15)=0,"",IF(OR(G15=1,G15=3,G15=5,G15=7,G15=9,G15=10,G15=11,G15=12),IF(ISBLANK(N15),IF(ISBLANK(Q15),"ok","Info for Indoor Unit 2 not entered"),IF(Q15="***","Entry cannot be ***","ok")),IF(ISBLANK(Q15),"ok","No entry should be made"))) | BR15: =IF(COUNTA($C15:$AX15)=0,"",IF(OR(G15=1,G15=3,G15=5,G15=7,G15=9,G15=10,G15=11,G15=12),IF(ISBLANK(Q15),IF(ISBLANK(R15),"ok","Manuf. Air Mover 2 not entered"),IF(ISBLANK(R15),"Empty cell","ok")),IF(ISBLANK(R15),"ok","No entry should be made"))) | BS15: =IF(COUNTA($C15:$AX15)=0,"",IF(OR(G15=1,G15=3,G15=5,G15=7,G15=9,G15=10,G15=11,G15=12),IF(ISBLANK(Q15),IF(ISBLANK(S15),"ok","Manuf. Air Mover 2 not entered"),IF(ISBLANK(S15),"Empty cell",IF(S15="***","Entry cannot be ***","ok"))),IF(ISBLANK(S15),"ok","No entry should be made"))) | BT15: =IF(COUNTA($C15:$AX15)=0,"",IF(OR(G15=1,G15=3,G15=5,G15=7,G15=9,G15=10,G15=11,G15=12),IF(ISBLANK(N15),IF(ISBLANK(T15),"ok","Info for Indoor Unit 2 not entered"),IF(T15="***","Entry cannot be ***","ok")),IF(ISBLANK(T15),"ok","No entry should be made"))) | BU15: =IF(COUNTA($C15:$AX15)=0,"",IF(OR(G15=1,G15=3,G15=5,G15=7,G15=9,G15=10,G15=11,G15=12),IF(ISBLANK(T15),IF(ISBLANK(U15),"ok","Manuf. Indoor Unit 3 not entered"),IF(ISBLANK(U15),"Empty cell","ok")),IF(ISBLANK(U15),"ok","No entry should be made"))) | BV15: =IF(COUNTA($C15:$AX15)=0,"",IF(OR(G15=1,G15=3,G15=5,G15=7,G15=9,G15=10,G15=11,G15=12),IF(ISBLANK(T15),IF(ISBLANK(V15),"ok","Manuf. Indoor Unit 3 not entered"),IF(ISBLANK(V15),"Empty cell",IF(V15="***","Entry cannot be ***","ok"))),IF(ISBLANK(V15),"ok","No entry should be made"))) | BW15: =IF(COUNTA($C15:$AX15)=0,"",IF(OR(G15=1,G15=3,G15=5,G15=7,G15=9,G15=10,G15=11,G15=12),IF(ISBLANK(T15),IF(ISBLANK(W15),"ok","Info for Indoor Unit 3 not entered"),IF(W15="***","Entry cannot be ***","ok")),IF(ISBLANK(W15),"ok","No entry should be made"))) | BX15: =IF(COUNTA($C15:$AX15)=0,"",IF(OR(G15=1,G15=3,G15=5,G15=7,G15=9,G15=10,G15=11,G15=12),IF(ISBLANK(W15),IF(ISBLANK(X15),"ok","Manuf. Air Mover 3 not entered"),IF(ISBLANK(X15),"Empty cell","ok")),IF(ISBLANK(X15),"ok","No entry should be made"))) | BY15: =IF(COUNTA($C15:$AX15)=0,"",IF(OR(G15=1,G15=3,G15=5,G15=7,G15=9,G15=10,G15=11,G15=12),IF(ISBLANK(W15),IF(ISBLANK(Y15),"ok","Manuf. Air Mover 3 not entered"),IF(ISBLANK(Y15),"Empty cell",IF(Y15="***","Entry cannot be ***","ok"))),IF(ISBLANK(Y15),"ok","No entry should be made"))) | BZ15: =IF(COUNTA($C15:$AX15)=0,"",IF(OR(G15=1,G15=3,G15=5,G15=7,G15=9,G15=10,G15=11,G15=12),IF(ISBLANK(T15),IF(ISBLANK(Z15),"ok","Info for Indoor Unit 3 not entered"),IF(Z15="***","Entry cannot be ***","ok")),IF(ISBLANK(Z15),"ok","No entry should be made"))) | CA15: =IF(COUNTA($C15:$AX15)=0,"",IF(OR(G15=1,G15=3,G15=5,G15=7,G15=9,G15=10,G15=11,G15=12),IF(ISBLANK(Z15),IF(ISBLANK(AA15),"ok","Manuf. Indoor Unit 4 not entered"),IF(ISBLANK(AA15),"Empty cell","ok")),IF(ISBLANK(AA15),"ok","No entry should be made"))) | CB15: =IF(COUNTA($C15:$AX15)=0,"",IF(OR(G15=1,G15=3,G15=5,G15=7,G15=9,G15=10,G15=11,G15=12),IF(ISBLANK(Z15),IF(ISBLANK(AB15),"ok","Manuf. Indoor Unit 4 not entered"),IF(ISBLANK(AB15),"Empty cell",IF(AB15="***","Entry cannot be ***","ok"))),IF(ISBLANK(AB15),"ok","No entry should be made"))) | CC15: =IF(COUNTA($C15:$AX15)=0,"",IF(OR(G15=1,G15=3,G15=5,G15=7,G15=9,G15=10,G15=11,G15=12),IF(ISBLANK(Z15),IF(ISBLANK(AC15),"ok","Info for Indoor Unit 4 not entered"),IF(AC15="***","Entry cannot be ***","ok")),IF(ISBLANK(AC15),"ok","No entry should be made"))) | CD15: =IF(COUNTA($C15:$AX15)=0,"",IF(OR(G15=1,G15=3,G15=5,G15=7,G15=9,G15=10,G15=11,G15=12),IF(ISBLANK(AC15),IF(ISBLANK(AD15),"ok","Manuf. Air Mover 4 not entered"),IF(ISBLANK(AD15),"Empty cell","ok")),IF(ISBLANK(AD15),"ok","No entry should be made"))) | CE15: =IF(COUNTA($C15:$AX15)=0,"",IF(OR(G15=1,G15=3,G15=5,G15=7,G15=9,G15=10,G15=11,G15=12),IF(ISBLANK(AC15),IF(ISBLANK(AE15),"ok","Manuf. Air Mover 4 not entered"),IF(ISBLANK(AE15),"Empty cell",IF(AE15="***","Entry cannot be ***","ok"))),IF(ISBLANK(AE15),"ok","No entry should be made"))) | CF15: =IF(COUNTA($C15:$AX15)=0,"",IF(OR(G15=1,G15=3,G15=5,G15=7,G15=9,G15=10,G15=11,G15=12),IF(ISBLANK(Z15),IF(ISBLANK(AF15),"ok","Info for Indoor Unit 4 not entered"),IF(AF15="***","Entry cannot be ***","ok")),IF(ISBLANK(AF15),"ok","No entry should be made"))) | CG15: =IF(COUNTA($C15:$AX15)=0,"",IF(OR(G15=1,G15=3,G15=5,G15=7,G15=9,G15=10,G15=11,G15=12),IF(ISBLANK(AF15),IF(ISBLANK(AG15),"ok","Manuf. Indoor Unit 5 not entered"),IF(ISBLANK(AG15),"Empty cell","ok")),IF(ISBLANK(AG15),"ok","No entry should be made"))) | CH15: =IF(COUNTA($C15:$AX15)=0,"",IF(OR(G15=1,G15=3,G15=5,G15=7,G15=9,G15=10,G15=11,G15=12),IF(ISBLANK(AF15),IF(ISBLANK(AH15),"ok","Manuf. Indoor Unit 5 not entered"),IF(ISBLANK(AH15),"Empty cell",IF(AH15="***","Entry cannot be ***","ok"))),IF(ISBLANK(AH15),"ok","No entry should be made"))) | CI15: =IF(COUNTA($C15:$AX15)=0,"",IF(OR(G15=1,G15=3,G15=5,G15=7,G15=9,G15=10,G15=11,G15=12),IF(ISBLANK(AF15),IF(ISBLANK(AI15),"ok","Info for Indoor Unit 5 not entered"),IF(AI15="***","Entry cannot be ***","ok")),IF(ISBLANK(AI15),"ok","No entry should be made"))) | CJ15: =IF(COUNTA($C15:$AX15)=0,"",IF(OR(G15=1,G15=3,G15=5,G15=7,G15=9,G15=10,G15=11,G15=12),IF(ISBLANK(AI15),IF(ISBLANK(AJ15),"ok","Manuf. Air Mover 5 not entered"),IF(ISBLANK(AJ15),"Empty cell","ok")),IF(ISBLANK(AJ15),"ok","No entry should be made"))) | CK15: =IF(COUNTA($C15:$AX15)=0,"",IF(OR(G15=1,G15=3,G15=5,G15=7,G15=9,G15=10,G15=11,G15=12),IF(ISBLANK(AI15),IF(ISBLANK(AK15),"ok","Manuf. Air Mover 5 not entered"),IF(ISBLANK(AK15),"Empty cell",IF(AK15="***","Entry cannot be ***","ok"))),IF(ISBLANK(AK15),"ok","No entry should be made"))) | CL15: =IF(COUNTA($C15:$AX15)=0,"",IF(ISBLANK(AL15),"Empty cell",IF(AL15="yes","ok",IF(AL15="y","ok",IF(AL15="no","ok",IF(AL15="n","ok","Entry should be either 'yes', 'y', 'no' or 'n'")))))) | CM15: =IF(COUNTA($C15:$AX15)=0,"",IF(ISBLANK($AM15),"Empty cell",IF(OR($AM15="n",$AM15="eto",$AM15="d",$AM15="c",$AM15="e",$AM15="f"),"ok","Should be n, eto, d, c, e, or f"))) | CN15: =IF(COUNTA($C15:$AX15)=0,"",IF(AM15="d","ok",IF(ISBLANK($AN15),"Empty cell",IF(OR(AS15="yes",AS15="y"),IF(AN15=0,"ok","Entry should be 0"),IF(OR(AS15="no",AS15="n"),IF(ISNUMBER(AN15),IF(INT(AN15)=AN15,IF(AN15>0,"ok","Entry should be a positive integer"),"Entry should be a positive integer"),"Entry should be a positive integer"),IF(ISNUMBER(AN15),IF(INT(AN15)=AN15,IF(AN15>=0,"ok","Need to answer AEDM question"),"Need to answer AEDM question"),"Need to answer AEDM question")))))) | CO15: =IF(COUNTA($C15:$AX15)=0,"",IF(AM15="d","ok",IF(ISBLANK(AO15),"Empty cell",IF(AO15="yes","ok",IF(AO15="y","ok",IF(AO15="no","ok",IF(AO15="n","ok","Entry should be either 'yes', 'y', 'no' or 'n'"))))))) | CP15: =IF(COUNTA($C15:$AX15)=0,"",IF(AM15="d","ok",IF(ISBLANK(AO15),IF(ISBLANK(AP15),"ok","Waiver question not answered"),IF(OR(AO15="yes",AO15="y"),IF(ISBLANK(AP15),"Empty cell",IF(ISNUMBER(AP15),IF(AP15<1,"Entry should be a date in M/D/YYYY format","ok"),"Entry should be a date in M/D/YYYY format")),IF(OR(AO15="no",AO15="n"),IF(ISBLANK(AP15),"ok","No entry should be made in cell"),IF(ISBLANK(AP15),"ok","No entry should be made in cell")))))) | CQ15: =IF(COUNTA($C15:$AX15)=0,"",IF(AM15="d","ok",IF(ISBLANK(AQ15),"Empty cell",IF(AQ15="yes","ok",IF(AQ15="y","ok",IF(AQ15="no","ok",IF(AQ15="n","ok","Entry should be either 'yes', 'y', 'no' or 'n'"))))))) | CR15: =IF(COUNTA($C15:$AX15)=0,"",IF(AM15="d","ok",IF(ISBLANK(AQ15),IF(ISBLANK(AR15),"ok","Exemption question not answered"),IF(OR(AQ15="yes",AQ15="y"),IF(ISBLANK(AR15),"Empty cell",IF(ISNUMBER(AR15),IF(AR15<1,"Entry should be a date in M/D/YYYY format","ok"),"Entry should be a date in M/D/YYYY format")),IF(OR(AQ15="no",AQ15="n"),IF(ISBLANK(AR15),"ok","No entry should be made in cell"),IF(ISBLANK(AR15),"ok","No entry should be made in cell")))))) | CS15: =IF(COUNTA($C15:$AX15)=0,"",IF(AM15="d","ok",IF(ISBLANK(AS15),"Empty cell",IF(AS15="yes","ok",IF(AS15="y","ok",IF(AS15="no","ok",IF(AS15="n","ok","Entry should be either 'yes', 'y', 'no' or 'n'"))))))) | CT15: =IF(COUNTA($C15:$AX15)=0,"",IF(AM15="d","ok",IF(ISBLANK(AS15),IF(ISBLANK(AT15),"ok","AEDM question not answered"),IF(OR(AS15="yes",AS15="y"),IF(ISBLANK(AT15),"Empty cell","ok"),IF(OR(AS15="no",AS15="n"),IF(ISBLANK(AT15),"ok","No entry should be made in cell"),IF(ISBLANK(AT15),"ok","No entry should be made in cell")))))) | CU15: =IF(COUNTA($C15:$AX15)=0,"",IF($AM15="d","ok",IF(ISBLANK(AU15),"ok",IF(ISNUMBER(AU15),IF(AU15>0,"ok","Entry should be greater than 0"),"Entry should be a number")))) | CV15: =IF(COUNTA($C15:$AX15)=0,"",IF($AM15="d","ok",IF(OR(G15=3,G15=4,G15=7,G15=8,G15=10,G15=12,G15=14),IF(ISBLANK(AV15),"ok",IF(ISNUMBER($AV15),IF($AV15>0,"ok","Entry should be greater than 0"),"Entry should be a number")),IF(ISBLANK(AV15),"ok","Model is not a heat pump")))) | CW15: =IF(COUNTA($C15:$AX15)=0,"",IF($AM15="d","ok",IF(ISBLANK(AW15),"ok",IF(ISNUMBER(AW15),IF(AW15>0,"ok","Entry should be greater than 0"),"Entry should be a number")))) | CX15: =IF(COUNTA($C15:$AX15)=0,"",IF($AM15="d","ok",IF(ISBLANK($AX15),"ok",IF(RIGHT(AX15,4)=".pdf",IF(LEFT(AX15,3)="DOE",IF(ISNUMBER(VALUE(MID(AX15,4,4))),"ok","Filename is not in correct format"),"Filename is not in correct format"),"Filename is not in correct format")))) | DI15: =IF(BG15="ok",VLOOKUP(G15,PrClDesc,2),"") | DL15: aaaaaa
A16: 6 | B16: =IF(COUNTIF(BC16:CX16,"")=No_of_Columns,"",IF(COUNTIF(BC16:CX16,"ok")=No_of_Columns,"ok","Error")) | BC16: =IF(COUNTA($C16:$AX16)=0,"",IF(ISBLANK($C16),"Empty cell","ok")) | BD16: =IF(COUNTA($C16:$AX16)=0,"",IF(ISBLANK(D16),"Empty cell","ok")) | BE16: =IF(COUNTA($C16:$AX16)=0,"",IF(ISBLANK(E16),"Empty cell","ok")) | BF16: =IF(COUNTA($C16:$AX16)=0,"",IF(ISBLANK(F16),"Empty cell","ok")) | BG16: =IF(COUNTA($C16:$AX16)=0,"",IF(ISBLANK($G16),"Empty cell",IF($G16<1,"Prod. Gr. Code should be an int. betw. 1 and "&No_of_Product_Classes,IF($G16>No_of_Product_Classes,"Prod. Gr. Code should be an int. betw. 1 and "&No_of_Product_Classes,IF($G16=INT($G16),"ok","Prod. Gr. Code should be an int. betw. 1 and "&No_of_Product_Classes))))) | BH16: =IF(COUNTA($C16:$AX16)=0,"",IF(OR(G16=1,G16=3,G16=5,G16=7,G16=9,G16=10,G16=11,G16=12),IF(ISBLANK(H16),"Empty cell",IF(ISBLANK(J16),"ok",IF(AND(H16="***",J16="***"),"ok",IF(AND(H16<>"***",J16<>"***"),"ok","Manufacturer & Indiv. Model No. must both or neither be ***")))),IF(ISBLANK(H16),"ok","No entry should be made"))) | BI16: =IF(COUNTA($C16:$AX16)=0,"",IF(OR(G16=1,G16=3,G16=5,G16=7,G16=9,G16=10,G16=11,G16=12),IF(ISBLANK(I16),"Empty cell","ok"),IF(ISBLANK(I16),"ok","No entry should be made"))) | BJ16: =IF(COUNTA($C16:$AX16)=0,"",IF(OR(G16=1,G16=3,G16=5,G16=7,G16=9,G16=10,G16=11,G16=12),IF(ISBLANK(J16),"Empty cell",IF(ISBLANK(H16),"ok",IF(AND(J16="***",H16="***"),"ok",IF(AND(J16<>"***",H16<>"***"),"ok","Manufacturer & Indiv. Model No. must both or neither be ***")))),IF(ISBLANK(J16),"ok","No entry should be made"))) | BK16: =IF(COUNTA($C16:$AX16)=0,"",IF(OR(G16=1,G16=3,G16=5,G16=7,G16=9,G16=10,G16=11,G16=12),IF(OR(H16="***",J16="***"),IF(ISBLANK(K16),"Empty cell",IF(K16="***","ok","Entry should be ***")),IF(K16="***","Entry should not be ***","ok")),IF(ISBLANK(K16),"ok","No entry should be made"))) | BL16: =IF(COUNTA($C16:$AX16)=0,"",IF(OR(G16=1,G16=3,G16=5,G16=7,G16=9,G16=10,G16=11,G16=12),IF(ISBLANK(K16),IF(ISBLANK(L16),IF(OR(H16="***",J16="***"),"Empty cell","ok"),"Manuf. Air Mover 1 column not completed"),IF(ISBLANK(L16),"Empty cell","ok")),IF(ISBLANK(L16),"ok","No entry should be made"))) | BM16: =IF(COUNTA($C16:$AX16)=0,"",IF(OR(G16=1,G16=3,G16=5,G16=7,G16=9,G16=10,G16=11,G16=12),IF(ISBLANK(K16),IF(ISBLANK(M16),IF(OR(H16="***",J16="***"),"Empty cell","ok"),"Manuf. Air Mover 1 column not completed"),IF(K16="***",IF(ISBLANK(M16),"Empty cell",IF(M16="***","ok","Entry should be ***")),IF(ISBLANK(M16),"Empty cell",IF(M16="***","Entry should not be ***","ok")))),IF(ISBLANK(M16),"ok","No entry should be made"))) | BN16: =IF(COUNTA($C16:$AX16)=0,"",IF(OR(G16=1,G16=3,G16=5,G16=7,G16=9,G16=10,G16=11,G16=12),IF(OR($H16="***",$J16="***"),IF(ISBLANK(N16),"ok","No entry should be made"),IF(N16="***","Entry cannot be ***","ok")),IF(ISBLANK(N16),"ok","No entry should be made"))) | BO16: =IF(COUNTA($C16:$AX16)=0,"",IF(OR(G16=1,G16=3,G16=5,G16=7,G16=9,G16=10,G16=11,G16=12),IF(ISBLANK(N16),IF(ISBLANK(O16),"ok","Manuf. Indoor Unit 2 not entered"),IF(ISBLANK(O16),"Empty cell","ok")),IF(ISBLANK(O16),"ok","No entry should be made"))) | BP16: =IF(COUNTA($C16:$AX16)=0,"",IF(OR(G16=1,G16=3,G16=5,G16=7,G16=9,G16=10,G16=11,G16=12),IF(ISBLANK(N16),IF(ISBLANK(P16),"ok","Manuf. Indoor Unit 2 not entered"),IF(ISBLANK(P16),"Empty cell",IF(P16="***","Entry cannot be ***","ok"))),IF(ISBLANK(P16),"ok","No entry should be made"))) | BQ16: =IF(COUNTA($C16:$AX16)=0,"",IF(OR(G16=1,G16=3,G16=5,G16=7,G16=9,G16=10,G16=11,G16=12),IF(ISBLANK(N16),IF(ISBLANK(Q16),"ok","Info for Indoor Unit 2 not entered"),IF(Q16="***","Entry cannot be ***","ok")),IF(ISBLANK(Q16),"ok","No entry should be made"))) | BR16: =IF(COUNTA($C16:$AX16)=0,"",IF(OR(G16=1,G16=3,G16=5,G16=7,G16=9,G16=10,G16=11,G16=12),IF(ISBLANK(Q16),IF(ISBLANK(R16),"ok","Manuf. Air Mover 2 not entered"),IF(ISBLANK(R16),"Empty cell","ok")),IF(ISBLANK(R16),"ok","No entry should be made"))) | BS16: =IF(COUNTA($C16:$AX16)=0,"",IF(OR(G16=1,G16=3,G16=5,G16=7,G16=9,G16=10,G16=11,G16=12),IF(ISBLANK(Q16),IF(ISBLANK(S16),"ok","Manuf. Air Mover 2 not entered"),IF(ISBLANK(S16),"Empty cell",IF(S16="***","Entry cannot be ***","ok"))),IF(ISBLANK(S16),"ok","No entry should be made"))) | BT16: =IF(COUNTA($C16:$AX16)=0,"",IF(OR(G16=1,G16=3,G16=5,G16=7,G16=9,G16=10,G16=11,G16=12),IF(ISBLANK(N16),IF(ISBLANK(T16),"ok","Info for Indoor Unit 2 not entered"),IF(T16="***","Entry cannot be ***","ok")),IF(ISBLANK(T16),"ok","No entry should be made"))) | BU16: =IF(COUNTA($C16:$AX16)=0,"",IF(OR(G16=1,G16=3,G16=5,G16=7,G16=9,G16=10,G16=11,G16=12),IF(ISBLANK(T16),IF(ISBLANK(U16),"ok","Manuf. Indoor Unit 3 not entered"),IF(ISBLANK(U16),"Empty cell","ok")),IF(ISBLANK(U16),"ok","No entry should be made"))) | BV16: =IF(COUNTA($C16:$AX16)=0,"",IF(OR(G16=1,G16=3,G16=5,G16=7,G16=9,G16=10,G16=11,G16=12),IF(ISBLANK(T16),IF(ISBLANK(V16),"ok","Manuf. Indoor Unit 3 not entered"),IF(ISBLANK(V16),"Empty cell",IF(V16="***","Entry cannot be ***","ok"))),IF(ISBLANK(V16),"ok","No entry should be made"))) | BW16: =IF(COUNTA($C16:$AX16)=0,"",IF(OR(G16=1,G16=3,G16=5,G16=7,G16=9,G16=10,G16=11,G16=12),IF(ISBLANK(T16),IF(ISBLANK(W16),"ok","Info for Indoor Unit 3 not entered"),IF(W16="***","Entry cannot be ***","ok")),IF(ISBLANK(W16),"ok","No entry should be made"))) | BX16: =IF(COUNTA($C16:$AX16)=0,"",IF(OR(G16=1,G16=3,G16=5,G16=7,G16=9,G16=10,G16=11,G16=12),IF(ISBLANK(W16),IF(ISBLANK(X16),"ok","Manuf. Air Mover 3 not entered"),IF(ISBLANK(X16),"Empty cell","ok")),IF(ISBLANK(X16),"ok","No entry should be made"))) | BY16: =IF(COUNTA($C16:$AX16)=0,"",IF(OR(G16=1,G16=3,G16=5,G16=7,G16=9,G16=10,G16=11,G16=12),IF(ISBLANK(W16),IF(ISBLANK(Y16),"ok","Manuf. Air Mover 3 not entered"),IF(ISBLANK(Y16),"Empty cell",IF(Y16="***","Entry cannot be ***","ok"))),IF(ISBLANK(Y16),"ok","No entry should be made"))) | BZ16: =IF(COUNTA($C16:$AX16)=0,"",IF(OR(G16=1,G16=3,G16=5,G16=7,G16=9,G16=10,G16=11,G16=12),IF(ISBLANK(T16),IF(ISBLANK(Z16),"ok","Info for Indoor Unit 3 not entered"),IF(Z16="***","Entry cannot be ***","ok")),IF(ISBLANK(Z16),"ok","No entry should be made"))) | CA16: =IF(COUNTA($C16:$AX16)=0,"",IF(OR(G16=1,G16=3,G16=5,G16=7,G16=9,G16=10,G16=11,G16=12),IF(ISBLANK(Z16),IF(ISBLANK(AA16),"ok","Manuf. Indoor Unit 4 not entered"),IF(ISBLANK(AA16),"Empty cell","ok")),IF(ISBLANK(AA16),"ok","No entry should be made"))) | CB16: =IF(COUNTA($C16:$AX16)=0,"",IF(OR(G16=1,G16=3,G16=5,G16=7,G16=9,G16=10,G16=11,G16=12),IF(ISBLANK(Z16),IF(ISBLANK(AB16),"ok","Manuf. Indoor Unit 4 not entered"),IF(ISBLANK(AB16),"Empty cell",IF(AB16="***","Entry cannot be ***","ok"))),IF(ISBLANK(AB16),"ok","No entry should be made"))) | CC16: =IF(COUNTA($C16:$AX16)=0,"",IF(OR(G16=1,G16=3,G16=5,G16=7,G16=9,G16=10,G16=11,G16=12),IF(ISBLANK(Z16),IF(ISBLANK(AC16),"ok","Info for Indoor Unit 4 not entered"),IF(AC16="***","Entry cannot be ***","ok")),IF(ISBLANK(AC16),"ok","No entry should be made"))) | CD16: =IF(COUNTA($C16:$AX16)=0,"",IF(OR(G16=1,G16=3,G16=5,G16=7,G16=9,G16=10,G16=11,G16=12),IF(ISBLANK(AC16),IF(ISBLANK(AD16),"ok","Manuf. Air Mover 4 not entered"),IF(ISBLANK(AD16),"Empty cell","ok")),IF(ISBLANK(AD16),"ok","No entry should be made"))) | CE16: =IF(COUNTA($C16:$AX16)=0,"",IF(OR(G16=1,G16=3,G16=5,G16=7,G16=9,G16=10,G16=11,G16=12),IF(ISBLANK(AC16),IF(ISBLANK(AE16),"ok","Manuf. Air Mover 4 not entered"),IF(ISBLANK(AE16),"Empty cell",IF(AE16="***","Entry cannot be ***","ok"))),IF(ISBLANK(AE16),"ok","No entry should be made"))) | CF16: =IF(COUNTA($C16:$AX16)=0,"",IF(OR(G16=1,G16=3,G16=5,G16=7,G16=9,G16=10,G16=11,G16=12),IF(ISBLANK(Z16),IF(ISBLANK(AF16),"ok","Info for Indoor Unit 4 not entered"),IF(AF16="***","Entry cannot be ***","ok")),IF(ISBLANK(AF16),"ok","No entry should be made"))) | CG16: =IF(COUNTA($C16:$AX16)=0,"",IF(OR(G16=1,G16=3,G16=5,G16=7,G16=9,G16=10,G16=11,G16=12),IF(ISBLANK(AF16),IF(ISBLANK(AG16),"ok","Manuf. Indoor Unit 5 not entered"),IF(ISBLANK(AG16),"Empty cell","ok")),IF(ISBLANK(AG16),"ok","No entry should be made"))) | CH16: =IF(COUNTA($C16:$AX16)=0,"",IF(OR(G16=1,G16=3,G16=5,G16=7,G16=9,G16=10,G16=11,G16=12),IF(ISBLANK(AF16),IF(ISBLANK(AH16),"ok","Manuf. Indoor Unit 5 not entered"),IF(ISBLANK(AH16),"Empty cell",IF(AH16="***","Entry cannot be ***","ok"))),IF(ISBLANK(AH16),"ok","No entry should be made"))) | CI16: =IF(COUNTA($C16:$AX16)=0,"",IF(OR(G16=1,G16=3,G16=5,G16=7,G16=9,G16=10,G16=11,G16=12),IF(ISBLANK(AF16),IF(ISBLANK(AI16),"ok","Info for Indoor Unit 5 not entered"),IF(AI16="***","Entry cannot be ***","ok")),IF(ISBLANK(AI16),"ok","No entry should be made"))) | CJ16: =IF(COUNTA($C16:$AX16)=0,"",IF(OR(G16=1,G16=3,G16=5,G16=7,G16=9,G16=10,G16=11,G16=12),IF(ISBLANK(AI16),IF(ISBLANK(AJ16),"ok","Manuf. Air Mover 5 not entered"),IF(ISBLANK(AJ16),"Empty cell","ok")),IF(ISBLANK(AJ16),"ok","No entry should be made"))) | CK16: =IF(COUNTA($C16:$AX16)=0,"",IF(OR(G16=1,G16=3,G16=5,G16=7,G16=9,G16=10,G16=11,G16=12),IF(ISBLANK(AI16),IF(ISBLANK(AK16),"ok","Manuf. Air Mover 5 not entered"),IF(ISBLANK(AK16),"Empty cell",IF(AK16="***","Entry cannot be ***","ok"))),IF(ISBLANK(AK16),"ok","No entry should be made"))) | CL16: =IF(COUNTA($C16:$AX16)=0,"",IF(ISBLANK(AL16),"Empty cell",IF(AL16="yes","ok",IF(AL16="y","ok",IF(AL16="no","ok",IF(AL16="n","ok","Entry should be either 'yes', 'y', 'no' or 'n'")))))) | CM16: =IF(COUNTA($C16:$AX16)=0,"",IF(ISBLANK($AM16),"Empty cell",IF(OR($AM16="n",$AM16="eto",$AM16="d",$AM16="c",$AM16="e",$AM16="f"),"ok","Should be n, eto, d, c, e, or f"))) | CN16: =IF(COUNTA($C16:$AX16)=0,"",IF(AM16="d","ok",IF(ISBLANK($AN16),"Empty cell",IF(OR(AS16="yes",AS16="y"),IF(AN16=0,"ok","Entry should be 0"),IF(OR(AS16="no",AS16="n"),IF(ISNUMBER(AN16),IF(INT(AN16)=AN16,IF(AN16>0,"ok","Entry should be a positive integer"),"Entry should be a positive integer"),"Entry should be a positive integer"),IF(ISNUMBER(AN16),IF(INT(AN16)=AN16,IF(AN16>=0,"ok","Need to answer AEDM question"),"Need to answer AEDM question"),"Need to answer AEDM question")))))) | CO16: =IF(COUNTA($C16:$AX16)=0,"",IF(AM16="d","ok",IF(ISBLANK(AO16),"Empty cell",IF(AO16="yes","ok",IF(AO16="y","ok",IF(AO16="no","ok",IF(AO16="n","ok","Entry should be either 'yes', 'y', 'no' or 'n'"))))))) | CP16: =IF(COUNTA($C16:$AX16)=0,"",IF(AM16="d","ok",IF(ISBLANK(AO16),IF(ISBLANK(AP16),"ok","Waiver question not answered"),IF(OR(AO16="yes",AO16="y"),IF(ISBLANK(AP16),"Empty cell",IF(ISNUMBER(AP16),IF(AP16<1,"Entry should be a date in M/D/YYYY format","ok"),"Entry should be a date in M/D/YYYY format")),IF(OR(AO16="no",AO16="n"),IF(ISBLANK(AP16),"ok","No entry should be made in cell"),IF(ISBLANK(AP16),"ok","No entry should be made in cell")))))) | CQ16: =IF(COUNTA($C16:$AX16)=0,"",IF(AM16="d","ok",IF(ISBLANK(AQ16),"Empty cell",IF(AQ16="yes","ok",IF(AQ16="y","ok",IF(AQ16="no","ok",IF(AQ16="n","ok","Entry should be either 'yes', 'y', 'no' or 'n'"))))))) | CR16: =IF(COUNTA($C16:$AX16)=0,"",IF(AM16="d","ok",IF(ISBLANK(AQ16),IF(ISBLANK(AR16),"ok","Exemption question not answered"),IF(OR(AQ16="yes",AQ16="y"),IF(ISBLANK(AR16),"Empty cell",IF(ISNUMBER(AR16),IF(AR16<1,"Entry should be a date in M/D/YYYY format","ok"),"Entry should be a date in M/D/YYYY format")),IF(OR(AQ16="no",AQ16="n"),IF(ISBLANK(AR16),"ok","No entry should be made in cell"),IF(ISBLANK(AR16),"ok","No entry should be made in cell")))))) | CS16: =IF(COUNTA($C16:$AX16)=0,"",IF(AM16="d","ok",IF(ISBLANK(AS16),"Empty cell",IF(AS16="yes","ok",IF(AS16="y","ok",IF(AS16="no","ok",IF(AS16="n","ok","Entry should be either 'yes', 'y', 'no' or 'n'"))))))) | CT16: =IF(COUNTA($C16:$AX16)=0,"",IF(AM16="d","ok",IF(ISBLANK(AS16),IF(ISBLANK(AT16),"ok","AEDM question not answered"),IF(OR(AS16="yes",AS16="y"),IF(ISBLANK(AT16),"Empty cell","ok"),IF(OR(AS16="no",AS16="n"),IF(ISBLANK(AT16),"ok","No entry should be made in cell"),IF(ISBLANK(AT16),"ok","No entry should be made in cell")))))) | CU16: =IF(COUNTA($C16:$AX16)=0,"",IF($AM16="d","ok",IF(ISBLANK(AU16),"ok",IF(ISNUMBER(AU16),IF(AU16>0,"ok","Entry should be greater than 0"),"Entry should be a number")))) | CV16: =IF(COUNTA($C16:$AX16)=0,"",IF($AM16="d","ok",IF(OR(G16=3,G16=4,G16=7,G16=8,G16=10,G16=12,G16=14),IF(ISBLANK(AV16),"ok",IF(ISNUMBER($AV16),IF($AV16>0,"ok","Entry should be greater than 0"),"Entry should be a number")),IF(ISBLANK(AV16),"ok","Model is not a heat pump")))) | CW16: =IF(COUNTA($C16:$AX16)=0,"",IF($AM16="d","ok",IF(ISBLANK(AW16),"ok",IF(ISNUMBER(AW16),IF(AW16>0,"ok","Entry should be greater than 0"),"Entry should be a number")))) | CX16: =IF(COUNTA($C16:$AX16)=0,"",IF($AM16="d","ok",IF(ISBLANK($AX16),"ok",IF(RIGHT(AX16,4)=".pdf",IF(LEFT(AX16,3)="DOE",IF(ISNUMBER(VALUE(MID(AX16,4,4))),"ok","Filename is not in correct format"),"Filename is not in correct format"),"Filename is not in correct format")))) | DI16: =IF(BG16="ok",VLOOKUP(G16,PrClDesc,2),"") | DL16: aaaaaa
A17: 7 | B17: =IF(COUNTIF(BC17:CX17,"")=No_of_Columns,"",IF(COUNTIF(BC17:CX17,"ok")=No_of_Columns,"ok","Error")) | BC17: =IF(COUNTA($C17:$AX17)=0,"",IF(ISBLANK($C17),"Empty cell","ok")) | BD17: =IF(COUNTA($C17:$AX17)=0,"",IF(ISBLANK(D17),"Empty cell","ok")) | BE17: =IF(COUNTA($C17:$AX17)=0,"",IF(ISBLANK(E17),"Empty cell","ok")) | BF17: =IF(COUNTA($C17:$AX17)=0,"",IF(ISBLANK(F17),"Empty cell","ok")) | BG17: =IF(COUNTA($C17:$AX17)=0,"",IF(ISBLANK($G17),"Empty cell",IF($G17<1,"Prod. Gr. Code should be an int. betw. 1 and "&No_of_Product_Classes,IF($G17>No_of_Product_Classes,"Prod. Gr. Code should be an int. betw. 1 and "&No_of_Product_Classes,IF($G17=INT($G17),"ok","Prod. Gr. Code should be an int. betw. 1 and "&No_of_Product_Classes))))) | BH17: =IF(COUNTA($C17:$AX17)=0,"",IF(OR(G17=1,G17=3,G17=5,G17=7,G17=9,G17=10,G17=11,G17=12),IF(ISBLANK(H17),"Empty cell",IF(ISBLANK(J17),"ok",IF(AND(H17="***",J17="***"),"ok",IF(AND(H17<>"***",J17<>"***"),"ok","Manufacturer & Indiv. Model No. must both or neither be ***")))),IF(ISBLANK(H17),"ok","No entry should be made"))) | BI17: =IF(COUNTA($C17:$AX17)=0,"",IF(OR(G17=1,G17=3,G17=5,G17=7,G17=9,G17=10,G17=11,G17=12),IF(ISBLANK(I17),"Empty cell","ok"),IF(ISBLANK(I17),"ok","No entry should be made"))) | BJ17: =IF(COUNTA($C17:$AX17)=0,"",IF(OR(G17=1,G17=3,G17=5,G17=7,G17=9,G17=10,G17=11,G17=12),IF(ISBLANK(J17),"Empty cell",IF(ISBLANK(H17),"ok",IF(AND(J17="***",H17="***"),"ok",IF(AND(J17<>"***",H17<>"***"),"ok","Manufacturer & Indiv. Model No. must both or neither be ***")))),IF(ISBLANK(J17),"ok","No entry should be made"))) | BK17: =IF(COUNTA($C17:$AX17)=0,"",IF(OR(G17=1,G17=3,G17=5,G17=7,G17=9,G17=10,G17=11,G17=12),IF(OR(H17="***",J17="***"),IF(ISBLANK(K17),"Empty cell",IF(K17="***","ok","Entry should be ***")),IF(K17="***","Entry should not be ***","ok")),IF(ISBLANK(K17),"ok","No entry should be made"))) | BL17: =IF(COUNTA($C17:$AX17)=0,"",IF(OR(G17=1,G17=3,G17=5,G17=7,G17=9,G17=10,G17=11,G17=12),IF(ISBLANK(K17),IF(ISBLANK(L17),IF(OR(H17="***",J17="***"),"Empty cell","ok"),"Manuf. Air Mover 1 column not completed"),IF(ISBLANK(L17),"Empty cell","ok")),IF(ISBLANK(L17),"ok","No entry should be made"))) | BM17: =IF(COUNTA($C17:$AX17)=0,"",IF(OR(G17=1,G17=3,G17=5,G17=7,G17=9,G17=10,G17=11,G17=12),IF(ISBLANK(K17),IF(ISBLANK(M17),IF(OR(H17="***",J17="***"),"Empty cell","ok"),"Manuf. Air Mover 1 column not completed"),IF(K17="***",IF(ISBLANK(M17),"Empty cell",IF(M17="***","ok","Entry should be ***")),IF(ISBLANK(M17),"Empty cell",IF(M17="***","Entry should not be ***","ok")))),IF(ISBLANK(M17),"ok","No entry should be made"))) | BN17: =IF(COUNTA($C17:$AX17)=0,"",IF(OR(G17=1,G17=3,G17=5,G17=7,G17=9,G17=10,G17=11,G17=12),IF(OR($H17="***",$J17="***"),IF(ISBLANK(N17),"ok","No entry should be made"),IF(N17="***","Entry cannot be ***","ok")),IF(ISBLANK(N17),"ok","No entry should be made"))) | BO17: =IF(COUNTA($C17:$AX17)=0,"",IF(OR(G17=1,G17=3,G17=5,G17=7,G17=9,G17=10,G17=11,G17=12),IF(ISBLANK(N17),IF(ISBLANK(O17),"ok","Manuf. Indoor Unit 2 not entered"),IF(ISBLANK(O17),"Empty cell","ok")),IF(ISBLANK(O17),"ok","No entry should be made"))) | BP17: =IF(COUNTA($C17:$AX17)=0,"",IF(OR(G17=1,G17=3,G17=5,G17=7,G17=9,G17=10,G17=11,G17=12),IF(ISBLANK(N17),IF(ISBLANK(P17),"ok","Manuf. Indoor Unit 2 not entered"),IF(ISBLANK(P17),"Empty cell",IF(P17="***","Entry cannot be ***","ok"))),IF(ISBLANK(P17),"ok","No entry should be made"))) | BQ17: =IF(COUNTA($C17:$AX17)=0,"",IF(OR(G17=1,G17=3,G17=5,G17=7,G17=9,G17=10,G17=11,G17=12),IF(ISBLANK(N17),IF(ISBLANK(Q17),"ok","Info for Indoor Unit 2 not entered"),IF(Q17="***","Entry cannot be ***","ok")),IF(ISBLANK(Q17),"ok","No entry should be made"))) | BR17: =IF(COUNTA($C17:$AX17)=0,"",IF(OR(G17=1,G17=3,G17=5,G17=7,G17=9,G17=10,G17=11,G17=12),IF(ISBLANK(Q17),IF(ISBLANK(R17),"ok","Manuf. Air Mover 2 not entered"),IF(ISBLANK(R17),"Empty cell","ok")),IF(ISBLANK(R17),"ok","No entry should be made"))) | BS17: =IF(COUNTA($C17:$AX17)=0,"",IF(OR(G17=1,G17=3,G17=5,G17=7,G17=9,G17=10,G17=11,G17=12),IF(ISBLANK(Q17),IF(ISBLANK(S17),"ok","Manuf. Air Mover 2 not entered"),IF(ISBLANK(S17),"Empty cell",IF(S17="***","Entry cannot be ***","ok"))),IF(ISBLANK(S17),"ok","No entry should be made"))) | BT17: =IF(COUNTA($C17:$AX17)=0,"",IF(OR(G17=1,G17=3,G17=5,G17=7,G17=9,G17=10,G17=11,G17=12),IF(ISBLANK(N17),IF(ISBLANK(T17),"ok","Info for Indoor Unit 2 not entered"),IF(T17="***","Entry cannot be ***","ok")),IF(ISBLANK(T17),"ok","No entry should be made"))) | BU17: =IF(COUNTA($C17:$AX17)=0,"",IF(OR(G17=1,G17=3,G17=5,G17=7,G17=9,G17=10,G17=11,G17=12),IF(ISBLANK(T17),IF(ISBLANK(U17),"ok","Manuf. Indoor Unit 3 not entered"),IF(ISBLANK(U17),"Empty cell","ok")),IF(ISBLANK(U17),"ok","No entry should be made"))) | BV17: =IF(COUNTA($C17:$AX17)=0,"",IF(OR(G17=1,G17=3,G17=5,G17=7,G17=9,G17=10,G17=11,G17=12),IF(ISBLANK(T17),IF(ISBLANK(V17),"ok","Manuf. Indoor Unit 3 not entered"),IF(ISBLANK(V17),"Empty cell",IF(V17="***","Entry cannot be ***","ok"))),IF(ISBLANK(V17),"ok","No entry should be made"))) | BW17: =IF(COUNTA($C17:$AX17)=0,"",IF(OR(G17=1,G17=3,G17=5,G17=7,G17=9,G17=10,G17=11,G17=12),IF(ISBLANK(T17),IF(ISBLANK(W17),"ok","Info for Indoor Unit 3 not entered"),IF(W17="***","Entry cannot be ***","ok")),IF(ISBLANK(W17),"ok","No entry should be made"))) | BX17: =IF(COUNTA($C17:$AX17)=0,"",IF(OR(G17=1,G17=3,G17=5,G17=7,G17=9,G17=10,G17=11,G17=12),IF(ISBLANK(W17),IF(ISBLANK(X17),"ok","Manuf. Air Mover 3 not entered"),IF(ISBLANK(X17),"Empty cell","ok")),IF(ISBLANK(X17),"ok","No entry should be made"))) | BY17: =IF(COUNTA($C17:$AX17)=0,"",IF(OR(G17=1,G17=3,G17=5,G17=7,G17=9,G17=10,G17=11,G17=12),IF(ISBLANK(W17),IF(ISBLANK(Y17),"ok","Manuf. Air Mover 3 not entered"),IF(ISBLANK(Y17),"Empty cell",IF(Y17="***","Entry cannot be ***","ok"))),IF(ISBLANK(Y17),"ok","No entry should be made"))) | BZ17: =IF(COUNTA($C17:$AX17)=0,"",IF(OR(G17=1,G17=3,G17=5,G17=7,G17=9,G17=10,G17=11,G17=12),IF(ISBLANK(T17),IF(ISBLANK(Z17),"ok","Info for Indoor Unit 3 not entered"),IF(Z17="***","Entry cannot be ***","ok")),IF(ISBLANK(Z17),"ok","No entry should be made"))) | CA17: =IF(COUNTA($C17:$AX17)=0,"",IF(OR(G17=1,G17=3,G17=5,G17=7,G17=9,G17=10,G17=11,G17=12),IF(ISBLANK(Z17),IF(ISBLANK(AA17),"ok","Manuf. Indoor Unit 4 not entered"),IF(ISBLANK(AA17),"Empty cell","ok")),IF(ISBLANK(AA17),"ok","No entry should be made"))) | CB17: =IF(COUNTA($C17:$AX17)=0,"",IF(OR(G17=1,G17=3,G17=5,G17=7,G17=9,G17=10,G17=11,G17=12),IF(ISBLANK(Z17),IF(ISBLANK(AB17),"ok","Manuf. Indoor Unit 4 not entered"),IF(ISBLANK(AB17),"Empty cell",IF(AB17="***","Entry cannot be ***","ok"))),IF(ISBLANK(AB17),"ok","No entry should be made"))) | CC17: =IF(COUNTA($C17:$AX17)=0,"",IF(OR(G17=1,G17=3,G17=5,G17=7,G17=9,G17=10,G17=11,G17=12),IF(ISBLANK(Z17),IF(ISBLANK(AC17),"ok","Info for Indoor Unit 4 not entered"),IF(AC17="***","Entry cannot be ***","ok")),IF(ISBLANK(AC17),"ok","No entry should be made"))) | CD17: =IF(COUNTA($C17:$AX17)=0,"",IF(OR(G17=1,G17=3,G17=5,G17=7,G17=9,G17=10,G17=11,G17=12),IF(ISBLANK(AC17),IF(ISBLANK(AD17),"ok","Manuf. Air Mover 4 not entered"),IF(ISBLANK(AD17),"Empty cell","ok")),IF(ISBLANK(AD17),"ok","No entry should be made"))) | CE17: =IF(COUNTA($C17:$AX17)=0,"",IF(OR(G17=1,G17=3,G17=5,G17=7,G17=9,G17=10,G17=11,G17=12),IF(ISBLANK(AC17),IF(ISBLANK(AE17),"ok","Manuf. Air Mover 4 not entered"),IF(ISBLANK(AE17),"Empty cell",IF(AE17="***","Entry cannot be ***","ok"))),IF(ISBLANK(AE17),"ok","No entry should be made"))) | CF17: =IF(COUNTA($C17:$AX17)=0,"",IF(OR(G17=1,G17=3,G17=5,G17=7,G17=9,G17=10,G17=11,G17=12),IF(ISBLANK(Z17),IF(ISBLANK(AF17),"ok","Info for Indoor Unit 4 not entered"),IF(AF17="***","Entry cannot be ***","ok")),IF(ISBLANK(AF17),"ok","No entry should be made"))) | CG17: =IF(COUNTA($C17:$AX17)=0,"",IF(OR(G17=1,G17=3,G17=5,G17=7,G17=9,G17=10,G17=11,G17=12),IF(ISBLANK(AF17),IF(ISBLANK(AG17),"ok","Manuf. Indoor Unit 5 not entered"),IF(ISBLANK(AG17),"Empty cell","ok")),IF(ISBLANK(AG17),"ok","No entry should be made"))) | CH17: =IF(COUNTA($C17:$AX17)=0,"",IF(OR(G17=1,G17=3,G17=5,G17=7,G17=9,G17=10,G17=11,G17=12),IF(ISBLANK(AF17),IF(ISBLANK(AH17),"ok","Manuf. Indoor Unit 5 not entered"),IF(ISBLANK(AH17),"Empty cell",IF(AH17="***","Entry cannot be ***","ok"))),IF(ISBLANK(AH17),"ok","No entry should be made"))) | CI17: =IF(COUNTA($C17:$AX17)=0,"",IF(OR(G17=1,G17=3,G17=5,G17=7,G17=9,G17=10,G17=11,G17=12),IF(ISBLANK(AF17),IF(ISBLANK(AI17),"ok","Info for Indoor Unit 5 not entered"),IF(AI17="***","Entry cannot be ***","ok")),IF(ISBLANK(AI17),"ok","No entry should be made"))) | CJ17: =IF(COUNTA($C17:$AX17)=0,"",IF(OR(G17=1,G17=3,G17=5,G17=7,G17=9,G17=10,G17=11,G17=12),IF(ISBLANK(AI17),IF(ISBLANK(AJ17),"ok","Manuf. Air Mover 5 not entered"),IF(ISBLANK(AJ17),"Empty cell","ok")),IF(ISBLANK(AJ17),"ok","No entry should be made"))) | CK17: =IF(COUNTA($C17:$AX17)=0,"",IF(OR(G17=1,G17=3,G17=5,G17=7,G17=9,G17=10,G17=11,G17=12),IF(ISBLANK(AI17),IF(ISBLANK(AK17),"ok","Manuf. Air Mover 5 not entered"),IF(ISBLANK(AK17),"Empty cell",IF(AK17="***","Entry cannot be ***","ok"))),IF(ISBLANK(AK17),"ok","No entry should be made"))) | CL17: =IF(COUNTA($C17:$AX17)=0,"",IF(ISBLANK(AL17),"Empty cell",IF(AL17="yes","ok",IF(AL17="y","ok",IF(AL17="no","ok",IF(AL17="n","ok","Entry should be either 'yes', 'y', 'no' or 'n'")))))) | CM17: =IF(COUNTA($C17:$AX17)=0,"",IF(ISBLANK($AM17),"Empty cell",IF(OR($AM17="n",$AM17="eto",$AM17="d",$AM17="c",$AM17="e",$AM17="f"),"ok","Should be n, eto, d, c, e, or f"))) | CN17: =IF(COUNTA($C17:$AX17)=0,"",IF(AM17="d","ok",IF(ISBLANK($AN17),"Empty cell",IF(OR(AS17="yes",AS17="y"),IF(AN17=0,"ok","Entry should be 0"),IF(OR(AS17="no",AS17="n"),IF(ISNUMBER(AN17),IF(INT(AN17)=AN17,IF(AN17>0,"ok","Entry should be a positive integer"),"Entry should be a positive integer"),"Entry should be a positive integer"),IF(ISNUMBER(AN17),IF(INT(AN17)=AN17,IF(AN17>=0,"ok","Need to answer AEDM question"),"Need to answer AEDM question"),"Need to answer AEDM question")))))) | CO17: =IF(COUNTA($C17:$AX17)=0,"",IF(AM17="d","ok",IF(ISBLANK(AO17),"Empty cell",IF(AO17="yes","ok",IF(AO17="y","ok",IF(AO17="no","ok",IF(AO17="n","ok","Entry should be either 'yes', 'y', 'no' or 'n'"))))))) | CP17: =IF(COUNTA($C17:$AX17)=0,"",IF(AM17="d","ok",IF(ISBLANK(AO17),IF(ISBLANK(AP17),"ok","Waiver question not answered"),IF(OR(AO17="yes",AO17="y"),IF(ISBLANK(AP17),"Empty cell",IF(ISNUMBER(AP17),IF(AP17<1,"Entry should be a date in M/D/YYYY format","ok"),"Entry should be a date in M/D/YYYY format")),IF(OR(AO17="no",AO17="n"),IF(ISBLANK(AP17),"ok","No entry should be made in cell"),IF(ISBLANK(AP17),"ok","No entry should be made in cell")))))) | CQ17: =IF(COUNTA($C17:$AX17)=0,"",IF(AM17="d","ok",IF(ISBLANK(AQ17),"Empty cell",IF(AQ17="yes","ok",IF(AQ17="y","ok",IF(AQ17="no","ok",IF(AQ17="n","ok","Entry should be either 'yes', 'y', 'no' or 'n'"))))))) | CR17: =IF(COUNTA($C17:$AX17)=0,"",IF(AM17="d","ok",IF(ISBLANK(AQ17),IF(ISBLANK(AR17),"ok","Exemption question not answered"),IF(OR(AQ17="yes",AQ17="y"),IF(ISBLANK(AR17),"Empty cell",IF(ISNUMBER(AR17),IF(AR17<1,"Entry should be a date in M/D/YYYY format","ok"),"Entry should be a date in M/D/YYYY format")),IF(OR(AQ17="no",AQ17="n"),IF(ISBLANK(AR17),"ok","No entry should be made in cell"),IF(ISBLANK(AR17),"ok","No entry should be made in cell")))))) | CS17: =IF(COUNTA($C17:$AX17)=0,"",IF(AM17="d","ok",IF(ISBLANK(AS17),"Empty cell",IF(AS17="yes","ok",IF(AS17="y","ok",IF(AS17="no","ok",IF(AS17="n","ok","Entry should be either 'yes', 'y', 'no' or 'n'"))))))) | CT17: =IF(COUNTA($C17:$AX17)=0,"",IF(AM17="d","ok",IF(ISBLANK(AS17),IF(ISBLANK(AT17),"ok","AEDM question not answered"),IF(OR(AS17="yes",AS17="y"),IF(ISBLANK(AT17),"Empty cell","ok"),IF(OR(AS17="no",AS17="n"),IF(ISBLANK(AT17),"ok","No entry should be made in cell"),IF(ISBLANK(AT17),"ok","No entry should be made in cell")))))) | CU17: =IF(COUNTA($C17:$AX17)=0,"",IF($AM17="d","ok",IF(ISBLANK(AU17),"ok",IF(ISNUMBER(AU17),IF(AU17>0,"ok","Entry should be greater than 0"),"Entry should be a number")))) | CV17: =IF(COUNTA($C17:$AX17)=0,"",IF($AM17="d","ok",IF(OR(G17=3,G17=4,G17=7,G17=8,G17=10,G17=12,G17=14),IF(ISBLANK(AV17),"ok",IF(ISNUMBER($AV17),IF($AV17>0,"ok","Entry should be greater than 0"),"Entry should be a number")),IF(ISBLANK(AV17),"ok","Model is not a heat pump")))) | CW17: =IF(COUNTA($C17:$AX17)=0,"",IF($AM17="d","ok",IF(ISBLANK(AW17),"ok",IF(ISNUMBER(AW17),IF(AW17>0,"ok","Entry should be greater than 0"),"Entry should be a number")))) | CX17: =IF(COUNTA($C17:$AX17)=0,"",IF($AM17="d","ok",IF(ISBLANK($AX17),"ok",IF(RIGHT(AX17,4)=".pdf",IF(LEFT(AX17,3)="DOE",IF(ISNUMBER(VALUE(MID(AX17,4,4))),"ok","Filename is not in correct format"),"Filename is not in correct format"),"Filename is not in correct format")))) | DI17: =IF(BG17="ok",VLOOKUP(G17,PrClDesc,2),"") | DL17: aaaaaa
A18: 8 | B18: =IF(COUNTIF(BC18:CX18,"")=No_of_Columns,"",IF(COUNTIF(BC18:CX18,"ok")=No_of_Columns,"ok","Error")) | BC18: =IF(COUNTA($C18:$AX18)=0,"",IF(ISBLANK($C18),"Empty cell","ok")) | BD18: =IF(COUNTA($C18:$AX18)=0,"",IF(ISBLANK(D18),"Empty cell","ok")) | BE18: =IF(COUNTA($C18:$AX18)=0,"",IF(ISBLANK(E18),"Empty cell","ok")) | BF18: =IF(COUNTA($C18:$AX18)=0,"",IF(ISBLANK(F18),"Empty cell","ok")) | BG18: =IF(COUNTA($C18:$AX18)=0,"",IF(ISBLANK($G18),"Empty cell",IF($G18<1,"Prod. Gr. Code should be an int. betw. 1 and "&No_of_Product_Classes,IF($G18>No_of_Product_Classes,"Prod. Gr. Code should be an int. betw. 1 and "&No_of_Product_Classes,IF($G18=INT($G18),"ok","Prod. Gr. Code should be an int. betw. 1 and "&No_of_Product_Classes))))) | BH18: =IF(COUNTA($C18:$AX18)=0,"",IF(OR(G18=1,G18=3,G18=5,G18=7,G18=9,G18=10,G18=11,G18=12),IF(ISBLANK(H18),"Empty cell",IF(ISBLANK(J18),"ok",IF(AND(H18="***",J18="***"),"ok",IF(AND(H18<>"***",J18<>"***"),"ok","Manufacturer & Indiv. Model No. must both or neither be ***")))),IF(ISBLANK(H18),"ok","No entry should be made"))) | BI18: =IF(COUNTA($C18:$AX18)=0,"",IF(OR(G18=1,G18=3,G18=5,G18=7,G18=9,G18=10,G18=11,G18=12),IF(ISBLANK(I18),"Empty cell","ok"),IF(ISBLANK(I18),"ok","No entry should be made"))) | BJ18: =IF(COUNTA($C18:$AX18)=0,"",IF(OR(G18=1,G18=3,G18=5,G18=7,G18=9,G18=10,G18=11,G18=12),IF(ISBLANK(J18),"Empty cell",IF(ISBLANK(H18),"ok",IF(AND(J18="***",H18="***"),"ok",IF(AND(J18<>"***",H18<>"***"),"ok","Manufacturer & Indiv. Model No. must both or neither be ***")))),IF(ISBLANK(J18),"ok","No entry should be made"))) | BK18: =IF(COUNTA($C18:$AX18)=0,"",IF(OR(G18=1,G18=3,G18=5,G18=7,G18=9,G18=10,G18=11,G18=12),IF(OR(H18="***",J18="***"),IF(ISBLANK(K18),"Empty cell",IF(K18="***","ok","Entry should be ***")),IF(K18="***","Entry should not be ***","ok")),IF(ISBLANK(K18),"ok","No entry should be made"))) | BL18: =IF(COUNTA($C18:$AX18)=0,"",IF(OR(G18=1,G18=3,G18=5,G18=7,G18=9,G18=10,G18=11,G18=12),IF(ISBLANK(K18),IF(ISBLANK(L18),IF(OR(H18="***",J18="***"),"Empty cell","ok"),"Manuf. Air Mover 1 column not completed"),IF(ISBLANK(L18),"Empty cell","ok")),IF(ISBLANK(L18),"ok","No entry should be made"))) | BM18: =IF(COUNTA($C18:$AX18)=0,"",IF(OR(G18=1,G18=3,G18=5,G18=7,G18=9,G18=10,G18=11,G18=12),IF(ISBLANK(K18),IF(ISBLANK(M18),IF(OR(H18="***",J18="***"),"Empty cell","ok"),"Manuf. Air Mover 1 column not completed"),IF(K18="***",IF(ISBLANK(M18),"Empty cell",IF(M18="***","ok","Entry should be ***")),IF(ISBLANK(M18),"Empty cell",IF(M18="***","Entry should not be ***","ok")))),IF(ISBLANK(M18),"ok","No entry should be made"))) | BN18: =IF(COUNTA($C18:$AX18)=0,"",IF(OR(G18=1,G18=3,G18=5,G18=7,G18=9,G18=10,G18=11,G18=12),IF(OR($H18="***",$J18="***"),IF(ISBLANK(N18),"ok","No entry should be made"),IF(N18="***","Entry cannot be ***","ok")),IF(ISBLANK(N18),"ok","No entry should be made"))) | BO18: =IF(COUNTA($C18:$AX18)=0,"",IF(OR(G18=1,G18=3,G18=5,G18=7,G18=9,G18=10,G18=11,G18=12),IF(ISBLANK(N18),IF(ISBLANK(O18),"ok","Manuf. Indoor Unit 2 not entered"),IF(ISBLANK(O18),"Empty cell","ok")),IF(ISBLANK(O18),"ok","No entry should be made"))) | BP18: =IF(COUNTA($C18:$AX18)=0,"",IF(OR(G18=1,G18=3,G18=5,G18=7,G18=9,G18=10,G18=11,G18=12),IF(ISBLANK(N18),IF(ISBLANK(P18),"ok","Manuf. Indoor Unit 2 not entered"),IF(ISBLANK(P18),"Empty cell",IF(P18="***","Entry cannot be ***","ok"))),IF(ISBLANK(P18),"ok","No entry should be made"))) | BQ18: =IF(COUNTA($C18:$AX18)=0,"",IF(OR(G18=1,G18=3,G18=5,G18=7,G18=9,G18=10,G18=11,G18=12),IF(ISBLANK(N18),IF(ISBLANK(Q18),"ok","Info for Indoor Unit 2 not entered"),IF(Q18="***","Entry cannot be ***","ok")),IF(ISBLANK(Q18),"ok","No entry should be made"))) | BR18: =IF(COUNTA($C18:$AX18)=0,"",IF(OR(G18=1,G18=3,G18=5,G18=7,G18=9,G18=10,G18=11,G18=12),IF(ISBLANK(Q18),IF(ISBLANK(R18),"ok","Manuf. Air Mover 2 not entered"),IF(ISBLANK(R18),"Empty cell","ok")),IF(ISBLANK(R18),"ok","No entry should be made"))) | BS18: =IF(COUNTA($C18:$AX18)=0,"",IF(OR(G18=1,G18=3,G18=5,G18=7,G18=9,G18=10,G18=11,G18=12),IF(ISBLANK(Q18),IF(ISBLANK(S18),"ok","Manuf. Air Mover 2 not entered"),IF(ISBLANK(S18),"Empty cell",IF(S18="***","Entry cannot be ***","ok"))),IF(ISBLANK(S18),"ok","No entry should be made"))) | BT18: =IF(COUNTA($C18:$AX18)=0,"",IF(OR(G18=1,G18=3,G18=5,G18=7,G18=9,G18=10,G18=11,G18=12),IF(ISBLANK(N18),IF(ISBLANK(T18),"ok","Info for Indoor Unit 2 not entered"),IF(T18="***","Entry cannot be ***","ok")),IF(ISBLANK(T18),"ok","No entry should be made"))) | BU18: =IF(COUNTA($C18:$AX18)=0,"",IF(OR(G18=1,G18=3,G18=5,G18=7,G18=9,G18=10,G18=11,G18=12),IF(ISBLANK(T18),IF(ISBLANK(U18),"ok","Manuf. Indoor Unit 3 not entered"),IF(ISBLANK(U18),"Empty cell","ok")),IF(ISBLANK(U18),"ok","No entry should be made"))) | BV18: =IF(COUNTA($C18:$AX18)=0,"",IF(OR(G18=1,G18=3,G18=5,G18=7,G18=9,G18=10,G18=11,G18=12),IF(ISBLANK(T18),IF(ISBLANK(V18),"ok","Manuf. Indoor Unit 3 not entered"),IF(ISBLANK(V18),"Empty cell",IF(V18="***","Entry cannot be ***","ok"))),IF(ISBLANK(V18),"ok","No entry should be made"))) | BW18: =IF(COUNTA($C18:$AX18)=0,"",IF(OR(G18=1,G18=3,G18=5,G18=7,G18=9,G18=10,G18=11,G18=12),IF(ISBLANK(T18),IF(ISBLANK(W18),"ok","Info for Indoor Unit 3 not entered"),IF(W18="***","Entry cannot be ***","ok")),IF(ISBLANK(W18),"ok","No entry should be made"))) | BX18: =IF(COUNTA($C18:$AX18)=0,"",IF(OR(G18=1,G18=3,G18=5,G18=7,G18=9,G18=10,G18=11,G18=12),IF(ISBLANK(W18),IF(ISBLANK(X18),"ok","Manuf. Air Mover 3 not entered"),IF(ISBLANK(X18),"Empty cell","ok")),IF(ISBLANK(X18),"ok","No entry should be made"))) | BY18: =IF(COUNTA($C18:$AX18)=0,"",IF(OR(G18=1,G18=3,G18=5,G18=7,G18=9,G18=10,G18=11,G18=12),IF(ISBLANK(W18),IF(ISBLANK(Y18),"ok","Manuf. Air Mover 3 not entered"),IF(ISBLANK(Y18),"Empty cell",IF(Y18="***","Entry cannot be ***","ok"))),IF(ISBLANK(Y18),"ok","No entry should be made"))) | BZ18: =IF(COUNTA($C18:$AX18)=0,"",IF(OR(G18=1,G18=3,G18=5,G18=7,G18=9,G18=10,G18=11,G18=12),IF(ISBLANK(T18),IF(ISBLANK(Z18),"ok","Info for Indoor Unit 3 not entered"),IF(Z18="***","Entry cannot be ***","ok")),IF(ISBLANK(Z18),"ok","No entry should be made"))) | CA18: =IF(COUNTA($C18:$AX18)=0,"",IF(OR(G18=1,G18=3,G18=5,G18=7,G18=9,G18=10,G18=11,G18=12),IF(ISBLANK(Z18),IF(ISBLANK(AA18),"ok","Manuf. Indoor Unit 4 not entered"),IF(ISBLANK(AA18),"Empty cell","ok")),IF(ISBLANK(AA18),"ok","No entry should be made"))) | CB18: =IF(COUNTA($C18:$AX18)=0,"",IF(OR(G18=1,G18=3,G18=5,G18=7,G18=9,G18=10,G18=11,G18=12),IF(ISBLANK(Z18),IF(ISBLANK(AB18),"ok","Manuf. Indoor Unit 4 not entered"),IF(ISBLANK(AB18),"Empty cell",IF(AB18="***","Entry cannot be ***","ok"))),IF(ISBLANK(AB18),"ok","No entry should be made"))) | CC18: =IF(COUNTA($C18:$AX18)=0,"",IF(OR(G18=1,G18=3,G18=5,G18=7,G18=9,G18=10,G18=11,G18=12),IF(ISBLANK(Z18),IF(ISBLANK(AC18),"ok","Info for Indoor Unit 4 not entered"),IF(AC18="***","Entry cannot be ***","ok")),IF(ISBLANK(AC18),"ok","No entry should be made"))) | CD18: =IF(COUNTA($C18:$AX18)=0,"",IF(OR(G18=1,G18=3,G18=5,G18=7,G18=9,G18=10,G18=11,G18=12),IF(ISBLANK(AC18),IF(ISBLANK(AD18),"ok","Manuf. Air Mover 4 not entered"),IF(ISBLANK(AD18),"Empty cell","ok")),IF(ISBLANK(AD18),"ok","No entry should be made"))) | CE18: =IF(COUNTA($C18:$AX18)=0,"",IF(OR(G18=1,G18=3,G18=5,G18=7,G18=9,G18=10,G18=11,G18=12),IF(ISBLANK(AC18),IF(ISBLANK(AE18),"ok","Manuf. Air Mover 4 not entered"),IF(ISBLANK(AE18),"Empty cell",IF(AE18="***","Entry cannot be ***","ok"))),IF(ISBLANK(AE18),"ok","No entry should be made"))) | CF18: =IF(COUNTA($C18:$AX18)=0,"",IF(OR(G18=1,G18=3,G18=5,G18=7,G18=9,G18=10,G18=11,G18=12),IF(ISBLANK(Z18),IF(ISBLANK(AF18),"ok","Info for Indoor Unit 4 not entered"),IF(AF18="***","Entry cannot be ***","ok")),IF(ISBLANK(AF18),"ok","No entry should be made"))) | CG18: =IF(COUNTA($C18:$AX18)=0,"",IF(OR(G18=1,G18=3,G18=5,G18=7,G18=9,G18=10,G18=11,G18=12),IF(ISBLANK(AF18),IF(ISBLANK(AG18),"ok","Manuf. Indoor Unit 5 not entered"),IF(ISBLANK(AG18),"Empty cell","ok")),IF(ISBLANK(AG18),"ok","No entry should be made"))) | CH18: =IF(COUNTA($C18:$AX18)=0,"",IF(OR(G18=1,G18=3,G18=5,G18=7,G18=9,G18=10,G18=11,G18=12),IF(ISBLANK(AF18),IF(ISBLANK(AH18),"ok","Manuf. Indoor Unit 5 not entered"),IF(ISBLANK(AH18),"Empty cell",IF(AH18="***","Entry cannot be ***","ok"))),IF(ISBLANK(AH18),"ok","No entry should be made"))) | CI18: =IF(COUNTA($C18:$AX18)=0,"",IF(OR(G18=1,G18=3,G18=5,G18=7,G18=9,G18=10,G18=11,G18=12),IF(ISBLANK(AF18),IF(ISBLANK(AI18),"ok","Info for Indoor Unit 5 not entered"),IF(AI18="***","Entry cannot be ***","ok")),IF(ISBLANK(AI18),"ok","No entry should be made"))) | CJ18: =IF(COUNTA($C18:$AX18)=0,"",IF(OR(G18=1,G18=3,G18=5,G18=7,G18=9,G18=10,G18=11,G18=12),IF(ISBLANK(AI18),IF(ISBLANK(AJ18),"ok","Manuf. Air Mover 5 not entered"),IF(ISBLANK(AJ18),"Empty cell","ok")),IF(ISBLANK(AJ18),"ok","No entry should be made"))) | CK18: =IF(COUNTA($C18:$AX18)=0,"",IF(OR(G18=1,G18=3,G18=5,G18=7,G18=9,G18=10,G18=11,G18=12),IF(ISBLANK(AI18),IF(ISBLANK(AK18),"ok","Manuf. Air Mover 5 not entered"),IF(ISBLANK(AK18),"Empty cell",IF(AK18="***","Entry cannot be ***","ok"))),IF(ISBLANK(AK18),"ok","No entry should be made"))) | CL18: =IF(COUNTA($C18:$AX18)=0,"",IF(ISBLANK(AL18),"Empty cell",IF(AL18="yes","ok",IF(AL18="y","ok",IF(AL18="no","ok",IF(AL18="n","ok","Entry should be either 'yes', 'y', 'no' or 'n'")))))) | CM18: =IF(COUNTA($C18:$AX18)=0,"",IF(ISBLANK($AM18),"Empty cell",IF(OR($AM18="n",$AM18="eto",$AM18="d",$AM18="c",$AM18="e",$AM18="f"),"ok","Should be n, eto, d, c, e, or f"))) | CN18: =IF(COUNTA($C18:$AX18)=0,"",IF(AM18="d","ok",IF(ISBLANK($AN18),"Empty cell",IF(OR(AS18="yes",AS18="y"),IF(AN18=0,"ok","Entry should be 0"),IF(OR(AS18="no",AS18="n"),IF(ISNUMBER(AN18),IF(INT(AN18)=AN18,IF(AN18>0,"ok","Entry should be a positive integer"),"Entry should be a positive integer"),"Entry should be a positive integer"),IF(ISNUMBER(AN18),IF(INT(AN18)=AN18,IF(AN18>=0,"ok","Need to answer AEDM question"),"Need to answer AEDM question"),"Need to answer AEDM question")))))) | CO18: =IF(COUNTA($C18:$AX18)=0,"",IF(AM18="d","ok",IF(ISBLANK(AO18),"Empty cell",IF(AO18="yes","ok",IF(AO18="y","ok",IF(AO18="no","ok",IF(AO18="n","ok","Entry should be either 'yes', 'y', 'no' or 'n'"))))))) | CP18: =IF(COUNTA($C18:$AX18)=0,"",IF(AM18="d","ok",IF(ISBLANK(AO18),IF(ISBLANK(AP18),"ok","Waiver question not answered"),IF(OR(AO18="yes",AO18="y"),IF(ISBLANK(AP18),"Empty cell",IF(ISNUMBER(AP18),IF(AP18<1,"Entry should be a date in M/D/YYYY format","ok"),"Entry should be a date in M/D/YYYY format")),IF(OR(AO18="no",AO18="n"),IF(ISBLANK(AP18),"ok","No entry should be made in cell"),IF(ISBLANK(AP18),"ok","No entry should be made in cell")))))) | CQ18: =IF(COUNTA($C18:$AX18)=0,"",IF(AM18="d","ok",IF(ISBLANK(AQ18),"Empty cell",IF(AQ18="yes","ok",IF(AQ18="y","ok",IF(AQ18="no","ok",IF(AQ18="n","ok","Entry should be either 'yes', 'y', 'no' or 'n'"))))))) | CR18: =IF(COUNTA($C18:$AX18)=0,"",IF(AM18="d","ok",IF(ISBLANK(AQ18),IF(ISBLANK(AR18),"ok","Exemption question not answered"),IF(OR(AQ18="yes",AQ18="y"),IF(ISBLANK(AR18),"Empty cell",IF(ISNUMBER(AR18),IF(AR18<1,"Entry should be a date in M/D/YYYY format","ok"),"Entry should be a date in M/D/YYYY format")),IF(OR(AQ18="no",AQ18="n"),IF(ISBLANK(AR18),"ok","No entry should be made in cell"),IF(ISBLANK(AR18),"ok","No entry should be made in cell")))))) | CS18: =IF(COUNTA($C18:$AX18)=0,"",IF(AM18="d","ok",IF(ISBLANK(AS18),"Empty cell",IF(AS18="yes","ok",IF(AS18="y","ok",IF(AS18="no","ok",IF(AS18="n","ok","Entry should be either 'yes', 'y', 'no' or 'n'"))))))) | CT18: =IF(COUNTA($C18:$AX18)=0,"",IF(AM18="d","ok",IF(ISBLANK(AS18),IF(ISBLANK(AT18),"ok","AEDM question not answered"),IF(OR(AS18="yes",AS18="y"),IF(ISBLANK(AT18),"Empty cell","ok"),IF(OR(AS18="no",AS18="n"),IF(ISBLANK(AT18),"ok","No entry should be made in cell"),IF(ISBLANK(AT18),"ok","No entry should be made in cell")))))) | CU18: =IF(COUNTA($C18:$AX18)=0,"",IF($AM18="d","ok",IF(ISBLANK(AU18),"ok",IF(ISNUMBER(AU18),IF(AU18>0,"ok","Entry should be greater than 0"),"Entry should be a number")))) | CV18: =IF(COUNTA($C18:$AX18)=0,"",IF($AM18="d","ok",IF(OR(G18=3,G18=4,G18=7,G18=8,G18=10,G18=12,G18=14),IF(ISBLANK(AV18),"ok",IF(ISNUMBER($AV18),IF($AV18>0,"ok","Entry should be greater than 0"),"Entry should be a number")),IF(ISBLANK(AV18),"ok","Model is not a heat pump")))) | CW18: =IF(COUNTA($C18:$AX18)=0,"",IF($AM18="d","ok",IF(ISBLANK(AW18),"ok",IF(ISNUMBER(AW18),IF(AW18>0,"ok","Entry should be greater than 0"),"Entry should be a number")))) | CX18: =IF(COUNTA($C18:$AX18)=0,"",IF($AM18="d","ok",IF(ISBLANK($AX18),"ok",IF(RIGHT(AX18,4)=".pdf",IF(LEFT(AX18,3)="DOE",IF(ISNUMBER(VALUE(MID(AX18,4,4))),"ok","Filename is not in correct format"),"Filename is not in correct format"),"Filename is not in correct format")))) | DI18: =IF(BG18="ok",VLOOKUP(G18,PrClDesc,2),"") | DL18: aaaaaa
A19: 9 | B19: =IF(COUNTIF(BC19:CX19,"")=No_of_Columns,"",IF(COUNTIF(BC19:CX19,"ok")=No_of_Columns,"ok","Error")) | BC19: =IF(COUNTA($C19:$AX19)=0,"",IF(ISBLANK($C19),"Empty cell","ok")) | BD19: =IF(COUNTA($C19:$AX19)=0,"",IF(ISBLANK(D19),"Empty cell","ok")) | BE19: =IF(COUNTA($C19:$AX19)=0,"",IF(ISBLANK(E19),"Empty cell","ok")) | BF19: =IF(COUNTA($C19:$AX19)=0,"",IF(ISBLANK(F19),"Empty cell","ok")) | BG19: =IF(COUNTA($C19:$AX19)=0,"",IF(ISBLANK($G19),"Empty cell",IF($G19<1,"Prod. Gr. Code should be an int. betw. 1 and "&No_of_Product_Classes,IF($G19>No_of_Product_Classes,"Prod. Gr. Code should be an int. betw. 1 and "&No_of_Product_Classes,IF($G19=INT($G19),"ok","Prod. Gr. Code should be an int. betw. 1 and "&No_of_Product_Classes))))) | BH19: =IF(COUNTA($C19:$AX19)=0,"",IF(OR(G19=1,G19=3,G19=5,G19=7,G19=9,G19=10,G19=11,G19=12),IF(ISBLANK(H19),"Empty cell",IF(ISBLANK(J19),"ok",IF(AND(H19="***",J19="***"),"ok",IF(AND(H19<>"***",J19<>"***"),"ok","Manufacturer & Indiv. Model No. must both or neither be ***")))),IF(ISBLANK(H19),"ok","No entry should be made"))) | BI19: =IF(COUNTA($C19:$AX19)=0,"",IF(OR(G19=1,G19=3,G19=5,G19=7,G19=9,G19=10,G19=11,G19=12),IF(ISBLANK(I19),"Empty cell","ok"),IF(ISBLANK(I19),"ok","No entry should be made"))) | BJ19: =IF(COUNTA($C19:$AX19)=0,"",IF(OR(G19=1,G19=3,G19=5,G19=7,G19=9,G19=10,G19=11,G19=12),IF(ISBLANK(J19),"Empty cell",IF(ISBLANK(H19),"ok",IF(AND(J19="***",H19="***"),"ok",IF(AND(J19<>"***",H19<>"***"),"ok","Manufacturer & Indiv. Model No. must both or neither be ***")))),IF(ISBLANK(J19),"ok","No entry should be made"))) | BK19: =IF(COUNTA($C19:$AX19)=0,"",IF(OR(G19=1,G19=3,G19=5,G19=7,G19=9,G19=10,G19=11,G19=12),IF(OR(H19="***",J19="***"),IF(ISBLANK(K19),"Empty cell",IF(K19="***","ok","Entry should be ***")),IF(K19="***","Entry should not be ***","ok")),IF(ISBLANK(K19),"ok","No entry should be made"))) | BL19: =IF(COUNTA($C19:$AX19)=0,"",IF(OR(G19=1,G19=3,G19=5,G19=7,G19=9,G19=10,G19=11,G19=12),IF(ISBLANK(K19),IF(ISBLANK(L19),IF(OR(H19="***",J19="***"),"Empty cell","ok"),"Manuf. Air Mover 1 column not completed"),IF(ISBLANK(L19),"Empty cell","ok")),IF(ISBLANK(L19),"ok","No entry should be made"))) | BM19: =IF(COUNTA($C19:$AX19)=0,"",IF(OR(G19=1,G19=3,G19=5,G19=7,G19=9,G19=10,G19=11,G19=12),IF(ISBLANK(K19),IF(ISBLANK(M19),IF(OR(H19="***",J19="***"),"Empty cell","ok"),"Manuf. Air Mover 1 column not completed"),IF(K19="***",IF(ISBLANK(M19),"Empty cell",IF(M19="***","ok","Entry should be ***")),IF(ISBLANK(M19),"Empty cell",IF(M19="***","Entry should not be ***","ok")))),IF(ISBLANK(M19),"ok","No entry should be made"))) | BN19: =IF(COUNTA($C19:$AX19)=0,"",IF(OR(G19=1,G19=3,G19=5,G19=7,G19=9,G19=10,G19=11,G19=12),IF(OR($H19="***",$J19="***"),IF(ISBLANK(N19),"ok","No entry should be made"),IF(N19="***","Entry cannot be ***","ok")),IF(ISBLANK(N19),"ok","No entry should be made"))) | BO19: =IF(COUNTA($C19:$AX19)=0,"",IF(OR(G19=1,G19=3,G19=5,G19=7,G19=9,G19=10,G19=11,G19=12),IF(ISBLANK(N19),IF(ISBLANK(O19),"ok","Manuf. Indoor Unit 2 not entered"),IF(ISBLANK(O19),"Empty cell","ok")),IF(ISBLANK(O19),"ok","No entry should be made"))) | BP19: =IF(COUNTA($C19:$AX19)=0,"",IF(OR(G19=1,G19=3,G19=5,G19=7,G19=9,G19=10,G19=11,G19=12),IF(ISBLANK(N19),IF(ISBLANK(P19),"ok","Manuf. Indoor Unit 2 not entered"),IF(ISBLANK(P19),"Empty cell",IF(P19="***","Entry cannot be ***","ok"))),IF(ISBLANK(P19),"ok","No entry should be made"))) | BQ19: =IF(COUNTA($C19:$AX19)=0,"",IF(OR(G19=1,G19=3,G19=5,G19=7,G19=9,G19=10,G19=11,G19=12),IF(ISBLANK(N19),IF(ISBLANK(Q19),"ok","Info for Indoor Unit 2 not entered"),IF(Q19="***","Entry cannot be ***","ok")),IF(ISBLANK(Q19),"ok","No entry should be made"))) | BR19: =IF(COUNTA($C19:$AX19)=0,"",IF(OR(G19=1,G19=3,G19=5,G19=7,G19=9,G19=10,G19=11,G19=12),IF(ISBLANK(Q19),IF(ISBLANK(R19),"ok","Manuf. Air Mover 2 not entered"),IF(ISBLANK(R19),"Empty cell","ok")),IF(ISBLANK(R19),"ok","No entry should be made"))) | BS19: =IF(COUNTA($C19:$AX19)=0,"",IF(OR(G19=1,G19=3,G19=5,G19=7,G19=9,G19=10,G19=11,G19=12),IF(ISBLANK(Q19),IF(ISBLANK(S19),"ok","Manuf. Air Mover 2 not entered"),IF(ISBLANK(S19),"Empty cell",IF(S19="***","Entry cannot be ***","ok"))),IF(ISBLANK(S19),"ok","No entry should be made"))) | BT19: =IF(COUNTA($C19:$AX19)=0,"",IF(OR(G19=1,G19=3,G19=5,G19=7,G19=9,G19=10,G19=11,G19=12),IF(ISBLANK(N19),IF(ISBLANK(T19),"ok","Info for Indoor Unit 2 not entered"),IF(T19="***","Entry cannot be ***","ok")),IF(ISBLANK(T19),"ok","No entry should be made"))) | BU19: =IF(COUNTA($C19:$AX19)=0,"",IF(OR(G19=1,G19=3,G19=5,G19=7,G19=9,G19=10,G19=11,G19=12),IF(ISBLANK(T19),IF(ISBLANK(U19),"ok","Manuf. Indoor Unit 3 not entered"),IF(ISBLANK(U19),"Empty cell","ok")),IF(ISBLANK(U19),"ok","No entry should be made"))) | BV19: =IF(COUNTA($C19:$AX19)=0,"",IF(OR(G19=1,G19=3,G19=5,G19=7,G19=9,G19=10,G19=11,G19=12),IF(ISBLANK(T19),IF(ISBLANK(V19),"ok","Manuf. Indoor Unit 3 not entered"),IF(ISBLANK(V19),"Empty cell",IF(V19="***","Entry cannot be ***","ok"))),IF(ISBLANK(V19),"ok","No entry should be made"))) | BW19: =IF(COUNTA($C19:$AX19)=0,"",IF(OR(G19=1,G19=3,G19=5,G19=7,G19=9,G19=10,G19=11,G19=12),IF(ISBLANK(T19),IF(ISBLANK(W19),"ok","Info for Indoor Unit 3 not entered"),IF(W19="***","Entry cannot be ***","ok")),IF(ISBLANK(W19),"ok","No entry should be made"))) | BX19: =IF(COUNTA($C19:$AX19)=0,"",IF(OR(G19=1,G19=3,G19=5,G19=7,G19=9,G19=10,G19=11,G19=12),IF(ISBLANK(W19),IF(ISBLANK(X19),"ok","Manuf. Air Mover 3 not entered"),IF(ISBLANK(X19),"Empty cell","ok")),IF(ISBLANK(X19),"ok","No entry should be made"))) | BY19: =IF(COUNTA($C19:$AX19)=0,"",IF(OR(G19=1,G19=3,G19=5,G19=7,G19=9,G19=10,G19=11,G19=12),IF(ISBLANK(W19),IF(ISBLANK(Y19),"ok","Manuf. Air Mover 3 not entered"),IF(ISBLANK(Y19),"Empty cell",IF(Y19="***","Entry cannot be ***","ok"))),IF(ISBLANK(Y19),"ok","No entry should be made"))) | BZ19: =IF(COUNTA($C19:$AX19)=0,"",IF(OR(G19=1,G19=3,G19=5,G19=7,G19=9,G19=10,G19=11,G19=12),IF(ISBLANK(T19),IF(ISBLANK(Z19),"ok","Info for Indoor Unit 3 not entered"),IF(Z19="***","Entry cannot be ***","ok")),IF(ISBLANK(Z19),"ok","No entry should be made"))) | CA19: =IF(COUNTA($C19:$AX19)=0,"",IF(OR(G19=1,G19=3,G19=5,G19=7,G19=9,G19=10,G19=11,G19=12),IF(ISBLANK(Z19),IF(ISBLANK(AA19),"ok","Manuf. Indoor Unit 4 not entered"),IF(ISBLANK(AA19),"Empty cell","ok")),IF(ISBLANK(AA19),"ok","No entry should be made"))) | CB19: =IF(COUNTA($C19:$AX19)=0,"",IF(OR(G19=1,G19=3,G19=5,G19=7,G19=9,G19=10,G19=11,G19=12),IF(ISBLANK(Z19),IF(ISBLANK(AB19),"ok","Manuf. Indoor Unit 4 not entered"),IF(ISBLANK(AB19),"Empty cell",IF(AB19="***","Entry cannot be ***","ok"))),IF(ISBLANK(AB19),"ok","No entry should be made"))) | CC19: =IF(COUNTA($C19:$AX19)=0,"",IF(OR(G19=1,G19=3,G19=5,G19=7,G19=9,G19=10,G19=11,G19=12),IF(ISBLANK(Z19),IF(ISBLANK(AC19),"ok","Info for Indoor Unit 4 not entered"),IF(AC19="***","Entry cannot be ***","ok")),IF(ISBLANK(AC19),"ok","No entry should be made"))) | CD19: =IF(COUNTA($C19:$AX19)=0,"",IF(OR(G19=1,G19=3,G19=5,G19=7,G19=9,G19=10,G19=11,G19=12),IF(ISBLANK(AC19),IF(ISBLANK(AD19),"ok","Manuf. Air Mover 4 not entered"),IF(ISBLANK(AD19),"Empty cell","ok")),IF(ISBLANK(AD19),"ok","No entry should be made"))) | CE19: =IF(COUNTA($C19:$AX19)=0,"",IF(OR(G19=1,G19=3,G19=5,G19=7,G19=9,G19=10,G19=11,G19=12),IF(ISBLANK(AC19),IF(ISBLANK(AE19),"ok","Manuf. Air Mover 4 not entered"),IF(ISBLANK(AE19),"Empty cell",IF(AE19="***","Entry cannot be ***","ok"))),IF(ISBLANK(AE19),"ok","No entry should be made"))) | CF19: =IF(COUNTA($C19:$AX19)=0,"",IF(OR(G19=1,G19=3,G19=5,G19=7,G19=9,G19=10,G19=11,G19=12),IF(ISBLANK(Z19),IF(ISBLANK(AF19),"ok","Info for Indoor Unit 4 not entered"),IF(AF19="***","Entry cannot be ***","ok")),IF(ISBLANK(AF19),"ok","No entry should be made"))) | CG19: =IF(COUNTA($C19:$AX19)=0,"",IF(OR(G19=1,G19=3,G19=5,G19=7,G19=9,G19=10,G19=11,G19=12),IF(ISBLANK(AF19),IF(ISBLANK(AG19),"ok","Manuf. Indoor Unit 5 not entered"),IF(ISBLANK(AG19),"Empty cell","ok")),IF(ISBLANK(AG19),"ok","No entry should be made"))) | CH19: =IF(COUNTA($C19:$AX19)=0,"",IF(OR(G19=1,G19=3,G19=5,G19=7,G19=9,G19=10,G19=11,G19=12),IF(ISBLANK(AF19),IF(ISBLANK(AH19),"ok","Manuf. Indoor Unit 5 not entered"),IF(ISBLANK(AH19),"Empty cell",IF(AH19="***","Entry cannot be ***","ok"))),IF(ISBLANK(AH19),"ok","No entry should be made"))) | CI19: =IF(COUNTA($C19:$AX19)=0,"",IF(OR(G19=1,G19=3,G19=5,G19=7,G19=9,G19=10,G19=11,G19=12),IF(ISBLANK(AF19),IF(ISBLANK(AI19),"ok","Info for Indoor Unit 5 not entered"),IF(AI19="***","Entry cannot be ***","ok")),IF(ISBLANK(AI19),"ok","No entry should be made"))) | CJ19: =IF(COUNTA($C19:$AX19)=0,"",IF(OR(G19=1,G19=3,G19=5,G19=7,G19=9,G19=10,G19=11,G19=12),IF(ISBLANK(AI19),IF(ISBLANK(AJ19),"ok","Manuf. Air Mover 5 not entered"),IF(ISBLANK(AJ19),"Empty cell","ok")),IF(ISBLANK(AJ19),"ok","No entry should be made"))) | CK19: =IF(COUNTA($C19:$AX19)=0,"",IF(OR(G19=1,G19=3,G19=5,G19=7,G19=9,G19=10,G19=11,G19=12),IF(ISBLANK(AI19),IF(ISBLANK(AK19),"ok","Manuf. Air Mover 5 not entered"),IF(ISBLANK(AK19),"Empty cell",IF(AK19="***","Entry cannot be ***","ok"))),IF(ISBLANK(AK19),"ok","No entry should be made"))) | CL19: =IF(COUNTA($C19:$AX19)=0,"",IF(ISBLANK(AL19),"Empty cell",IF(AL19="yes","ok",IF(AL19="y","ok",IF(AL19="no","ok",IF(AL19="n","ok","Entry should be either 'yes', 'y', 'no' or 'n'")))))) | CM19: =IF(COUNTA($C19:$AX19)=0,"",IF(ISBLANK($AM19),"Empty cell",IF(OR($AM19="n",$AM19="eto",$AM19="d",$AM19="c",$AM19="e",$AM19="f"),"ok","Should be n, eto, d, c, e, or f"))) | CN19: =IF(COUNTA($C19:$AX19)=0,"",IF(AM19="d","ok",IF(ISBLANK($AN19),"Empty cell",IF(OR(AS19="yes",AS19="y"),IF(AN19=0,"ok","Entry should be 0"),IF(OR(AS19="no",AS19="n"),IF(ISNUMBER(AN19),IF(INT(AN19)=AN19,IF(AN19>0,"ok","Entry should be a positive integer"),"Entry should be a positive integer"),"Entry should be a positive integer"),IF(ISNUMBER(AN19),IF(INT(AN19)=AN19,IF(AN19>=0,"ok","Need to answer AEDM question"),"Need to answer AEDM question"),"Need to answer AEDM question")))))) | CO19: =IF(COUNTA($C19:$AX19)=0,"",IF(AM19="d","ok",IF(ISBLANK(AO19),"Empty cell",IF(AO19="yes","ok",IF(AO19="y","ok",IF(AO19="no","ok",IF(AO19="n","ok","Entry should be either 'yes', 'y', 'no' or 'n'"))))))) | CP19: =IF(COUNTA($C19:$AX19)=0,"",IF(AM19="d","ok",IF(ISBLANK(AO19),IF(ISBLANK(AP19),"ok","Waiver question not answered"),IF(OR(AO19="yes",AO19="y"),IF(ISBLANK(AP19),"Empty cell",IF(ISNUMBER(AP19),IF(AP19<1,"Entry should be a date in M/D/YYYY format","ok"),"Entry should be a date in M/D/YYYY format")),IF(OR(AO19="no",AO19="n"),IF(ISBLANK(AP19),"ok","No entry should be made in cell"),IF(ISBLANK(AP19),"ok","No entry should be made in cell")))))) | CQ19: =IF(COUNTA($C19:$AX19)=0,"",IF(AM19="d","ok",IF(ISBLANK(AQ19),"Empty cell",IF(AQ19="yes","ok",IF(AQ19="y","ok",IF(AQ19="no","ok",IF(AQ19="n","ok","Entry should be either 'yes', 'y', 'no' or 'n'"))))))) | CR19: =IF(COUNTA($C19:$AX19)=0,"",IF(AM19="d","ok",IF(ISBLANK(AQ19),IF(ISBLANK(AR19),"ok","Exemption question not answered"),IF(OR(AQ19="yes",AQ19="y"),IF(ISBLANK(AR19),"Empty cell",IF(ISNUMBER(AR19),IF(AR19<1,"Entry should be a date in M/D/YYYY format","ok"),"Entry should be a date in M/D/YYYY format")),IF(OR(AQ19="no",AQ19="n"),IF(ISBLANK(AR19),"ok","No entry should be made in cell"),IF(ISBLANK(AR19),"ok","No entry should be made in cell")))))) | CS19: =IF(COUNTA($C19:$AX19)=0,"",IF(AM19="d","ok",IF(ISBLANK(AS19),"Empty cell",IF(AS19="yes","ok",IF(AS19="y","ok",IF(AS19="no","ok",IF(AS19="n","ok","Entry should be either 'yes', 'y', 'no' or 'n'"))))))) | CT19: =IF(COUNTA($C19:$AX19)=0,"",IF(AM19="d","ok",IF(ISBLANK(AS19),IF(ISBLANK(AT19),"ok","AEDM question not answered"),IF(OR(AS19="yes",AS19="y"),IF(ISBLANK(AT19),"Empty cell","ok"),IF(OR(AS19="no",AS19="n"),IF(ISBLANK(AT19),"ok","No entry should be made in cell"),IF(ISBLANK(AT19),"ok","No entry should be made in cell")))))) | CU19: =IF(COUNTA($C19:$AX19)=0,"",IF($AM19="d","ok",IF(ISBLANK(AU19),"ok",IF(ISNUMBER(AU19),IF(AU19>0,"ok","Entry should be greater than 0"),"Entry should be a number")))) | CV19: =IF(COUNTA($C19:$AX19)=0,"",IF($AM19="d","ok",IF(OR(G19=3,G19=4,G19=7,G19=8,G19=10,G19=12,G19=14),IF(ISBLANK(AV19),"ok",IF(ISNUMBER($AV19),IF($AV19>0,"ok","Entry should be greater than 0"),"Entry should be a number")),IF(ISBLANK(AV19),"ok","Model is not a heat pump")))) | CW19: =IF(COUNTA($C19:$AX19)=0,"",IF($AM19="d","ok",IF(ISBLANK(AW19),"ok",IF(ISNUMBER(AW19),IF(AW19>0,"ok","Entry should be greater than 0"),"Entry should be a number")))) | CX19: =IF(COUNTA($C19:$AX19)=0,"",IF($AM19="d","ok",IF(ISBLANK($AX19),"ok",IF(RIGHT(AX19,4)=".pdf",IF(LEFT(AX19,3)="DOE",IF(ISNUMBER(VALUE(MID(AX19,4,4))),"ok","Filename is not in correct format"),"Filename is not in correct format"),"Filename is not in correct format")))) | DI19: =IF(BG19="ok",VLOOKUP(G19,PrClDesc,2),"") | DL19: aaaaaa
A20: 10 | B20: =IF(COUNTIF(BC20:CX20,"")=No_of_Columns,"",IF(COUNTIF(BC20:CX20,"ok")=No_of_Columns,"ok","Error")) | BC20: =IF(COUNTA($C20:$AX20)=0,"",IF(ISBLANK($C20),"Empty cell","ok")) | BD20: =IF(COUNTA($C20:$AX20)=0,"",IF(ISBLANK(D20),"Empty cell","ok")) | BE20: =IF(COUNTA($C20:$AX20)=0,"",IF(ISBLANK(E20),"Empty cell","ok")) | BF20: =IF(COUNTA($C20:$AX20)=0,"",IF(ISBLANK(F20),"Empty cell","ok")) | BG20: =IF(COUNTA($C20:$AX20)=0,"",IF(ISBLANK($G20),"Empty cell",IF($G20<1,"Prod. Gr. Code should be an int. betw. 1 and "&No_of_Product_Classes,IF($G20>No_of_Product_Classes,"Prod. Gr. Code should be an int. betw. 1 and "&No_of_Product_Classes,IF($G20=INT($G20),"ok","Prod. Gr. Code should be an int. betw. 1 and "&No_of_Product_Classes))))) | BH20: =IF(COUNTA($C20:$AX20)=0,"",IF(OR(G20=1,G20=3,G20=5,G20=7,G20=9,G20=10,G20=11,G20=12),IF(ISBLANK(H20),"Empty cell",IF(ISBLANK(J20),"ok",IF(AND(H20="***",J20="***"),"ok",IF(AND(H20<>"***",J20<>"***"),"ok","Manufacturer & Indiv. Model No. must both or neither be ***")))),IF(ISBLANK(H20),"ok","No entry should be made"))) | BI20: =IF(COUNTA($C20:$AX20)=0,"",IF(OR(G20=1,G20=3,G20=5,G20=7,G20=9,G20=10,G20=11,G20=12),IF(ISBLANK(I20),"Empty cell","ok"),IF(ISBLANK(I20),"ok","No entry should be made"))) | BJ20: =IF(COUNTA($C20:$AX20)=0,"",IF(OR(G20=1,G20=3,G20=5,G20=7,G20=9,G20=10,G20=11,G20=12),IF(ISBLANK(J20),"Empty cell",IF(ISBLANK(H20),"ok",IF(AND(J20="***",H20="***"),"ok",IF(AND(J20<>"***",H20<>"***"),"ok","Manufacturer & Indiv. Model No. must both or neither be ***")))),IF(ISBLANK(J20),"ok","No entry should be made"))) | BK20: =IF(COUNTA($C20:$AX20)=0,"",IF(OR(G20=1,G20=3,G20=5,G20=7,G20=9,G20=10,G20=11,G20=12),IF(OR(H20="***",J20="***"),IF(ISBLANK(K20),"Empty cell",IF(K20="***","ok","Entry should be ***")),IF(K20="***","Entry should not be ***","ok")),IF(ISBLANK(K20),"ok","No entry should be made"))) | BL20: =IF(COUNTA($C20:$AX20)=0,"",IF(OR(G20=1,G20=3,G20=5,G20=7,G20=9,G20=10,G20=11,G20=12),IF(ISBLANK(K20),IF(ISBLANK(L20),IF(OR(H20="***",J20="***"),"Empty cell","ok"),"Manuf. Air Mover 1 column not completed"),IF(ISBLANK(L20),"Empty cell","ok")),IF(ISBLANK(L20),"ok","No entry should be made"))) | BM20: =IF(COUNTA($C20:$AX20)=0,"",IF(OR(G20=1,G20=3,G20=5,G20=7,G20=9,G20=10,G20=11,G20=12),IF(ISBLANK(K20),IF(ISBLANK(M20),IF(OR(H20="***",J20="***"),"Empty cell","ok"),"Manuf. Air Mover 1 column not completed"),IF(K20="***",IF(ISBLANK(M20),"Empty cell",IF(M20="***","ok","Entry should be ***")),IF(ISBLANK(M20),"Empty cell",IF(M20="***","Entry should not be ***","ok")))),IF(ISBLANK(M20),"ok","No entry should be made"))) | BN20: =IF(COUNTA($C20:$AX20)=0,"",IF(OR(G20=1,G20=3,G20=5,G20=7,G20=9,G20=10,G20=11,G20=12),IF(OR($H20="***",$J20="***"),IF(ISBLANK(N20),"ok","No entry should be made"),IF(N20="***","Entry cannot be ***","ok")),IF(ISBLANK(N20),"ok","No entry should be made"))) | BO20: =IF(COUNTA($C20:$AX20)=0,"",IF(OR(G20=1,G20=3,G20=5,G20=7,G20=9,G20=10,G20=11,G20=12),IF(ISBLANK(N20),IF(ISBLANK(O20),"ok","Manuf. Indoor Unit 2 not entered"),IF(ISBLANK(O20),"Empty cell","ok")),IF(ISBLANK(O20),"ok","No entry should be made"))) | BP20: =IF(COUNTA($C20:$AX20)=0,"",IF(OR(G20=1,G20=3,G20=5,G20=7,G20=9,G20=10,G20=11,G20=12),IF(ISBLANK(N20),IF(ISBLANK(P20),"ok","Manuf. Indoor Unit 2 not entered"),IF(ISBLANK(P20),"Empty cell",IF(P20="***","Entry cannot be ***","ok"))),IF(ISBLANK(P20),"ok","No entry should be made"))) | BQ20: =IF(COUNTA($C20:$AX20)=0,"",IF(OR(G20=1,G20=3,G20=5,G20=7,G20=9,G20=10,G20=11,G20=12),IF(ISBLANK(N20),IF(ISBLANK(Q20),"ok","Info for Indoor Unit 2 not entered"),IF(Q20="***","Entry cannot be ***","ok")),IF(ISBLANK(Q20),"ok","No entry should be made"))) | BR20: =IF(COUNTA($C20:$AX20)=0,"",IF(OR(G20=1,G20=3,G20=5,G20=7,G20=9,G20=10,G20=11,G20=12),IF(ISBLANK(Q20),IF(ISBLANK(R20),"ok","Manuf. Air Mover 2 not entered"),IF(ISBLANK(R20),"Empty cell","ok")),IF(ISBLANK(R20),"ok","No entry should be made"))) | BS20: =IF(COUNTA($C20:$AX20)=0,"",IF(OR(G20=1,G20=3,G20=5,G20=7,G20=9,G20=10,G20=11,G20=12),IF(ISBLANK(Q20),IF(ISBLANK(S20),"ok","Manuf. Air Mover 2 not entered"),IF(ISBLANK(S20),"Empty cell",IF(S20="***","Entry cannot be ***","ok"))),IF(ISBLANK(S20),"ok","No entry should be made"))) | BT20: =IF(COUNTA($C20:$AX20)=0,"",IF(OR(G20=1,G20=3,G20=5,G20=7,G20=9,G20=10,G20=11,G20=12),IF(ISBLANK(N20),IF(ISBLANK(T20),"ok","Info for Indoor Unit 2 not entered"),IF(T20="***","Entry cannot be ***","ok")),IF(ISBLANK(T20),"ok","No entry should be made"))) | BU20: =IF(COUNTA($C20:$AX20)=0,"",IF(OR(G20=1,G20=3,G20=5,G20=7,G20=9,G20=10,G20=11,G20=12),IF(ISBLANK(T20),IF(ISBLANK(U20),"ok","Manuf. Indoor Unit 3 not entered"),IF(ISBLANK(U20),"Empty cell","ok")),IF(ISBLANK(U20),"ok","No entry should be made"))) | BV20: =IF(COUNTA($C20:$AX20)=0,"",IF(OR(G20=1,G20=3,G20=5,G20=7,G20=9,G20=10,G20=11,G20=12),IF(ISBLANK(T20),IF(ISBLANK(V20),"ok","Manuf. Indoor Unit 3 not entered"),IF(ISBLANK(V20),"Empty cell",IF(V20="***","Entry cannot be ***","ok"))),IF(ISBLANK(V20),"ok","No entry should be made"))) | BW20: =IF(COUNTA($C20:$AX20)=0,"",IF(OR(G20=1,G20=3,G20=5,G20=7,G20=9,G20=10,G20=11,G20=12),IF(ISBLANK(T20),IF(ISBLANK(W20),"ok","Info for Indoor Unit 3 not entered"),IF(W20="***","Entry cannot be ***","ok")),IF(ISBLANK(W20),"ok","No entry should be made"))) | BX20: =IF(COUNTA($C20:$AX20)=0,"",IF(OR(G20=1,G20=3,G20=5,G20=7,G20=9,G20=10,G20=11,G20=12),IF(ISBLANK(W20),IF(ISBLANK(X20),"ok","Manuf. Air Mover 3 not entered"),IF(ISBLANK(X20),"Empty cell","ok")),IF(ISBLANK(X20),"ok","No entry should be made"))) | BY20: =IF(COUNTA($C20:$AX20)=0,"",IF(OR(G20=1,G20=3,G20=5,G20=7,G20=9,G20=10,G20=11,G20=12),IF(ISBLANK(W20),IF(ISBLANK(Y20),"ok","Manuf. Air Mover 3 not entered"),IF(ISBLANK(Y20),"Empty cell",IF(Y20="***","Entry cannot be ***","ok"))),IF(ISBLANK(Y20),"ok","No entry should be made"))) | BZ20: =IF(COUNTA($C20:$AX20)=0,"",IF(OR(G20=1,G20=3,G20=5,G20=7,G20=9,G20=10,G20=11,G20=12),IF(ISBLANK(T20),IF(ISBLANK(Z20),"ok","Info for Indoor Unit 3 not entered"),IF(Z20="***","Entry cannot be ***","ok")),IF(ISBLANK(Z20),"ok","No entry should be made"))) | CA20: =IF(COUNTA($C20:$AX20)=0,"",IF(OR(G20=1,G20=3,G20=5,G20=7,G20=9,G20=10,G20=11,G20=12),IF(ISBLANK(Z20),IF(ISBLANK(AA20),"ok","Manuf. Indoor Unit 4 not entered"),IF(ISBLANK(AA20),"Empty cell","ok")),IF(ISBLANK(AA20),"ok","No entry should be made"))) | CB20: =IF(COUNTA($C20:$AX20)=0,"",IF(OR(G20=1,G20=3,G20=5,G20=7,G20=9,G20=10,G20=11,G20=12),IF(ISBLANK(Z20),IF(ISBLANK(AB20),"ok","Manuf. Indoor Unit 4 not entered"),IF(ISBLANK(AB20),"Empty cell",IF(AB20="***","Entry cannot be ***","ok"))),IF(ISBLANK(AB20),"ok","No entry should be made"))) | CC20: =IF(COUNTA($C20:$AX20)=0,"",IF(OR(G20=1,G20=3,G20=5,G20=7,G20=9,G20=10,G20=11,G20=12),IF(ISBLANK(Z20),IF(ISBLANK(AC20),"ok","Info for Indoor Unit 4 not entered"),IF(AC20="***","Entry cannot be ***","ok")),IF(ISBLANK(AC20),"ok","No entry should be made"))) | CD20: =IF(COUNTA($C20:$AX20)=0,"",IF(OR(G20=1,G20=3,G20=5,G20=7,G20=9,G20=10,G20=11,G20=12),IF(ISBLANK(AC20),IF(ISBLANK(AD20),"ok","Manuf. Air Mover 4 not entered"),IF(ISBLANK(AD20),"Empty cell","ok")),IF(ISBLANK(AD20),"ok","No entry should be made"))) | CE20: =IF(COUNTA($C20:$AX20)=0,"",IF(OR(G20=1,G20=3,G20=5,G20=7,G20=9,G20=10,G20=11,G20=12),IF(ISBLANK(AC20),IF(ISBLANK(AE20),"ok","Manuf. Air Mover 4 not entered"),IF(ISBLANK(AE20),"Empty cell",IF(AE20="***","Entry cannot be ***","ok"))),IF(ISBLANK(AE20),"ok","No entry should be made"))) | CF20: =IF(COUNTA($C20:$AX20)=0,"",IF(OR(G20=1,G20=3,G20=5,G20=7,G20=9,G20=10,G20=11,G20=12),IF(ISBLANK(Z20),IF(ISBLANK(AF20),"ok","Info for Indoor Unit 4 not entered"),IF(AF20="***","Entry cannot be ***","ok")),IF(ISBLANK(AF20),"ok","No entry should be made"))) | CG20: =IF(COUNTA($C20:$AX20)=0,"",IF(OR(G20=1,G20=3,G20=5,G20=7,G20=9,G20=10,G20=11,G20=12),IF(ISBLANK(AF20),IF(ISBLANK(AG20),"ok","Manuf. Indoor Unit 5 not entered"),IF(ISBLANK(AG20),"Empty cell","ok")),IF(ISBLANK(AG20),"ok","No entry should be made"))) | CH20: =IF(COUNTA($C20:$AX20)=0,"",IF(OR(G20=1,G20=3,G20=5,G20=7,G20=9,G20=10,G20=11,G20=12),IF(ISBLANK(AF20),IF(ISBLANK(AH20),"ok","Manuf. Indoor Unit 5 not entered"),IF(ISBLANK(AH20),"Empty cell",IF(AH20="***","Entry cannot be ***","ok"))),IF(ISBLANK(AH20),"ok","No entry should be made"))) | CI20: =IF(COUNTA($C20:$AX20)=0,"",IF(OR(G20=1,G20=3,G20=5,G20=7,G20=9,G20=10,G20=11,G20=12),IF(ISBLANK(AF20),IF(ISBLANK(AI20),"ok","Info for Indoor Unit 5 not entered"),IF(AI20="***","Entry cannot be ***","ok")),IF(ISBLANK(AI20),"ok","No entry should be made"))) | CJ20: =IF(COUNTA($C20:$AX20)=0,"",IF(OR(G20=1,G20=3,G20=5,G20=7,G20=9,G20=10,G20=11,G20=12),IF(ISBLANK(AI20),IF(ISBLANK(AJ20),"ok","Manuf. Air Mover 5 not entered"),IF(ISBLANK(AJ20),"Empty cell","ok")),IF(ISBLANK(AJ20),"ok","No entry should be made"))) | CK20: =IF(COUNTA($C20:$AX20)=0,"",IF(OR(G20=1,G20=3,G20=5,G20=7,G20=9,G20=10,G20=11,G20=12),IF(ISBLANK(AI20),IF(ISBLANK(AK20),"ok","Manuf. Air Mover 5 not entered"),IF(ISBLANK(AK20),"Empty cell",IF(AK20="***","Entry cannot be ***","ok"))),IF(ISBLANK(AK20),"ok","No entry should be made"))) | CL20: =IF(COUNTA($C20:$AX20)=0,"",IF(ISBLANK(AL20),"Empty cell",IF(AL20="yes","ok",IF(AL20="y","ok",IF(AL20="no","ok",IF(AL20="n","ok","Entry should be either 'yes', 'y', 'no' or 'n'")))))) | CM20: =IF(COUNTA($C20:$AX20)=0,"",IF(ISBLANK($AM20),"Empty cell",IF(OR($AM20="n",$AM20="eto",$AM20="d",$AM20="c",$AM20="e",$AM20="f"),"ok","Should be n, eto, d, c, e, or f"))) | CN20: =IF(COUNTA($C20:$AX20)=0,"",IF(AM20="d","ok",IF(ISBLANK($AN20),"Empty cell",IF(OR(AS20="yes",AS20="y"),IF(AN20=0,"ok","Entry should be 0"),IF(OR(AS20="no",AS20="n"),IF(ISNUMBER(AN20),IF(INT(AN20)=AN20,IF(AN20>0,"ok","Entry should be a positive integer"),"Entry should be a positive integer"),"Entry should be a positive integer"),IF(ISNUMBER(AN20),IF(INT(AN20)=AN20,IF(AN20>=0,"ok","Need to answer AEDM question"),"Need to answer AEDM question"),"Need to answer AEDM question")))))) | CO20: =IF(COUNTA($C20:$AX20)=0,"",IF(AM20="d","ok",IF(ISBLANK(AO20),"Empty cell",IF(AO20="yes","ok",IF(AO20="y","ok",IF(AO20="no","ok",IF(AO20="n","ok","Entry should be either 'yes', 'y', 'no' or 'n'"))))))) | CP20: =IF(COUNTA($C20:$AX20)=0,"",IF(AM20="d","ok",IF(ISBLANK(AO20),IF(ISBLANK(AP20),"ok","Waiver question not answered"),IF(OR(AO20="yes",AO20="y"),IF(ISBLANK(AP20),"Empty cell",IF(ISNUMBER(AP20),IF(AP20<1,"Entry should be a date in M/D/YYYY format","ok"),"Entry should be a date in M/D/YYYY format")),IF(OR(AO20="no",AO20="n"),IF(ISBLANK(AP20),"ok","No entry should be made in cell"),IF(ISBLANK(AP20),"ok","No entry should be made in cell")))))) | CQ20: =IF(COUNTA($C20:$AX20)=0,"",IF(AM20="d","ok",IF(ISBLANK(AQ20),"Empty cell",IF(AQ20="yes","ok",IF(AQ20="y","ok",IF(AQ20="no","ok",IF(AQ20="n","ok","Entry should be either 'yes', 'y', 'no' or 'n'"))))))) | CR20: =IF(COUNTA($C20:$AX20)=0,"",IF(AM20="d","ok",IF(ISBLANK(AQ20),IF(ISBLANK(AR20),"ok","Exemption question not answered"),IF(OR(AQ20="yes",AQ20="y"),IF(ISBLANK(AR20),"Empty cell",IF(ISNUMBER(AR20),IF(AR20<1,"Entry should be a date in M/D/YYYY format","ok"),"Entry should be a date in M/D/YYYY format")),IF(OR(AQ20="no",AQ20="n"),IF(ISBLANK(AR20),"ok","No entry should be made in cell"),IF(ISBLANK(AR20),"ok","No entry should be made in cell")))))) | CS20: =IF(COUNTA($C20:$AX20)=0,"",IF(AM20="d","ok",IF(ISBLANK(AS20),"Empty cell",IF(AS20="yes","ok",IF(AS20="y","ok",IF(AS20="no","ok",IF(AS20="n","ok","Entry should be either 'yes', 'y', 'no' or 'n'"))))))) | CT20: =IF(COUNTA($C20:$AX20)=0,"",IF(AM20="d","ok",IF(ISBLANK(AS20),IF(ISBLANK(AT20),"ok","AEDM question not answered"),IF(OR(AS20="yes",AS20="y"),IF(ISBLANK(AT20),"Empty cell","ok"),IF(OR(AS20="no",AS20="n"),IF(ISBLANK(AT20),"ok","No entry should be made in cell"),IF(ISBLANK(AT20),"ok","No entry should be made in cell")))))) | CU20: =IF(COUNTA($C20:$AX20)=0,"",IF($AM20="d","ok",IF(ISBLANK(AU20),"ok",IF(ISNUMBER(AU20),IF(AU20>0,"ok","Entry should be greater than 0"),"Entry should be a number")))) | CV20: =IF(COUNTA($C20:$AX20)=0,"",IF($AM20="d","ok",IF(OR(G20=3,G20=4,G20=7,G20=8,G20=10,G20=12,G20=14),IF(ISBLANK(AV20),"ok",IF(ISNUMBER($AV20),IF($AV20>0,"ok","Entry should be greater than 0"),"Entry should be a number")),IF(ISBLANK(AV20),"ok","Model is not a heat pump")))) | CW20: =IF(COUNTA($C20:$AX20)=0,"",IF($AM20="d","ok",IF(ISBLANK(AW20),"ok",IF(ISNUMBER(AW20),IF(AW20>0,"ok","Entry should be greater than 0"),"Entry should be a number")))) | CX20: =IF(COUNTA($C20:$AX20)=0,"",IF($AM20="d","ok",IF(ISBLANK($AX20),"ok",IF(RIGHT(AX20,4)=".pdf",IF(LEFT(AX20,3)="DOE",IF(ISNUMBER(VALUE(MID(AX20,4,4))),"ok","Filename is not in correct format"),"Filename is not in correct format"),"Filename is not in correct format")))) | DI20: =IF(BG20="ok",VLOOKUP(G20,PrClDesc,2),"") | DL20: aaaaaa
A21: 11 | B21: =IF(COUNTIF(BC21:CX21,"")=No_of_Columns,"",IF(COUNTIF(BC21:CX21,"ok")=No_of_Columns,"ok","Error")) | BC21: =IF(COUNTA($C21:$AX21)=0,"",IF(ISBLANK($C21),"Empty cell","ok")) | BD21: =IF(COUNTA($C21:$AX21)=0,"",IF(ISBLANK(D21),"Empty cell","ok")) | BE21: =IF(COUNTA($C21:$AX21)=0,"",IF(ISBLANK(E21),"Empty cell","ok")) | BF21: =IF(COUNTA($C21:$AX21)=0,"",IF(ISBLANK(F21),"Empty cell","ok")) | BG21: =IF(COUNTA($C21:$AX21)=0,"",IF(ISBLANK($G21),"Empty cell",IF($G21<1,"Prod. Gr. Code should be an int. betw. 1 and "&No_of_Product_Classes,IF($G21>No_of_Product_Classes,"Prod. Gr. Code should be an int. betw. 1 and "&No_of_Product_Classes,IF($G21=INT($G21),"ok","Prod. Gr. Code should be an int. betw. 1 and "&No_of_Product_Classes))))) | BH21: =IF(COUNTA($C21:$AX21)=0,"",IF(OR(G21=1,G21=3,G21=5,G21=7,G21=9,G21=10,G21=11,G21=12),IF(ISBLANK(H21),"Empty cell",IF(ISBLANK(J21),"ok",IF(AND(H21="***",J21="***"),"ok",IF(AND(H21<>"***",J21<>"***"),"ok","Manufacturer & Indiv. Model No. must both or neither be ***")))),IF(ISBLANK(H21),"ok","No entry should be made"))) | BI21: =IF(COUNTA($C21:$AX21)=0,"",IF(OR(G21=1,G21=3,G21=5,G21=7,G21=9,G21=10,G21=11,G21=12),IF(ISBLANK(I21),"Empty cell","ok"),IF(ISBLANK(I21),"ok","No entry should be made"))) | BJ21: =IF(COUNTA($C21:$AX21)=0,"",IF(OR(G21=1,G21=3,G21=5,G21=7,G21=9,G21=10,G21=11,G21=12),IF(ISBLANK(J21),"Empty cell",IF(ISBLANK(H21),"ok",IF(AND(J21="***",H21="***"),"ok",IF(AND(J21<>"***",H21<>"***"),"ok","Manufacturer & Indiv. Model No. must both or neither be ***")))),IF(ISBLANK(J21),"ok","No entry should be made"))) | BK21: =IF(COUNTA($C21:$AX21)=0,"",IF(OR(G21=1,G21=3,G21=5,G21=7,G21=9,G21=10,G21=11,G21=12),IF(OR(H21="***",J21="***"),IF(ISBLANK(K21),"Empty cell",IF(K21="***","ok","Entry should be ***")),IF(K21="***","Entry should not be ***","ok")),IF(ISBLANK(K21),"ok","No entry should be made"))) | BL21: =IF(COUNTA($C21:$AX21)=0,"",IF(OR(G21=1,G21=3,G21=5,G21=7,G21=9,G21=10,G21=11,G21=12),IF(ISBLANK(K21),IF(ISBLANK(L21),IF(OR(H21="***",J21="***"),"Empty cell","ok"),"Manuf. Air Mover 1 column not completed"),IF(ISBLANK(L21),"Empty cell","ok")),IF(ISBLANK(L21),"ok","No entry should be made"))) | BM21: =IF(COUNTA($C21:$AX21)=0,"",IF(OR(G21=1,G21=3,G21=5,G21=7,G21=9,G21=10,G21=11,G21=12),IF(ISBLANK(K21),IF(ISBLANK(M21),IF(OR(H21="***",J21="***"),"Empty cell","ok"),"Manuf. Air Mover 1 column not completed"),IF(K21="***",IF(ISBLANK(M21),"Empty cell",IF(M21="***","ok","Entry should be ***")),IF(ISBLANK(M21),"Empty cell",IF(M21="***","Entry should not be ***","ok")))),IF(ISBLANK(M21),"ok","No entry should be made"))) | BN21: =IF(COUNTA($C21:$AX21)=0,"",IF(OR(G21=1,G21=3,G21=5,G21=7,G21=9,G21=10,G21=11,G21=12),IF(OR($H21="***",$J21="***"),IF(ISBLANK(N21),"ok","No entry should be made"),IF(N21="***","Entry cannot be ***","ok")),IF(ISBLANK(N21),"ok","No entry should be made"))) | BO21: =IF(COUNTA($C21:$AX21)=0,"",IF(OR(G21=1,G21=3,G21=5,G21=7,G21=9,G21=10,G21=11,G21=12),IF(ISBLANK(N21),IF(ISBLANK(O21),"ok","Manuf. Indoor Unit 2 not entered"),IF(ISBLANK(O21),"Empty cell","ok")),IF(ISBLANK(O21),"ok","No entry should be made"))) | BP21: =IF(COUNTA($C21:$AX21)=0,"",IF(OR(G21=1,G21=3,G21=5,G21=7,G21=9,G21=10,G21=11,G21=12),IF(ISBLANK(N21),IF(ISBLANK(P21),"ok","Manuf. Indoor Unit 2 not entered"),IF(ISBLANK(P21),"Empty cell",IF(P21="***","Entry cannot be ***","ok"))),IF(ISBLANK(P21),"ok","No entry should be made"))) | BQ21: =IF(COUNTA($C21:$AX21)=0,"",IF(OR(G21=1,G21=3,G21=5,G21=7,G21=9,G21=10,G21=11,G21=12),IF(ISBLANK(N21),IF(ISBLANK(Q21),"ok","Info for Indoor Unit 2 not entered"),IF(Q21="***","Entry cannot be ***","ok")),IF(ISBLANK(Q21),"ok","No entry should be made"))) | BR21: =IF(COUNTA($C21:$AX21)=0,"",IF(OR(G21=1,G21=3,G21=5,G21=7,G21=9,G21=10,G21=11,G21=12),IF(ISBLANK(Q21),IF(ISBLANK(R21),"ok","Manuf. Air Mover 2 not entered"),IF(ISBLANK(R21),"Empty cell","ok")),IF(ISBLANK(R21),"ok","No entry should be made"))) | BS21: =IF(COUNTA($C21:$AX21)=0,"",IF(OR(G21=1,G21=3,G21=5,G21=7,G21=9,G21=10,G21=11,G21=12),IF(ISBLANK(Q21),IF(ISBLANK(S21),"ok","Manuf. Air Mover 2 not entered"),IF(ISBLANK(S21),"Empty cell",IF(S21="***","Entry cannot be ***","ok"))),IF(ISBLANK(S21),"ok","No entry should be made"))) | BT21: =IF(COUNTA($C21:$AX21)=0,"",IF(OR(G21=1,G21=3,G21=5,G21=7,G21=9,G21=10,G21=11,G21=12),IF(ISBLANK(N21),IF(ISBLANK(T21),"ok","Info for Indoor Unit 2 not entered"),IF(T21="***","Entry cannot be ***","ok")),IF(ISBLANK(T21),"ok","No entry should be made"))) | BU21: =IF(COUNTA($C21:$AX21)=0,"",IF(OR(G21=1,G21=3,G21=5,G21=7,G21=9,G21=10,G21=11,G21=12),IF(ISBLANK(T21),IF(ISBLANK(U21),"ok","Manuf. Indoor Unit 3 not entered"),IF(ISBLANK(U21),"Empty cell","ok")),IF(ISBLANK(U21),"ok","No entry should be made"))) | BV21: =IF(COUNTA($C21:$AX21)=0,"",IF(OR(G21=1,G21=3,G21=5,G21=7,G21=9,G21=10,G21=11,G21=12),IF(ISBLANK(T21),IF(ISBLANK(V21),"ok","Manuf. Indoor Unit 3 not entered"),IF(ISBLANK(V21),"Empty cell",IF(V21="***","Entry cannot be ***","ok"))),IF(ISBLANK(V21),"ok","No entry should be made"))) | BW21: =IF(COUNTA($C21:$AX21)=0,"",IF(OR(G21=1,G21=3,G21=5,G21=7,G21=9,G21=10,G21=11,G21=12),IF(ISBLANK(T21),IF(ISBLANK(W21),"ok","Info for Indoor Unit 3 not entered"),IF(W21="***","Entry cannot be ***","ok")),IF(ISBLANK(W21),"ok","No entry should be made"))) | BX21: =IF(COUNTA($C21:$AX21)=0,"",IF(OR(G21=1,G21=3,G21=5,G21=7,G21=9,G21=10,G21=11,G21=12),IF(ISBLANK(W21),IF(ISBLANK(X21),"ok","Manuf. Air Mover 3 not entered"),IF(ISBLANK(X21),"Empty cell","ok")),IF(ISBLANK(X21),"ok","No entry should be made"))) | BY21: =IF(COUNTA($C21:$AX21)=0,"",IF(OR(G21=1,G21=3,G21=5,G21=7,G21=9,G21=10,G21=11,G21=12),IF(ISBLANK(W21),IF(ISBLANK(Y21),"ok","Manuf. Air Mover 3 not entered"),IF(ISBLANK(Y21),"Empty cell",IF(Y21="***","Entry cannot be ***","ok"))),IF(ISBLANK(Y21),"ok","No entry should be made"))) | BZ21: =IF(COUNTA($C21:$AX21)=0,"",IF(OR(G21=1,G21=3,G21=5,G21=7,G21=9,G21=10,G21=11,G21=12),IF(ISBLANK(T21),IF(ISBLANK(Z21),"ok","Info for Indoor Unit 3 not entered"),IF(Z21="***","Entry cannot be ***","ok")),IF(ISBLANK(Z21),"ok","No entry should be made"))) | CA21: =IF(COUNTA($C21:$AX21)=0,"",IF(OR(G21=1,G21=3,G21=5,G21=7,G21=9,G21=10,G21=11,G21=12),IF(ISBLANK(Z21),IF(ISBLANK(AA21),"ok","Manuf. Indoor Unit 4 not entered"),IF(ISBLANK(AA21),"Empty cell","ok")),IF(ISBLANK(AA21),"ok","No entry should be made"))) | CB21: =IF(COUNTA($C21:$AX21)=0,"",IF(OR(G21=1,G21=3,G21=5,G21=7,G21=9,G21=10,G21=11,G21=12),IF(ISBLANK(Z21),IF(ISBLANK(AB21),"ok","Manuf. Indoor Unit 4 not entered"),IF(ISBLANK(AB21),"Empty cell",IF(AB21="***","Entry cannot be ***","ok"))),IF(ISBLANK(AB21),"ok","No entry should be made"))) | CC21: =IF(COUNTA($C21:$AX21)=0,"",IF(OR(G21=1,G21=3,G21=5,G21=7,G21=9,G21=10,G21=11,G21=12),IF(ISBLANK(Z21),IF(ISBLANK(AC21),"ok","Info for Indoor Unit 4 not entered"),IF(AC21="***","Entry cannot be ***","ok")),IF(ISBLANK(AC21),"ok","No entry should be made"))) | CD21: =IF(COUNTA($C21:$AX21)=0,"",IF(OR(G21=1,G21=3,G21=5,G21=7,G21=9,G21=10,G21=11,G21=12),IF(ISBLANK(AC21),IF(ISBLANK(AD21),"ok","Manuf. Air Mover 4 not entered"),IF(ISBLANK(AD21),"Empty cell","ok")),IF(ISBLANK(AD21),"ok","No entry should be made"))) | CE21: =IF(COUNTA($C21:$AX21)=0,"",IF(OR(G21=1,G21=3,G21=5,G21=7,G21=9,G21=10,G21=11,G21=12),IF(ISBLANK(AC21),IF(ISBLANK(AE21),"ok","Manuf. Air Mover 4 not entered"),IF(ISBLANK(AE21),"Empty cell",IF(AE21="***","Entry cannot be ***","ok"))),IF(ISBLANK(AE21),"ok","No entry should be made"))) | CF21: =IF(COUNTA($C21:$AX21)=0,"",IF(OR(G21=1,G21=3,G21=5,G21=7,G21=9,G21=10,G21=11,G21=12),IF(ISBLANK(Z21),IF(ISBLANK(AF21),"ok","Info for Indoor Unit 4 not entered"),IF(AF21="***","Entry cannot be ***","ok")),IF(ISBLANK(AF21),"ok","No entry should be made"))) | CG21: =IF(COUNTA($C21:$AX21)=0,"",IF(OR(G21=1,G21=3,G21=5,G21=7,G21=9,G21=10,G21=11,G21=12),IF(ISBLANK(AF21),IF(ISBLANK(AG21),"ok","Manuf. Indoor Unit 5 not entered"),IF(ISBLANK(AG21),"Empty cell","ok")),IF(ISBLANK(AG21),"ok","No entry should be made"))) | CH21: =IF(COUNTA($C21:$AX21)=0,"",IF(OR(G21=1,G21=3,G21=5,G21=7,G21=9,G21=10,G21=11,G21=12),IF(ISBLANK(AF21),IF(ISBLANK(AH21),"ok","Manuf. Indoor Unit 5 not entered"),IF(ISBLANK(AH21),"Empty cell",IF(AH21="***","Entry cannot be ***","ok"))),IF(ISBLANK(AH21),"ok","No entry should be made"))) | CI21: =IF(COUNTA($C21:$AX21)=0,"",IF(OR(G21=1,G21=3,G21=5,G21=7,G21=9,G21=10,G21=11,G21=12),IF(ISBLANK(AF21),IF(ISBLANK(AI21),"ok","Info for Indoor Unit 5 not entered"),IF(AI21="***","Entry cannot be ***","ok")),IF(ISBLANK(AI21),"ok","No entry should be made"))) | CJ21: =IF(COUNTA($C21:$AX21)=0,"",IF(OR(G21=1,G21=3,G21=5,G21=7,G21=9,G21=10,G21=11,G21=12),IF(ISBLANK(AI21),IF(ISBLANK(AJ21),"ok","Manuf. Air Mover 5 not entered"),IF(ISBLANK(AJ21),"Empty cell","ok")),IF(ISBLANK(AJ21),"ok","No entry should be made"))) | CK21: =IF(COUNTA($C21:$AX21)=0,"",IF(OR(G21=1,G21=3,G21=5,G21=7,G21=9,G21=10,G21=11,G21=12),IF(ISBLANK(AI21),IF(ISBLANK(AK21),"ok","Manuf. Air Mover 5 not entered"),IF(ISBLANK(AK21),"Empty cell",IF(AK21="***","Entry cannot be ***","ok"))),IF(ISBLANK(AK21),"ok","No entry should be made"))) | CL21: =IF(COUNTA($C21:$AX21)=0,"",IF(ISBLANK(AL21),"Empty cell",IF(AL21="yes","ok",IF(AL21="y","ok",IF(AL21="no","ok",IF(AL21="n","ok","Entry should be either 'yes', 'y', 'no' or 'n'")))))) | CM21: =IF(COUNTA($C21:$AX21)=0,"",IF(ISBLANK($AM21),"Empty cell",IF(OR($AM21="n",$AM21="eto",$AM21="d",$AM21="c",$AM21="e",$AM21="f"),"ok","Should be n, eto, d, c, e, or f"))) | CN21: =IF(COUNTA($C21:$AX21)=0,"",IF(AM21="d","ok",IF(ISBLANK($AN21),"Empty cell",IF(OR(AS21="yes",AS21="y"),IF(AN21=0,"ok","Entry should be 0"),IF(OR(AS21="no",AS21="n"),IF(ISNUMBER(AN21),IF(INT(AN21)=AN21,IF(AN21>0,"ok","Entry should be a positive integer"),"Entry should be a positive integer"),"Entry should be a positive integer"),IF(ISNUMBER(AN21),IF(INT(AN21)=AN21,IF(AN21>=0,"ok","Need to answer AEDM question"),"Need to answer AEDM question"),"Need to answer AEDM question")))))) | CO21: =IF(COUNTA($C21:$AX21)=0,"",IF(AM21="d","ok",IF(ISBLANK(AO21),"Empty cell",IF(AO21="yes","ok",IF(AO21="y","ok",IF(AO21="no","ok",IF(AO21="n","ok","Entry should be either 'yes', 'y', 'no' or 'n'"))))))) | CP21: =IF(COUNTA($C21:$AX21)=0,"",IF(AM21="d","ok",IF(ISBLANK(AO21),IF(ISBLANK(AP21),"ok","Waiver question not answered"),IF(OR(AO21="yes",AO21="y"),IF(ISBLANK(AP21),"Empty cell",IF(ISNUMBER(AP21),IF(AP21<1,"Entry should be a date in M/D/YYYY format","ok"),"Entry should be a date in M/D/YYYY format")),IF(OR(AO21="no",AO21="n"),IF(ISBLANK(AP21),"ok","No entry should be made in cell"),IF(ISBLANK(AP21),"ok","No entry should be made in cell")))))) | CQ21: =IF(COUNTA($C21:$AX21)=0,"",IF(AM21="d","ok",IF(ISBLANK(AQ21),"Empty cell",IF(AQ21="yes","ok",IF(AQ21="y","ok",IF(AQ21="no","ok",IF(AQ21="n","ok","Entry should be either 'yes', 'y', 'no' or 'n'"))))))) | CR21: =IF(COUNTA($C21:$AX21)=0,"",IF(AM21="d","ok",IF(ISBLANK(AQ21),IF(ISBLANK(AR21),"ok","Exemption question not answered"),IF(OR(AQ21="yes",AQ21="y"),IF(ISBLANK(AR21),"Empty cell",IF(ISNUMBER(AR21),IF(AR21<1,"Entry should be a date in M/D/YYYY format","ok"),"Entry should be a date in M/D/YYYY format")),IF(OR(AQ21="no",AQ21="n"),IF(ISBLANK(AR21),"ok","No entry should be made in cell"),IF(ISBLANK(AR21),"ok","No entry should be made in cell")))))) | CS21: =IF(COUNTA($C21:$AX21)=0,"",IF(AM21="d","ok",IF(ISBLANK(AS21),"Empty cell",IF(AS21="yes","ok",IF(AS21="y","ok",IF(AS21="no","ok",IF(AS21="n","ok","Entry should be either 'yes', 'y', 'no' or 'n'"))))))) | CT21: =IF(COUNTA($C21:$AX21)=0,"",IF(AM21="d","ok",IF(ISBLANK(AS21),IF(ISBLANK(AT21),"ok","AEDM question not answered"),IF(OR(AS21="yes",AS21="y"),IF(ISBLANK(AT21),"Empty cell","ok"),IF(OR(AS21="no",AS21="n"),IF(ISBLANK(AT21),"ok","No entry should be made in cell"),IF(ISBLANK(AT21),"ok","No entry should be made in cell")))))) | CU21: =IF(COUNTA($C21:$AX21)=0,"",IF($AM21="d","ok",IF(ISBLANK(AU21),"ok",IF(ISNUMBER(AU21),IF(AU21>0,"ok","Entry should be greater than 0"),"Entry should be a number")))) | CV21: =IF(COUNTA($C21:$AX21)=0,"",IF($AM21="d","ok",IF(OR(G21=3,G21=4,G21=7,G21=8,G21=10,G21=12,G21=14),IF(ISBLANK(AV21),"ok",IF(ISNUMBER($AV21),IF($AV21>0,"ok","Entry should be greater than 0"),"Entry should be a number")),IF(ISBLANK(AV21),"ok","Model is not a heat pump")))) | CW21: =IF(COUNTA($C21:$AX21)=0,"",IF($AM21="d","ok",IF(ISBLANK(AW21),"ok",IF(ISNUMBER(AW21),IF(AW21>0,"ok","Entry should be greater than 0"),"Entry should be a number")))) | CX21: =IF(COUNTA($C21:$AX21)=0,"",IF($AM21="d","ok",IF(ISBLANK($AX21),"ok",IF(RIGHT(AX21,4)=".pdf",IF(LEFT(AX21,3)="DOE",IF(ISNUMBER(VALUE(MID(AX21,4,4))),"ok","Filename is not in correct format"),"Filename is not in correct format"),"Filename is not in correct format")))) | DI21: =IF(BG21="ok",VLOOKUP(G21,PrClDesc,2),"") | DL21: aaaaaa
A22: 12 | B22: =IF(COUNTIF(BC22:CX22,"")=No_of_Columns,"",IF(COUNTIF(BC22:CX22,"ok")=No_of_Columns,"ok","Error")) | BC22: =IF(COUNTA($C22:$AX22)=0,"",IF(ISBLANK($C22),"Empty cell","ok")) | BD22: =IF(COUNTA($C22:$AX22)=0,"",IF(ISBLANK(D22),"Empty cell","ok")) | BE22: =IF(COUNTA($C22:$AX22)=0,"",IF(ISBLANK(E22),"Empty cell","ok")) | BF22: =IF(COUNTA($C22:$AX22)=0,"",IF(ISBLANK(F22),"Empty cell","ok")) | BG22: =IF(COUNTA($C22:$AX22)=0,"",IF(ISBLANK($G22),"Empty cell",IF($G22<1,"Prod. Gr. Code should be an int. betw. 1 and "&No_of_Product_Classes,IF($G22>No_of_Product_Classes,"Prod. Gr. Code should be an int. betw. 1 and "&No_of_Product_Classes,IF($G22=INT($G22),"ok","Prod. Gr. Code should be an int. betw. 1 and "&No_of_Product_Classes))))) | BH22: =IF(COUNTA($C22:$AX22)=0,"",IF(OR(G22=1,G22=3,G22=5,G22=7,G22=9,G22=10,G22=11,G22=12),IF(ISBLANK(H22),"Empty cell",IF(ISBLANK(J22),"ok",IF(AND(H22="***",J22="***"),"ok",IF(AND(H22<>"***",J22<>"***"),"ok","Manufacturer & Indiv. Model No. must both or neither be ***")))),IF(ISBLANK(H22),"ok","No entry should be made"))) | BI22: =IF(COUNTA($C22:$AX22)=0,"",IF(OR(G22=1,G22=3,G22=5,G22=7,G22=9,G22=10,G22=11,G22=12),IF(ISBLANK(I22),"Empty cell","ok"),IF(ISBLANK(I22),"ok","No entry should be made"))) | BJ22: =IF(COUNTA($C22:$AX22)=0,"",IF(OR(G22=1,G22=3,G22=5,G22=7,G22=9,G22=10,G22=11,G22=12),IF(ISBLANK(J22),"Empty cell",IF(ISBLANK(H22),"ok",IF(AND(J22="***",H22="***"),"ok",IF(AND(J22<>"***",H22<>"***"),"ok","Manufacturer & Indiv. Model No. must both or neither be ***")))),IF(ISBLANK(J22),"ok","No entry should be made"))) | BK22: =IF(COUNTA($C22:$AX22)=0,"",IF(OR(G22=1,G22=3,G22=5,G22=7,G22=9,G22=10,G22=11,G22=12),IF(OR(H22="***",J22="***"),IF(ISBLANK(K22),"Empty cell",IF(K22="***","ok","Entry should be ***")),IF(K22="***","Entry should not be ***","ok")),IF(ISBLANK(K22),"ok","No entry should be made"))) | BL22: =IF(COUNTA($C22:$AX22)=0,"",IF(OR(G22=1,G22=3,G22=5,G22=7,G22=9,G22=10,G22=11,G22=12),IF(ISBLANK(K22),IF(ISBLANK(L22),IF(OR(H22="***",J22="***"),"Empty cell","ok"),"Manuf. Air Mover 1 column not completed"),IF(ISBLANK(L22),"Empty cell","ok")),IF(ISBLANK(L22),"ok","No entry should be made"))) | BM22: =IF(COUNTA($C22:$AX22)=0,"",IF(OR(G22=1,G22=3,G22=5,G22=7,G22=9,G22=10,G22=11,G22=12),IF(ISBLANK(K22),IF(ISBLANK(M22),IF(OR(H22="***",J22="***"),"Empty cell","ok"),"Manuf. Air Mover 1 column not completed"),IF(K22="***",IF(ISBLANK(M22),"Empty cell",IF(M22="***","ok","Entry should be ***")),IF(ISBLANK(M22),"Empty cell",IF(M22="***","Entry should not be ***","ok")))),IF(ISBLANK(M22),"ok","No entry should be made"))) | BN22: =IF(COUNTA($C22:$AX22)=0,"",IF(OR(G22=1,G22=3,G22=5,G22=7,G22=9,G22=10,G22=11,G22=12),IF(OR($H22="***",$J22="***"),IF(ISBLANK(N22),"ok","No entry should be made"),IF(N22="***","Entry cannot be ***","ok")),IF(ISBLANK(N22),"ok","No entry should be made"))) | BO22: =IF(COUNTA($C22:$AX22)=0,"",IF(OR(G22=1,G22=3,G22=5,G22=7,G22=9,G22=10,G22=11,G22=12),IF(ISBLANK(N22),IF(ISBLANK(O22),"ok","Manuf. Indoor Unit 2 not entered"),IF(ISBLANK(O22),"Empty cell","ok")),IF(ISBLANK(O22),"ok","No entry should be made"))) | BP22: =IF(COUNTA($C22:$AX22)=0,"",IF(OR(G22=1,G22=3,G22=5,G22=7,G22=9,G22=10,G22=11,G22=12),IF(ISBLANK(N22),IF(ISBLANK(P22),"ok","Manuf. Indoor Unit 2 not entered"),IF(ISBLANK(P22),"Empty cell",IF(P22="***","Entry cannot be ***","ok"))),IF(ISBLANK(P22),"ok","No entry should be made"))) | BQ22: =IF(COUNTA($C22:$AX22)=0,"",IF(OR(G22=1,G22=3,G22=5,G22=7,G22=9,G22=10,G22=11,G22=12),IF(ISBLANK(N22),IF(ISBLANK(Q22),"ok","Info for Indoor Unit 2 not entered"),IF(Q22="***","Entry cannot be ***","ok")),IF(ISBLANK(Q22),"ok","No entry should be made"))) | BR22: =IF(COUNTA($C22:$AX22)=0,"",IF(OR(G22=1,G22=3,G22=5,G22=7,G22=9,G22=10,G22=11,G22=12),IF(ISBLANK(Q22),IF(ISBLANK(R22),"ok","Manuf. Air Mover 2 not entered"),IF(ISBLANK(R22),"Empty cell","ok")),IF(ISBLANK(R22),"ok","No entry should be made"))) | BS22: =IF(COUNTA($C22:$AX22)=0,"",IF(OR(G22=1,G22=3,G22=5,G22=7,G22=9,G22=10,G22=11,G22=12),IF(ISBLANK(Q22),IF(ISBLANK(S22),"ok","Manuf. Air Mover 2 not entered"),IF(ISBLANK(S22),"Empty cell",IF(S22="***","Entry cannot be ***","ok"))),IF(ISBLANK(S22),"ok","No entry should be made"))) | BT22: =IF(COUNTA($C22:$AX22)=0,"",IF(OR(G22=1,G22=3,G22=5,G22=7,G22=9,G22=10,G22=11,G22=12),IF(ISBLANK(N22),IF(ISBLANK(T22),"ok","Info for Indoor Unit 2 not entered"),IF(T22="***","Entry cannot be ***","ok")),IF(ISBLANK(T22),"ok","No entry should be made"))) | BU22: =IF(COUNTA($C22:$AX22)=0,"",IF(OR(G22=1,G22=3,G22=5,G22=7,G22=9,G22=10,G22=11,G22=12),IF(ISBLANK(T22),IF(ISBLANK(U22),"ok","Manuf. Indoor Unit 3 not entered"),IF(ISBLANK(U22),"Empty cell","ok")),IF(ISBLANK(U22),"ok","No entry should be made"))) | BV22: =IF(COUNTA($C22:$AX22)=0,"",IF(OR(G22=1,G22=3,G22=5,G22=7,G22=9,G22=10,G22=11,G22=12),IF(ISBLANK(T22),IF(ISBLANK(V22),"ok","Manuf. Indoor Unit 3 not entered"),IF(ISBLANK(V22),"Empty cell",IF(V22="***","Entry cannot be ***","ok"))),IF(ISBLANK(V22),"ok","No entry should be made"))) | BW22: =IF(COUNTA($C22:$AX22)=0,"",IF(OR(G22=1,G22=3,G22=5,G22=7,G22=9,G22=10,G22=11,G22=12),IF(ISBLANK(T22),IF(ISBLANK(W22),"ok","Info for Indoor Unit 3 not entered"),IF(W22="***","Entry cannot be ***","ok")),IF(ISBLANK(W22),"ok","No entry should be made"))) | BX22: =IF(COUNTA($C22:$AX22)=0,"",IF(OR(G22=1,G22=3,G22=5,G22=7,G22=9,G22=10,G22=11,G22=12),IF(ISBLANK(W22),IF(ISBLANK(X22),"ok","Manuf. Air Mover 3 not entered"),IF(ISBLANK(X22),"Empty cell","ok")),IF(ISBLANK(X22),"ok","No entry should be made"))) | BY22: =IF(COUNTA($C22:$AX22)=0,"",IF(OR(G22=1,G22=3,G22=5,G22=7,G22=9,G22=10,G22=11,G22=12),IF(ISBLANK(W22),IF(ISBLANK(Y22),"ok","Manuf. Air Mover 3 not entered"),IF(ISBLANK(Y22),"Empty cell",IF(Y22="***","Entry cannot be ***","ok"))),IF(ISBLANK(Y22),"ok","No entry should be made"))) | BZ22: =IF(COUNTA($C22:$AX22)=0,"",IF(OR(G22=1,G22=3,G22=5,G22=7,G22=9,G22=10,G22=11,G22=12),IF(ISBLANK(T22),IF(ISBLANK(Z22),"ok","Info for Indoor Unit 3 not entered"),IF(Z22="***","Entry cannot be ***","ok")),IF(ISBLANK(Z22),"ok","No entry should be made"))) | CA22: =IF(COUNTA($C22:$AX22)=0,"",IF(OR(G22=1,G22=3,G22=5,G22=7,G22=9,G22=10,G22=11,G22=12),IF(ISBLANK(Z22),IF(ISBLANK(AA22),"ok","Manuf. Indoor Unit 4 not entered"),IF(ISBLANK(AA22),"Empty cell","ok")),IF(ISBLANK(AA22),"ok","No entry should be made"))) | CB22: =IF(COUNTA($C22:$AX22)=0,"",IF(OR(G22=1,G22=3,G22=5,G22=7,G22=9,G22=10,G22=11,G22=12),IF(ISBLANK(Z22),IF(ISBLANK(AB22),"ok","Manuf. Indoor Unit 4 not entered"),IF(ISBLANK(AB22),"Empty cell",IF(AB22="***","Entry cannot be ***","ok"))),IF(ISBLANK(AB22),"ok","No entry should be made"))) | CC22: =IF(COUNTA($C22:$AX22)=0,"",IF(OR(G22=1,G22=3,G22=5,G22=7,G22=9,G22=10,G22=11,G22=12),IF(ISBLANK(Z22),IF(ISBLANK(AC22),"ok","Info for Indoor Unit 4 not entered"),IF(AC22="***","Entry cannot be ***","ok")),IF(ISBLANK(AC22),"ok","No entry should be made"))) | CD22: =IF(COUNTA($C22:$AX22)=0,"",IF(OR(G22=1,G22=3,G22=5,G22=7,G22=9,G22=10,G22=11,G22=12),IF(ISBLANK(AC22),IF(ISBLANK(AD22),"ok","Manuf. Air Mover 4 not entered"),IF(ISBLANK(AD22),"Empty cell","ok")),IF(ISBLANK(AD22),"ok","No entry should be made"))) | CE22: =IF(COUNTA($C22:$AX22)=0,"",IF(OR(G22=1,G22=3,G22=5,G22=7,G22=9,G22=10,G22=11,G22=12),IF(ISBLANK(AC22),IF(ISBLANK(AE22),"ok","Manuf. Air Mover 4 not entered"),IF(ISBLANK(AE22),"Empty cell",IF(AE22="***","Entry cannot be ***","ok"))),IF(ISBLANK(AE22),"ok","No entry should be made"))) | CF22: =IF(COUNTA($C22:$AX22)=0,"",IF(OR(G22=1,G22=3,G22=5,G22=7,G22=9,G22=10,G22=11,G22=12),IF(ISBLANK(Z22),IF(ISBLANK(AF22),"ok","Info for Indoor Unit 4 not entered"),IF(AF22="***","Entry cannot be ***","ok")),IF(ISBLANK(AF22),"ok","No entry should be made"))) | CG22: =IF(COUNTA($C22:$AX22)=0,"",IF(OR(G22=1,G22=3,G22=5,G22=7,G22=9,G22=10,G22=11,G22=12),IF(ISBLANK(AF22),IF(ISBLANK(AG22),"ok","Manuf. Indoor Unit 5 not entered"),IF(ISBLANK(AG22),"Empty cell","ok")),IF(ISBLANK(AG22),"ok","No entry should be made"))) | CH22: =IF(COUNTA($C22:$AX22)=0,"",IF(OR(G22=1,G22=3,G22=5,G22=7,G22=9,G22=10,G22=11,G22=12),IF(ISBLANK(AF22),IF(ISBLANK(AH22),"ok","Manuf. Indoor Unit 5 not entered"),IF(ISBLANK(AH22),"Empty cell",IF(AH22="***","Entry cannot be ***","ok"))),IF(ISBLANK(AH22),"ok","No entry should be made"))) | CI22: =IF(COUNTA($C22:$AX22)=0,"",IF(OR(G22=1,G22=3,G22=5,G22=7,G22=9,G22=10,G22=11,G22=12),IF(ISBLANK(AF22),IF(ISBLANK(AI22),"ok","Info for Indoor Unit 5 not entered"),IF(AI22="***","Entry cannot be ***","ok")),IF(ISBLANK(AI22),"ok","No entry should be made"))) | CJ22: =IF(COUNTA($C22:$AX22)=0,"",IF(OR(G22=1,G22=3,G22=5,G22=7,G22=9,G22=10,G22=11,G22=12),IF(ISBLANK(AI22),IF(ISBLANK(AJ22),"ok","Manuf. Air Mover 5 not entered"),IF(ISBLANK(AJ22),"Empty cell","ok")),IF(ISBLANK(AJ22),"ok","No entry should be made"))) | CK22: =IF(COUNTA($C22:$AX22)=0,"",IF(OR(G22=1,G22=3,G22=5,G22=7,G22=9,G22=10,G22=11,G22=12),IF(ISBLANK(AI22),IF(ISBLANK(AK22),"ok","Manuf. Air Mover 5 not entered"),IF(ISBLANK(AK22),"Empty cell",IF(AK22="***","Entry cannot be ***","ok"))),IF(ISBLANK(AK22),"ok","No entry should be made"))) | CL22: =IF(COUNTA($C22:$AX22)=0,"",IF(ISBLANK(AL22),"Empty cell",IF(AL22="yes","ok",IF(AL22="y","ok",IF(AL22="no","ok",IF(AL22="n","ok","Entry should be either 'yes', 'y', 'no' or 'n'")))))) | CM22: =IF(COUNTA($C22:$AX22)=0,"",IF(ISBLANK($AM22),"Empty cell",IF(OR($AM22="n",$AM22="eto",$AM22="d",$AM22="c",$AM22="e",$AM22="f"),"ok","Should be n, eto, d, c, e, or f"))) | CN22: =IF(COUNTA($C22:$AX22)=0,"",IF(AM22="d","ok",IF(ISBLANK($AN22),"Empty cell",IF(OR(AS22="yes",AS22="y"),IF(AN22=0,"ok","Entry should be 0"),IF(OR(AS22="no",AS22="n"),IF(ISNUMBER(AN22),IF(INT(AN22)=AN22,IF(AN22>0,"ok","Entry should be a positive integer"),"Entry should be a positive integer"),"Entry should be a positive integer"),IF(ISNUMBER(AN22),IF(INT(AN22)=AN22,IF(AN22>=0,"ok","Need to answer AEDM question"),"Need to answer AEDM question"),"Need to answer AEDM question")))))) | CO22: =IF(COUNTA($C22:$AX22)=0,"",IF(AM22="d","ok",IF(ISBLANK(AO22),"Empty cell",IF(AO22="yes","ok",IF(AO22="y","ok",IF(AO22="no","ok",IF(AO22="n","ok","Entry should be either 'yes', 'y', 'no' or 'n'"))))))) | CP22: =IF(COUNTA($C22:$AX22)=0,"",IF(AM22="d","ok",IF(ISBLANK(AO22),IF(ISBLANK(AP22),"ok","Waiver question not answered"),IF(OR(AO22="yes",AO22="y"),IF(ISBLANK(AP22),"Empty cell",IF(ISNUMBER(AP22),IF(AP22<1,"Entry should be a date in M/D/YYYY format","ok"),"Entry should be a date in M/D/YYYY format")),IF(OR(AO22="no",AO22="n"),IF(ISBLANK(AP22),"ok","No entry should be made in cell"),IF(ISBLANK(AP22),"ok","No entry should be made in cell")))))) | CQ22: =IF(COUNTA($C22:$AX22)=0,"",IF(AM22="d","ok",IF(ISBLANK(AQ22),"Empty cell",IF(AQ22="yes","ok",IF(AQ22="y","ok",IF(AQ22="no","ok",IF(AQ22="n","ok","Entry should be either 'yes', 'y', 'no' or 'n'"))))))) | CR22: =IF(COUNTA($C22:$AX22)=0,"",IF(AM22="d","ok",IF(ISBLANK(AQ22),IF(ISBLANK(AR22),"ok","Exemption question not answered"),IF(OR(AQ22="yes",AQ22="y"),IF(ISBLANK(AR22),"Empty cell",IF(ISNUMBER(AR22),IF(AR22<1,"Entry should be a date in M/D/YYYY format","ok"),"Entry should be a date in M/D/YYYY format")),IF(OR(AQ22="no",AQ22="n"),IF(ISBLANK(AR22),"ok","No entry should be made in cell"),IF(ISBLANK(AR22),"ok","No entry should be made in cell")))))) | CS22: =IF(COUNTA($C22:$AX22)=0,"",IF(AM22="d","ok",IF(ISBLANK(AS22),"Empty cell",IF(AS22="yes","ok",IF(AS22="y","ok",IF(AS22="no","ok",IF(AS22="n","ok","Entry should be either 'yes', 'y', 'no' or 'n'"))))))) | CT22: =IF(COUNTA($C22:$AX22)=0,"",IF(AM22="d","ok",IF(ISBLANK(AS22),IF(ISBLANK(AT22),"ok","AEDM question not answered"),IF(OR(AS22="yes",AS22="y"),IF(ISBLANK(AT22),"Empty cell","ok"),IF(OR(AS22="no",AS22="n"),IF(ISBLANK(AT22),"ok","No entry should be made in cell"),IF(ISBLANK(AT22),"ok","No entry should be made in cell")))))) | CU22: =IF(COUNTA($C22:$AX22)=0,"",IF($AM22="d","ok",IF(ISBLANK(AU22),"ok",IF(ISNUMBER(AU22),IF(AU22>0,"ok","Entry should be greater than 0"),"Entry should be a number")))) | CV22: =IF(COUNTA($C22:$AX22)=0,"",IF($AM22="d","ok",IF(OR(G22=3,G22=4,G22=7,G22=8,G22=10,G22=12,G22=14),IF(ISBLANK(AV22),"ok",IF(ISNUMBER($AV22),IF($AV22>0,"ok","Entry should be greater than 0"),"Entry should be a number")),IF(ISBLANK(AV22),"ok","Model is not a heat pump")))) | CW22: =IF(COUNTA($C22:$AX22)=0,"",IF($AM22="d","ok",IF(ISBLANK(AW22),"ok",IF(ISNUMBER(AW22),IF(AW22>0,"ok","Entry should be greater than 0"),"Entry should be a number")))) | CX22: =IF(COUNTA($C22:$AX22)=0,"",IF($AM22="d","ok",IF(ISBLANK($AX22),"ok",IF(RIGHT(AX22,4)=".pdf",IF(LEFT(AX22,3)="DOE",IF(ISNUMBER(VALUE(MID(AX22,4,4))),"ok","Filename is not in correct format"),"Filename is not in correct format"),"Filename is not in correct format")))) | DI22: =IF(BG22="ok",VLOOKUP(G22,PrClDesc,2),"") | DL22: aaaaaa
A23: 13 | B23: =IF(COUNTIF(BC23:CX23,"")=No_of_Columns,"",IF(COUNTIF(BC23:CX23,"ok")=No_of_Columns,"ok","Error")) | BC23: =IF(COUNTA($C23:$AX23)=0,"",IF(ISBLANK($C23),"Empty cell","ok")) | BD23: =IF(COUNTA($C23:$AX23)=0,"",IF(ISBLANK(D23),"Empty cell","ok")) | BE23: =IF(COUNTA($C23:$AX23)=0,"",IF(ISBLANK(E23),"Empty cell","ok")) | BF23: =IF(COUNTA($C23:$AX23)=0,"",IF(ISBLANK(F23),"Empty cell","ok")) | BG23: =IF(COUNTA($C23:$AX23)=0,"",IF(ISBLANK($G23),"Empty cell",IF($G23<1,"Prod. Gr. Code should be an int. betw. 1 and "&No_of_Product_Classes,IF($G23>No_of_Product_Classes,"Prod. Gr. Code should be an int. betw. 1 and "&No_of_Product_Classes,IF($G23=INT($G23),"ok","Prod. Gr. Code should be an int. betw. 1 and "&No_of_Product_Classes))))) | BH23: =IF(COUNTA($C23:$AX23)=0,"",IF(OR(G23=1,G23=3,G23=5,G23=7,G23=9,G23=10,G23=11,G23=12),IF(ISBLANK(H23),"Empty cell",IF(ISBLANK(J23),"ok",IF(AND(H23="***",J23="***"),"ok",IF(AND(H23<>"***",J23<>"***"),"ok","Manufacturer & Indiv. Model No. must both or neither be ***")))),IF(ISBLANK(H23),"ok","No entry should be made"))) | BI23: =IF(COUNTA($C23:$AX23)=0,"",IF(OR(G23=1,G23=3,G23=5,G23=7,G23=9,G23=10,G23=11,G23=12),IF(ISBLANK(I23),"Empty cell","ok"),IF(ISBLANK(I23),"ok","No entry should be made"))) | BJ23: =IF(COUNTA($C23:$AX23)=0,"",IF(OR(G23=1,G23=3,G23=5,G23=7,G23=9,G23=10,G23=11,G23=12),IF(ISBLANK(J23),"Empty cell",IF(ISBLANK(H23),"ok",IF(AND(J23="***",H23="***"),"ok",IF(AND(J23<>"***",H23<>"***"),"ok","Manufacturer & Indiv. Model No. must both or neither be ***")))),IF(ISBLANK(J23),"ok","No entry should be made"))) | BK23: =IF(COUNTA($C23:$AX23)=0,"",IF(OR(G23=1,G23=3,G23=5,G23=7,G23=9,G23=10,G23=11,G23=12),IF(OR(H23="***",J23="***"),IF(ISBLANK(K23),"Empty cell",IF(K23="***","ok","Entry should be ***")),IF(K23="***","Entry should not be ***","ok")),IF(ISBLANK(K23),"ok","No entry should be made"))) | BL23: =IF(COUNTA($C23:$AX23)=0,"",IF(OR(G23=1,G23=3,G23=5,G23=7,G23=9,G23=10,G23=11,G23=12),IF(ISBLANK(K23),IF(ISBLANK(L23),IF(OR(H23="***",J23="***"),"Empty cell","ok"),"Manuf. Air Mover 1 column not completed"),IF(ISBLANK(L23),"Empty cell","ok")),IF(ISBLANK(L23),"ok","No entry should be made"))) | BM23: =IF(COUNTA($C23:$AX23)=0,"",IF(OR(G23=1,G23=3,G23=5,G23=7,G23=9,G23=10,G23=11,G23=12),IF(ISBLANK(K23),IF(ISBLANK(M23),IF(OR(H23="***",J23="***"),"Empty cell","ok"),"Manuf. Air Mover 1 column not completed"),IF(K23="***",IF(ISBLANK(M23),"Empty cell",IF(M23="***","ok","Entry should be ***")),IF(ISBLANK(M23),"Empty cell",IF(M23="***","Entry should not be ***","ok")))),IF(ISBLANK(M23),"ok","No entry should be made"))) | BN23: =IF(COUNTA($C23:$AX23)=0,"",IF(OR(G23=1,G23=3,G23=5,G23=7,G23=9,G23=10,G23=11,G23=12),IF(OR($H23="***",$J23="***"),IF(ISBLANK(N23),"ok","No entry should be made"),IF(N23="***","Entry cannot be ***","ok")),IF(ISBLANK(N23),"ok","No entry should be made"))) | BO23: =IF(COUNTA($C23:$AX23)=0,"",IF(OR(G23=1,G23=3,G23=5,G23=7,G23=9,G23=10,G23=11,G23=12),IF(ISBLANK(N23),IF(ISBLANK(O23),"ok","Manuf. Indoor Unit 2 not entered"),IF(ISBLANK(O23),"Empty cell","ok")),IF(ISBLANK(O23),"ok","No entry should be made"))) | BP23: =IF(COUNTA($C23:$AX23)=0,"",IF(OR(G23=1,G23=3,G23=5,G23=7,G23=9,G23=10,G23=11,G23=12),IF(ISBLANK(N23),IF(ISBLANK(P23),"ok","Manuf. Indoor Unit 2 not entered"),IF(ISBLANK(P23),"Empty cell",IF(P23="***","Entry cannot be ***","ok"))),IF(ISBLANK(P23),"ok","No entry should be made"))) | BQ23: =IF(COUNTA($C23:$AX23)=0,"",IF(OR(G23=1,G23=3,G23=5,G23=7,G23=9,G23=10,G23=11,G23=12),IF(ISBLANK(N23),IF(ISBLANK(Q23),"ok","Info for Indoor Unit 2 not entered"),IF(Q23="***","Entry cannot be ***","ok")),IF(ISBLANK(Q23),"ok","No entry should be made"))) | BR23: =IF(COUNTA($C23:$AX23)=0,"",IF(OR(G23=1,G23=3,G23=5,G23=7,G23=9,G23=10,G23=11,G23=12),IF(ISBLANK(Q23),IF(ISBLANK(R23),"ok","Manuf. Air Mover 2 not entered"),IF(ISBLANK(R23),"Empty cell","ok")),IF(ISBLANK(R23),"ok","No entry should be made"))) | BS23: =IF(COUNTA($C23:$AX23)=0,"",IF(OR(G23=1,G23=3,G23=5,G23=7,G23=9,G23=10,G23=11,G23=12),IF(ISBLANK(Q23),IF(ISBLANK(S23),"ok","Manuf. Air Mover 2 not entered"),IF(ISBLANK(S23),"Empty cell",IF(S23="***","Entry cannot be ***","ok"))),IF(ISBLANK(S23),"ok","No entry should be made"))) | BT23: =IF(COUNTA($C23:$AX23)=0,"",IF(OR(G23=1,G23=3,G23=5,G23=7,G23=9,G23=10,G23=11,G23=12),IF(ISBLANK(N23),IF(ISBLANK(T23),"ok","Info for Indoor Unit 2 not entered"),IF(T23="***","Entry cannot be ***","ok")),IF(ISBLANK(T23),"ok","No entry should be made"))) | BU23: =IF(COUNTA($C23:$AX23)=0,"",IF(OR(G23=1,G23=3,G23=5,G23=7,G23=9,G23=10,G23=11,G23=12),IF(ISBLANK(T23),IF(ISBLANK(U23),"ok","Manuf. Indoor Unit 3 not entered"),IF(ISBLANK(U23),"Empty cell","ok")),IF(ISBLANK(U23),"ok","No entry should be made"))) | BV23: =IF(COUNTA($C23:$AX23)=0,"",IF(OR(G23=1,G23=3,G23=5,G23=7,G23=9,G23=10,G23=11,G23=12),IF(ISBLANK(T23),IF(ISBLANK(V23),"ok","Manuf. Indoor Unit 3 not entered"),IF(ISBLANK(V23),"Empty cell",IF(V23="***","Entry cannot be ***","ok"))),IF(ISBLANK(V23),"ok","No entry should be made"))) | BW23: =IF(COUNTA($C23:$AX23)=0,"",IF(OR(G23=1,G23=3,G23=5,G23=7,G23=9,G23=10,G23=11,G23=12),IF(ISBLANK(T23),IF(ISBLANK(W23),"ok","Info for Indoor Unit 3 not entered"),IF(W23="***","Entry cannot be ***","ok")),IF(ISBLANK(W23),"ok","No entry should be made"))) | BX23: =IF(COUNTA($C23:$AX23)=0,"",IF(OR(G23=1,G23=3,G23=5,G23=7,G23=9,G23=10,G23=11,G23=12),IF(ISBLANK(W23),IF(ISBLANK(X23),"ok","Manuf. Air Mover 3 not entered"),IF(ISBLANK(X23),"Empty cell","ok")),IF(ISBLANK(X23),"ok","No entry should be made"))) | BY23: =IF(COUNTA($C23:$AX23)=0,"",IF(OR(G23=1,G23=3,G23=5,G23=7,G23=9,G23=10,G23=11,G23=12),IF(ISBLANK(W23),IF(ISBLANK(Y23),"ok","Manuf. Air Mover 3 not entered"),IF(ISBLANK(Y23),"Empty cell",IF(Y23="***","Entry cannot be ***","ok"))),IF(ISBLANK(Y23),"ok","No entry should be made"))) | BZ23: =IF(COUNTA($C23:$AX23)=0,"",IF(OR(G23=1,G23=3,G23=5,G23=7,G23=9,G23=10,G23=11,G23=12),IF(ISBLANK(T23),IF(ISBLANK(Z23),"ok","Info for Indoor Unit 3 not entered"),IF(Z23="***","Entry cannot be ***","ok")),IF(ISBLANK(Z23),"ok","No entry should be made"))) | CA23: =IF(COUNTA($C23:$AX23)=0,"",IF(OR(G23=1,G23=3,G23=5,G23=7,G23=9,G23=10,G23=11,G23=12),IF(ISBLANK(Z23),IF(ISBLANK(AA23),"ok","Manuf. Indoor Unit 4 not entered"),IF(ISBLANK(AA23),"Empty cell","ok")),IF(ISBLANK(AA23),"ok","No entry should be made"))) | CB23: =IF(COUNTA($C23:$AX23)=0,"",IF(OR(G23=1,G23=3,G23=5,G23=7,G23=9,G23=10,G23=11,G23=12),IF(ISBLANK(Z23),IF(ISBLANK(AB23),"ok","Manuf. Indoor Unit 4 not entered"),IF(ISBLANK(AB23),"Empty cell",IF(AB23="***","Entry cannot be ***","ok"))),IF(ISBLANK(AB23),"ok","No entry should be made"))) | CC23: =IF(COUNTA($C23:$AX23)=0,"",IF(OR(G23=1,G23=3,G23=5,G23=7,G23=9,G23=10,G23=11,G23=12),IF(ISBLANK(Z23),IF(ISBLANK(AC23),"ok","Info for Indoor Unit 4 not entered"),IF(AC23="***","Entry cannot be ***","ok")),IF(ISBLANK(AC23),"ok","No entry should be made"))) | CD23: =IF(COUNTA($C23:$AX23)=0,"",IF(OR(G23=1,G23=3,G23=5,G23=7,G23=9,G23=10,G23=11,G23=12),IF(ISBLANK(AC23),IF(ISBLANK(AD23),"ok","Manuf. Air Mover 4 not entered"),IF(ISBLANK(AD23),"Empty cell","ok")),IF(ISBLANK(AD23),"ok","No entry should be made"))) | CE23: =IF(COUNTA($C23:$AX23)=0,"",IF(OR(G23=1,G23=3,G23=5,G23=7,G23=9,G23=10,G23=11,G23=12),IF(ISBLANK(AC23),IF(ISBLANK(AE23),"ok","Manuf. Air Mover 4 not entered"),IF(ISBLANK(AE23),"Empty cell",IF(AE23="***","Entry cannot be ***","ok"))),IF(ISBLANK(AE23),"ok","No entry should be made"))) | CF23: =IF(COUNTA($C23:$AX23)=0,"",IF(OR(G23=1,G23=3,G23=5,G23=7,G23=9,G23=10,G23=11,G23=12),IF(ISBLANK(Z23),IF(ISBLANK(AF23),"ok","Info for Indoor Unit 4 not entered"),IF(AF23="***","Entry cannot be ***","ok")),IF(ISBLANK(AF23),"ok","No entry should be made"))) | CG23: =IF(COUNTA($C23:$AX23)=0,"",IF(OR(G23=1,G23=3,G23=5,G23=7,G23=9,G23=10,G23=11,G23=12),IF(ISBLANK(AF23),IF(ISBLANK(AG23),"ok","Manuf. Indoor Unit 5 not entered"),IF(ISBLANK(AG23),"Empty cell","ok")),IF(ISBLANK(AG23),"ok","No entry should be made"))) | CH23: =IF(COUNTA($C23:$AX23)=0,"",IF(OR(G23=1,G23=3,G23=5,G23=7,G23=9,G23=10,G23=11,G23=12),IF(ISBLANK(AF23),IF(ISBLANK(AH23),"ok","Manuf. Indoor Unit 5 not entered"),IF(ISBLANK(AH23),"Empty cell",IF(AH23="***","Entry cannot be ***","ok"))),IF(ISBLANK(AH23),"ok","No entry should be made"))) | CI23: =IF(COUNTA($C23:$AX23)=0,"",IF(OR(G23=1,G23=3,G23=5,G23=7,G23=9,G23=10,G23=11,G23=12),IF(ISBLANK(AF23),IF(ISBLANK(AI23),"ok","Info for Indoor Unit 5 not entered"),IF(AI23="***","Entry cannot be ***","ok")),IF(ISBLANK(AI23),"ok","No entry should be made"))) | CJ23: =IF(COUNTA($C23:$AX23)=0,"",IF(OR(G23=1,G23=3,G23=5,G23=7,G23=9,G23=10,G23=11,G23=12),IF(ISBLANK(AI23),IF(ISBLANK(AJ23),"ok","Manuf. Air Mover 5 not entered"),IF(ISBLANK(AJ23),"Empty cell","ok")),IF(ISBLANK(AJ23),"ok","No entry should be made"))) | CK23: =IF(COUNTA($C23:$AX23)=0,"",IF(OR(G23=1,G23=3,G23=5,G23=7,G23=9,G23=10,G23=11,G23=12),IF(ISBLANK(AI23),IF(ISBLANK(AK23),"ok","Manuf. Air Mover 5 not entered"),IF(ISBLANK(AK23),"Empty cell",IF(AK23="***","Entry cannot be ***","ok"))),IF(ISBLANK(AK23),"ok","No entry should be made"))) | CL23: =IF(COUNTA($C23:$AX23)=0,"",IF(ISBLANK(AL23),"Empty cell",IF(AL23="yes","ok",IF(AL23="y","ok",IF(AL23="no","ok",IF(AL23="n","ok","Entry should be either 'yes', 'y', 'no' or 'n'")))))) | CM23: =IF(COUNTA($C23:$AX23)=0,"",IF(ISBLANK($AM23),"Empty cell",IF(OR($AM23="n",$AM23="eto",$AM23="d",$AM23="c",$AM23="e",$AM23="f"),"ok","Should be n, eto, d, c, e, or f"))) | CN23: =IF(COUNTA($C23:$AX23)=0,"",IF(AM23="d","ok",IF(ISBLANK($AN23),"Empty cell",IF(OR(AS23="yes",AS23="y"),IF(AN23=0,"ok","Entry should be 0"),IF(OR(AS23="no",AS23="n"),IF(ISNUMBER(AN23),IF(INT(AN23)=AN23,IF(AN23>0,"ok","Entry should be a positive integer"),"Entry should be a positive integer"),"Entry should be a positive integer"),IF(ISNUMBER(AN23),IF(INT(AN23)=AN23,IF(AN23>=0,"ok","Need to answer AEDM question"),"Need to answer AEDM question"),"Need to answer AEDM question")))))) | CO23: =IF(COUNTA($C23:$AX23)=0,"",IF(AM23="d","ok",IF(ISBLANK(AO23),"Empty cell",IF(AO23="yes","ok",IF(AO23="y","ok",IF(AO23="no","ok",IF(AO23="n","ok","Entry should be either 'yes', 'y', 'no' or 'n'"))))))) | CP23: =IF(COUNTA($C23:$AX23)=0,"",IF(AM23="d","ok",IF(ISBLANK(AO23),IF(ISBLANK(AP23),"ok","Waiver question not answered"),IF(OR(AO23="yes",AO23="y"),IF(ISBLANK(AP23),"Empty cell",IF(ISNUMBER(AP23),IF(AP23<1,"Entry should be a date in M/D/YYYY format","ok"),"Entry should be a date in M/D/YYYY format")),IF(OR(AO23="no",AO23="n"),IF(ISBLANK(AP23),"ok","No entry should be made in cell"),IF(ISBLANK(AP23),"ok","No entry should be made in cell")))))) | CQ23: =IF(COUNTA($C23:$AX23)=0,"",IF(AM23="d","ok",IF(ISBLANK(AQ23),"Empty cell",IF(AQ23="yes","ok",IF(AQ23="y","ok",IF(AQ23="no","ok",IF(AQ23="n","ok","Entry should be either 'yes', 'y', 'no' or 'n'"))))))) | CR23: =IF(COUNTA($C23:$AX23)=0,"",IF(AM23="d","ok",IF(ISBLANK(AQ23),IF(ISBLANK(AR23),"ok","Exemption question not answered"),IF(OR(AQ23="yes",AQ23="y"),IF(ISBLANK(AR23),"Empty cell",IF(ISNUMBER(AR23),IF(AR23<1,"Entry should be a date in M/D/YYYY format","ok"),"Entry should be a date in M/D/YYYY format")),IF(OR(AQ23="no",AQ23="n"),IF(ISBLANK(AR23),"ok","No entry should be made in cell"),IF(ISBLANK(AR23),"ok","No entry should be made in cell")))))) | CS23: =IF(COUNTA($C23:$AX23)=0,"",IF(AM23="d","ok",IF(ISBLANK(AS23),"Empty cell",IF(AS23="yes","ok",IF(AS23="y","ok",IF(AS23="no","ok",IF(AS23="n","ok","Entry should be either 'yes', 'y', 'no' or 'n'"))))))) | CT23: =IF(COUNTA($C23:$AX23)=0,"",IF(AM23="d","ok",IF(ISBLANK(AS23),IF(ISBLANK(AT23),"ok","AEDM question not answered"),IF(OR(AS23="yes",AS23="y"),IF(ISBLANK(AT23),"Empty cell","ok"),IF(OR(AS23="no",AS23="n"),IF(ISBLANK(AT23),"ok","No entry should be made in cell"),IF(ISBLANK(AT23),"ok","No entry should be made in cell")))))) | CU23: =IF(COUNTA($C23:$AX23)=0,"",IF($AM23="d","ok",IF(ISBLANK(AU23),"ok",IF(ISNUMBER(AU23),IF(AU23>0,"ok","Entry should be greater than 0"),"Entry should be a number")))) | CV23: =IF(COUNTA($C23:$AX23)=0,"",IF($AM23="d","ok",IF(OR(G23=3,G23=4,G23=7,G23=8,G23=10,G23=12,G23=14),IF(ISBLANK(AV23),"ok",IF(ISNUMBER($AV23),IF($AV23>0,"ok","Entry should be greater than 0"),"Entry should be a number")),IF(ISBLANK(AV23),"ok","Model is not a heat pump")))) | CW23: =IF(COUNTA($C23:$AX23)=0,"",IF($AM23="d","ok",IF(ISBLANK(AW23),"ok",IF(ISNUMBER(AW23),IF(AW23>0,"ok","Entry should be greater than 0"),"Entry should be a number")))) | CX23: =IF(COUNTA($C23:$AX23)=0,"",IF($AM23="d","ok",IF(ISBLANK($AX23),"ok",IF(RIGHT(AX23,4)=".pdf",IF(LEFT(AX23,3)="DOE",IF(ISNUMBER(VALUE(MID(AX23,4,4))),"ok","Filename is not in correct format"),"Filename is not in correct format"),"Filename is not in correct format")))) | DI23: =IF(BG23="ok",VLOOKUP(G23,PrClDesc,2),"") | DL23: aaaaaa
A24: 14 | B24: =IF(COUNTIF(BC24:CX24,"")=No_of_Columns,"",IF(COUNTIF(BC24:CX24,"ok")=No_of_Columns,"ok","Error")) | BC24: =IF(COUNTA($C24:$AX24)=0,"",IF(ISBLANK($C24),"Empty cell","ok")) | BD24: =IF(COUNTA($C24:$AX24)=0,"",IF(ISBLANK(D24),"Empty cell","ok")) | BE24: =IF(COUNTA($C24:$AX24)=0,"",IF(ISBLANK(E24),"Empty cell","ok")) | BF24: =IF(COUNTA($C24:$AX24)=0,"",IF(ISBLANK(F24),"Empty cell","ok")) | BG24: =IF(COUNTA($C24:$AX24)=0,"",IF(ISBLANK($G24),"Empty cell",IF($G24<1,"Prod. Gr. Code should be an int. betw. 1 and "&No_of_Product_Classes,IF($G24>No_of_Product_Classes,"Prod. Gr. Code should be an int. betw. 1 and "&No_of_Product_Classes,IF($G24=INT($G24),"ok","Prod. Gr. Code should be an int. betw. 1 and "&No_of_Product_Classes))))) | BH24: =IF(COUNTA($C24:$AX24)=0,"",IF(OR(G24=1,G24=3,G24=5,G24=7,G24=9,G24=10,G24=11,G24=12),IF(ISBLANK(H24),"Empty cell",IF(ISBLANK(J24),"ok",IF(AND(H24="***",J24="***"),"ok",IF(AND(H24<>"***",J24<>"***"),"ok","Manufacturer & Indiv. Model No. must both or neither be ***")))),IF(ISBLANK(H24),"ok","No entry should be made"))) | BI24: =IF(COUNTA($C24:$AX24)=0,"",IF(OR(G24=1,G24=3,G24=5,G24=7,G24=9,G24=10,G24=11,G24=12),IF(ISBLANK(I24),"Empty cell","ok"),IF(ISBLANK(I24),"ok","No entry should be made"))) | BJ24: =IF(COUNTA($C24:$AX24)=0,"",IF(OR(G24=1,G24=3,G24=5,G24=7,G24=9,G24=10,G24=11,G24=12),IF(ISBLANK(J24),"Empty cell",IF(ISBLANK(H24),"ok",IF(AND(J24="***",H24="***"),"ok",IF(AND(J24<>"***",H24<>"***"),"ok","Manufacturer & Indiv. Model No. must both or neither be ***")))),IF(ISBLANK(J24),"ok","No entry should be made"))) | BK24: =IF(COUNTA($C24:$AX24)=0,"",IF(OR(G24=1,G24=3,G24=5,G24=7,G24=9,G24=10,G24=11,G24=12),IF(OR(H24="***",J24="***"),IF(ISBLANK(K24),"Empty cell",IF(K24="***","ok","Entry should be ***")),IF(K24="***","Entry should not be ***","ok")),IF(ISBLANK(K24),"ok","No entry should be made"))) | BL24: =IF(COUNTA($C24:$AX24)=0,"",IF(OR(G24=1,G24=3,G24=5,G24=7,G24=9,G24=10,G24=11,G24=12),IF(ISBLANK(K24),IF(ISBLANK(L24),IF(OR(H24="***",J24="***"),"Empty cell","ok"),"Manuf. Air Mover 1 column not completed"),IF(ISBLANK(L24),"Empty cell","ok")),IF(ISBLANK(L24),"ok","No entry should be made"))) | BM24: =IF(COUNTA($C24:$AX24)=0,"",IF(OR(G24=1,G24=3,G24=5,G24=7,G24=9,G24=10,G24=11,G24=12),IF(ISBLANK(K24),IF(ISBLANK(M24),IF(OR(H24="***",J24="***"),"Empty cell","ok"),"Manuf. Air Mover 1 column not completed"),IF(K24="***",IF(ISBLANK(M24),"Empty cell",IF(M24="***","ok","Entry should be ***")),IF(ISBLANK(M24),"Empty cell",IF(M24="***","Entry should not be ***","ok")))),IF(ISBLANK(M24),"ok","No entry should be made"))) | BN24: =IF(COUNTA($C24:$AX24)=0,"",IF(OR(G24=1,G24=3,G24=5,G24=7,G24=9,G24=10,G24=11,G24=12),IF(OR($H24="***",$J24="***"),IF(ISBLANK(N24),"ok","No entry should be made"),IF(N24="***","Entry cannot be ***","ok")),IF(ISBLANK(N24),"ok","No entry should be made"))) | BO24: =IF(COUNTA($C24:$AX24)=0,"",IF(OR(G24=1,G24=3,G24=5,G24=7,G24=9,G24=10,G24=11,G24=12),IF(ISBLANK(N24),IF(ISBLANK(O24),"ok","Manuf. Indoor Unit 2 not entered"),IF(ISBLANK(O24),"Empty cell","ok")),IF(ISBLANK(O24),"ok","No entry should be made"))) | BP24: =IF(COUNTA($C24:$AX24)=0,"",IF(OR(G24=1,G24=3,G24=5,G24=7,G24=9,G24=10,G24=11,G24=12),IF(ISBLANK(N24),IF(ISBLANK(P24),"ok","Manuf. Indoor Unit 2 not entered"),IF(ISBLANK(P24),"Empty cell",IF(P24="***","Entry cannot be ***","ok"))),IF(ISBLANK(P24),"ok","No entry should be made"))) | BQ24: =IF(COUNTA($C24:$AX24)=0,"",IF(OR(G24=1,G24=3,G24=5,G24=7,G24=9,G24=10,G24=11,G24=12),IF(ISBLANK(N24),IF(ISBLANK(Q24),"ok","Info for Indoor Unit 2 not entered"),IF(Q24="***","Entry cannot be ***","ok")),IF(ISBLANK(Q24),"ok","No entry should be made"))) | BR24: =IF(COUNTA($C24:$AX24)=0,"",IF(OR(G24=1,G24=3,G24=5,G24=7,G24=9,G24=10,G24=11,G24=12),IF(ISBLANK(Q24),IF(ISBLANK(R24),"ok","Manuf. Air Mover 2 not entered"),IF(ISBLANK(R24),"Empty cell","ok")),IF(ISBLANK(R24),"ok","No entry should be made"))) | BS24: =IF(COUNTA($C24:$AX24)=0,"",IF(OR(G24=1,G24=3,G24=5,G24=7,G24=9,G24=10,G24=11,G24=12),IF(ISBLANK(Q24),IF(ISBLANK(S24),"ok","Manuf. Air Mover 2 not entered"),IF(ISBLANK(S24),"Empty cell",IF(S24="***","Entry cannot be ***","ok"))),IF(ISBLANK(S24),"ok","No entry should be made"))) | BT24: =IF(COUNTA($C24:$AX24)=0,"",IF(OR(G24=1,G24=3,G24=5,G24=7,G24=9,G24=10,G24=11,G24=12),IF(ISBLANK(N24),IF(ISBLANK(T24),"ok","Info for Indoor Unit 2 not entered"),IF(T24="***","Entry cannot be ***","ok")),IF(ISBLANK(T24),"ok","No entry should be made"))) | BU24: =IF(COUNTA($C24:$AX24)=0,"",IF(OR(G24=1,G24=3,G24=5,G24=7,G24=9,G24=10,G24=11,G24=12),IF(ISBLANK(T24),IF(ISBLANK(U24),"ok","Manuf. Indoor Unit 3 not entered"),IF(ISBLANK(U24),"Empty cell","ok")),IF(ISBLANK(U24),"ok","No entry should be made"))) | BV24: =IF(COUNTA($C24:$AX24)=0,"",IF(OR(G24=1,G24=3,G24=5,G24=7,G24=9,G24=10,G24=11,G24=12),IF(ISBLANK(T24),IF(ISBLANK(V24),"ok","Manuf. Indoor Unit 3 not entered"),IF(ISBLANK(V24),"Empty cell",IF(V24="***","Entry cannot be ***","ok"))),IF(ISBLANK(V24),"ok","No entry should be made"))) | BW24: =IF(COUNTA($C24:$AX24)=0,"",IF(OR(G24=1,G24=3,G24=5,G24=7,G24=9,G24=10,G24=11,G24=12),IF(ISBLANK(T24),IF(ISBLANK(W24),"ok","Info for Indoor Unit 3 not entered"),IF(W24="***","Entry cannot be ***","ok")),IF(ISBLANK(W24),"ok","No entry should be made"))) | BX24: =IF(COUNTA($C24:$AX24)=0,"",IF(OR(G24=1,G24=3,G24=5,G24=7,G24=9,G24=10,G24=11,G24=12),IF(ISBLANK(W24),IF(ISBLANK(X24),"ok","Manuf. Air Mover 3 not entered"),IF(ISBLANK(X24),"Empty cell","ok")),IF(ISBLANK(X24),"ok","No entry should be made"))) | BY24: =IF(COUNTA($C24:$AX24)=0,"",IF(OR(G24=1,G24=3,G24=5,G24=7,G24=9,G24=10,G24=11,G24=12),IF(ISBLANK(W24),IF(ISBLANK(Y24),"ok","Manuf. Air Mover 3 not entered"),IF(ISBLANK(Y24),"Empty cell",IF(Y24="***","Entry cannot be ***","ok"))),IF(ISBLANK(Y24),"ok","No entry should be made"))) | BZ24: =IF(COUNTA($C24:$AX24)=0,"",IF(OR(G24=1,G24=3,G24=5,G24=7,G24=9,G24=10,G24=11,G24=12),IF(ISBLANK(T24),IF(ISBLANK(Z24),"ok","Info for Indoor Unit 3 not entered"),IF(Z24="***","Entry cannot be ***","ok")),IF(ISBLANK(Z24),"ok","No entry should be made"))) | CA24: =IF(COUNTA($C24:$AX24)=0,"",IF(OR(G24=1,G24=3,G24=5,G24=7,G24=9,G24=10,G24=11,G24=12),IF(ISBLANK(Z24),IF(ISBLANK(AA24),"ok","Manuf. Indoor Unit 4 not entered"),IF(ISBLANK(AA24),"Empty cell","ok")),IF(ISBLANK(AA24),"ok","No entry should be made"))) | CB24: =IF(COUNTA($C24:$AX24)=0,"",IF(OR(G24=1,G24=3,G24=5,G24=7,G24=9,G24=10,G24=11,G24=12),IF(ISBLANK(Z24),IF(ISBLANK(AB24),"ok","Manuf. Indoor Unit 4 not entered"),IF(ISBLANK(AB24),"Empty cell",IF(AB24="***","Entry cannot be ***","ok"))),IF(ISBLANK(AB24),"ok","No entry should be made"))) | CC24: =IF(COUNTA($C24:$AX24)=0,"",IF(OR(G24=1,G24=3,G24=5,G24=7,G24=9,G24=10,G24=11,G24=12),IF(ISBLANK(Z24),IF(ISBLANK(AC24),"ok","Info for Indoor Unit 4 not entered"),IF(AC24="***","Entry cannot be ***","ok")),IF(ISBLANK(AC24),"ok","No entry should be made"))) | CD24: =IF(COUNTA($C24:$AX24)=0,"",IF(OR(G24=1,G24=3,G24=5,G24=7,G24=9,G24=10,G24=11,G24=12),IF(ISBLANK(AC24),IF(ISBLANK(AD24),"ok","Manuf. Air Mover 4 not entered"),IF(ISBLANK(AD24),"Empty cell","ok")),IF(ISBLANK(AD24),"ok","No entry should be made"))) | CE24: =IF(COUNTA($C24:$AX24)=0,"",IF(OR(G24=1,G24=3,G24=5,G24=7,G24=9,G24=10,G24=11,G24=12),IF(ISBLANK(AC24),IF(ISBLANK(AE24),"ok","Manuf. Air Mover 4 not entered"),IF(ISBLANK(AE24),"Empty cell",IF(AE24="***","Entry cannot be ***","ok"))),IF(ISBLANK(AE24),"ok","No entry should be made"))) | CF24: =IF(COUNTA($C24:$AX24)=0,"",IF(OR(G24=1,G24=3,G24=5,G24=7,G24=9,G24=10,G24=11,G24=12),IF(ISBLANK(Z24),IF(ISBLANK(AF24),"ok","Info for Indoor Unit 4 not entered"),IF(AF24="***","Entry cannot be ***","ok")),IF(ISBLANK(AF24),"ok","No entry should be made"))) | CG24: =IF(COUNTA($C24:$AX24)=0,"",IF(OR(G24=1,G24=3,G24=5,G24=7,G24=9,G24=10,G24=11,G24=12),IF(ISBLANK(AF24),IF(ISBLANK(AG24),"ok","Manuf. Indoor Unit 5 not entered"),IF(ISBLANK(AG24),"Empty cell","ok")),IF(ISBLANK(AG24),"ok","No entry should be made"))) | CH24: =IF(COUNTA($C24:$AX24)=0,"",IF(OR(G24=1,G24=3,G24=5,G24=7,G24=9,G24=10,G24=11,G24=12),IF(ISBLANK(AF24),IF(ISBLANK(AH24),"ok","Manuf. Indoor Unit 5 not entered"),IF(ISBLANK(AH24),"Empty cell",IF(AH24="***","Entry cannot be ***","ok"))),IF(ISBLANK(AH24),"ok","No entry should be made"))) | CI24: =IF(COUNTA($C24:$AX24)=0,"",IF(OR(G24=1,G24=3,G24=5,G24=7,G24=9,G24=10,G24=11,G24=12),IF(ISBLANK(AF24),IF(ISBLANK(AI24),"ok","Info for Indoor Unit 5 not entered"),IF(AI24="***","Entry cannot be ***","ok")),IF(ISBLANK(AI24),"ok","No entry should be made"))) | CJ24: =IF(COUNTA($C24:$AX24)=0,"",IF(OR(G24=1,G24=3,G24=5,G24=7,G24=9,G24=10,G24=11,G24=12),IF(ISBLANK(AI24),IF(ISBLANK(AJ24),"ok","Manuf. Air Mover 5 not entered"),IF(ISBLANK(AJ24),"Empty cell","ok")),IF(ISBLANK(AJ24),"ok","No entry should be made"))) | CK24: =IF(COUNTA($C24:$AX24)=0,"",IF(OR(G24=1,G24=3,G24=5,G24=7,G24=9,G24=10,G24=11,G24=12),IF(ISBLANK(AI24),IF(ISBLANK(AK24),"ok","Manuf. Air Mover 5 not entered"),IF(ISBLANK(AK24),"Empty cell",IF(AK24="***","Entry cannot be ***","ok"))),IF(ISBLANK(AK24),"ok","No entry should be made"))) | CL24: =IF(COUNTA($C24:$AX24)=0,"",IF(ISBLANK(AL24),"Empty cell",IF(AL24="yes","ok",IF(AL24="y","ok",IF(AL24="no","ok",IF(AL24="n","ok","Entry should be either 'yes', 'y', 'no' or 'n'")))))) | CM24: =IF(COUNTA($C24:$AX24)=0,"",IF(ISBLANK($AM24),"Empty cell",IF(OR($AM24="n",$AM24="eto",$AM24="d",$AM24="c",$AM24="e",$AM24="f"),"ok","Should be n, eto, d, c, e, or f"))) | CN24: =IF(COUNTA($C24:$AX24)=0,"",IF(AM24="d","ok",IF(ISBLANK($AN24),"Empty cell",IF(OR(AS24="yes",AS24="y"),IF(AN24=0,"ok","Entry should be 0"),IF(OR(AS24="no",AS24="n"),IF(ISNUMBER(AN24),IF(INT(AN24)=AN24,IF(AN24>0,"ok","Entry should be a positive integer"),"Entry should be a positive integer"),"Entry should be a positive integer"),IF(ISNUMBER(AN24),IF(INT(AN24)=AN24,IF(AN24>=0,"ok","Need to answer AEDM question"),"Need to answer AEDM question"),"Need to answer AEDM question")))))) | CO24: =IF(COUNTA($C24:$AX24)=0,"",IF(AM24="d","ok",IF(ISBLANK(AO24),"Empty cell",IF(AO24="yes","ok",IF(AO24="y","ok",IF(AO24="no","ok",IF(AO24="n","ok","Entry should be either 'yes', 'y', 'no' or 'n'"))))))) | CP24: =IF(COUNTA($C24:$AX24)=0,"",IF(AM24="d","ok",IF(ISBLANK(AO24),IF(ISBLANK(AP24),"ok","Waiver question not answered"),IF(OR(AO24="yes",AO24="y"),IF(ISBLANK(AP24),"Empty cell",IF(ISNUMBER(AP24),IF(AP24<1,"Entry should be a date in M/D/YYYY format","ok"),"Entry should be a date in M/D/YYYY format")),IF(OR(AO24="no",AO24="n"),IF(ISBLANK(AP24),"ok","No entry should be made in cell"),IF(ISBLANK(AP24),"ok","No entry should be made in cell")))))) | CQ24: =IF(COUNTA($C24:$AX24)=0,"",IF(AM24="d","ok",IF(ISBLANK(AQ24),"Empty cell",IF(AQ24="yes","ok",IF(AQ24="y","ok",IF(AQ24="no","ok",IF(AQ24="n","ok","Entry should be either 'yes', 'y', 'no' or 'n'"))))))) | CR24: =IF(COUNTA($C24:$AX24)=0,"",IF(AM24="d","ok",IF(ISBLANK(AQ24),IF(ISBLANK(AR24),"ok","Exemption question not answered"),IF(OR(AQ24="yes",AQ24="y"),IF(ISBLANK(AR24),"Empty cell",IF(ISNUMBER(AR24),IF(AR24<1,"Entry should be a date in M/D/YYYY format","ok"),"Entry should be a date in M/D/YYYY format")),IF(OR(AQ24="no",AQ24="n"),IF(ISBLANK(AR24),"ok","No entry should be made in cell"),IF(ISBLANK(AR24),"ok","No entry should be made in cell")))))) | CS24: =IF(COUNTA($C24:$AX24)=0,"",IF(AM24="d","ok",IF(ISBLANK(AS24),"Empty cell",IF(AS24="yes","ok",IF(AS24="y","ok",IF(AS24="no","ok",IF(AS24="n","ok","Entry should be either 'yes', 'y', 'no' or 'n'"))))))) | CT24: =IF(COUNTA($C24:$AX24)=0,"",IF(AM24="d","ok",IF(ISBLANK(AS24),IF(ISBLANK(AT24),"ok","AEDM question not answered"),IF(OR(AS24="yes",AS24="y"),IF(ISBLANK(AT24),"Empty cell","ok"),IF(OR(AS24="no",AS24="n"),IF(ISBLANK(AT24),"ok","No entry should be made in cell"),IF(ISBLANK(AT24),"ok","No entry should be made in cell")))))) | CU24: =IF(COUNTA($C24:$AX24)=0,"",IF($AM24="d","ok",IF(ISBLANK(AU24),"ok",IF(ISNUMBER(AU24),IF(AU24>0,"ok","Entry should be greater than 0"),"Entry should be a number")))) | CV24: =IF(COUNTA($C24:$AX24)=0,"",IF($AM24="d","ok",IF(OR(G24=3,G24=4,G24=7,G24=8,G24=10,G24=12,G24=14),IF(ISBLANK(AV24),"ok",IF(ISNUMBER($AV24),IF($AV24>0,"ok","Entry should be greater than 0"),"Entry should be a number")),IF(ISBLANK(AV24),"ok","Model is not a heat pump")))) | CW24: =IF(COUNTA($C24:$AX24)=0,"",IF($AM24="d","ok",IF(ISBLANK(AW24),"ok",IF(ISNUMBER(AW24),IF(AW24>0,"ok","Entry should be greater than 0"),"Entry should be a number")))) | CX24: =IF(COUNTA($C24:$AX24)=0,"",IF($AM24="d","ok",IF(ISBLANK($AX24),"ok",IF(RIGHT(AX24,4)=".pdf",IF(LEFT(AX24,3)="DOE",IF(ISNUMBER(VALUE(MID(AX24,4,4))),"ok","Filename is not in correct format"),"Filename is not in correct format"),"Filename is not in correct format")))) | DI24: =IF(BG24="ok",VLOOKUP(G24,PrClDesc,2),"") | DL24: aaaaaa
