Workbook
Name INPUT: #REF!
Name INPUT: Input!$C$11:$AX$110
Name No_of_Columns: #REF!
Name No_of_Columns: Input!$DG$11
Name No_of_Product_Classes: #REF!
Name No_of_Product_Classes: Input!$DG$12
Name PrClDesc: #REF!
Name PrClDesc: 'Product Group Codes'!$A$4:$C$17

Sheet Certification
A1: OMB Control Number: 1910-1400 (Expiration Date: September 30, 2024) | L1: Version 5.1 | P1: 13
A2: DOE F 220.39 | N2: Certifier | O2: Submitter | P2: 17
A3: =D3 -> Small Air-Cooled 3-Phase Commercial Package and Variable Refrigerant Flow Air Conditioners and Heat Pumps | C3: Product Type: | D3: Small Air-Cooled 3-Phase Commercial Package and Variable Refrigerant Flow Air Conditioners and Heat Pumps | J3: Status of This Certification Sheet | K3: =IF(AND(COUNTIF(D11,"Please enter required data")+COUNTIF(K11,"Please enter required data")+COUNTIF(E16:E20,"Please enter required data")+COUNTIF(K16:K20,"Please enter required data")+COUNTIF(E26,"Please enter required data")+COUNTIF(K26,"Please enter required data")=14,COUNTIF(K16:K20,"No entry should be made")=0),"No Data",IF(AND(COUNTIF(D11,"Please enter required data")+COUNTIF(K11,"Please enter required data")+COUNTIF(E16:E20,"Please enter required data")+COUNTIF(K16:K20,"Please enter required data")+COUNTIF(E26,"Please enter required data")+COUNTIF(K26,"Please enter required data")=0,COUNTIF(K16:K20,"No entry should be made")=0),"OK","Error")) -> No Data | N3: =N11 -> 0 | O3: =N12 -> 0 | P3: 20
A4: =RIGHT(L1,LEN(L1)-8) -> 5.1 | P4: 10
J5: Overall Status of Template | K5: =IF(OR(K3="Error",Input!E3="Error"),"Error",IF(OR(K3="No Data",Input!E3="No Data"),"No Data","OK")) -> No Data | N5: =IF(N3=1,"U.S. Manufacturer",IF(N3=2,"Importer","No Type")) -> No Type | O5: =IF(O3=1,IF(N3=1,"U.S. Manufacturer",IF(N3=2,"Importer","No Type")),IF(O3=2,"Third Party Representative","No Type")) -> No Type | P5: 20
D6: Click here for instructions for completing this form | P6: 20
P7: 10
A8: Each Importer and U.S. Manufacturer is legally required to certify the compliance of the products it imports, produces, assembles or manufactures. This party is the "Certifier" on this form. This certification may be submitted by the Importer or U.S. manufacturer or by a Third Party Representative. This party is the "Submitter" on this form. | P8: 40
B9: Certifier - Party Legally Obligated to Certify Compliance | H9: Submitter - Party Submitting This Report | P9: 18
B10: The party responsible for certification is (select one only): | H10: The party submitting this report is (select one only): | P10: 18
D11: =IF(OR(N11=1,N11=2),"","Please enter required data") -> Please enter required data | K11: =IF(OR(N12=1,N12=2),"","Please enter required data") -> Please enter required data | N11: 0 | P11: 28
N12: 0 | P12: 28
P13: 13
B14: Certifier Contact Information | H14: Third Party Representative Contact Information, if Applicable | P14: 13
P15: 13
A16: Full Legal Name of Individual | E16: =IF(ISBLANK(D16),"Please enter required data",IF(ISNONTEXT(D16),"Please enter required data","")) -> Please enter required data | G16: Full Legal Name of Individual | K16: =IF($N$12=1,IF(ISBLANK(J16),"","No entry should be made"),IF(ISBLANK(J16),"Please enter required data",IF(ISNONTEXT(J16),"Please enter required data",""))) -> Please enter required data | N16: aaaaaaaaaaaaaaaaa | P16: 23
A17: Full Legal Name of Company | E17: =IF(ISBLANK(D17),"Please enter required data",IF(ISNONTEXT(D17),"Please enter required data","")) -> Please enter required data | G17: Full Legal Name of Company | K17: =IF($N$12=1,IF(ISBLANK(J17),"","No entry should be made"),IF(ISBLANK(J17),"Please enter required data",IF(ISNONTEXT(J17),"Please enter required data",""))) -> Please enter required data | N17: aaaaaaaaaaaaaaaaa | P17: 23
A18: Complete Company Mailing Address | E18: =IF(ISBLANK(D18),"Please enter required data",IF(ISNONTEXT(D18),"Please enter required data","")) -> Please enter required data | G18: Complete Company Mailing Address | K18: =IF($N$12=1,IF(ISBLANK(J18),"","No entry should be made"),IF(ISBLANK(J18),"Please enter required data",IF(ISNONTEXT(J18),"Please enter required data",""))) -> Please enter required data | N18: aaaaaaaaaaaaaaaaa | P18: 23
A19: Phone Number | E19: =IF(ISBLANK(D19),"Please enter required data","") -> Please enter required data | G19: Phone Number | K19: =IF($N$12=1,IF(ISBLANK(J19),"","No entry should be made"),IF(ISBLANK(J19),"Please enter required data","")) -> Please enter required data | N19: aaaaaaaaaaaaaaaaa | P19: 23
A20: Email Address | E20: =IF(IF(ISERROR(FIND("@",D20)),1,0)+IF(ISERROR(FIND(".",D20)),1,0)>0,"Please enter required data"," ") -> Please enter required data | G20: Email Address | K20: =IF($N$12=1,IF(ISBLANK(J20),"","No entry should be made"),IF(IF(ISERROR(FIND("@",J20)),1,0)+IF(ISERROR(FIND(".",J20)),1,0)>0,"Please enter required data"," ")) -> Please enter required data | N20: aaaaaaaaaaaaaaaaa | P20: 23
P21: 13
P22: 13
B23: ="Compliance Statement "&IF(N12=2,"- Third Party Representative", IF(AND(N11=1,N12=1),"- U.S. Manufacturer",IF(AND(N11=2,N12=1),"- Importer",""))) -> Compliance Statement | P23: 17
B24: =IF(N12=0,"Select one of the options for 'Submitter - Party Submitting This Report' above",IF(N12=1,N24,IF(N12=2,O24,"Error in Submitter Type"))) -> Select one of the options for 'Submitter - Party Submitting This Report' above | N24: I certify that: (1) This certification report is submitted in accordance with 10 CFR Parts 429, 430, and 431; 16 CFR 305; and the Energy Policy and Conservation Act, as amended. (2) The basic models listed in this certification report comply with the applicable conservation standard(s); (3) All required testing has been conducted in conformance with the applicable test requirements prescribed in parts 10 CFR Parts 429, 430 and 431, as appropriate, or in accordance with the terms of an applicable test procedure waiver; (4) All information reported in this certification report is true, accurate, and complete; and (5) I am aware of the penalties associated with violations of the Energy Policy and Conservation Act (Pub. L. 94-163), as amended by Pub. L. 95-619, Pub. L. 100-12, Pub. L. 100-357, and Pub. L. 102-486 (the Act), the regulations thereunder, and 18 U.S.C. 1001 which prohibits knowingly making false statements to the Federal Government. | O24: I certify that: (1) This certification report is submitted in accordance with 10 CFR Parts 429, 430, and 431; 16 CFR 305; and the Energy Policy and Conservation Act, as amended. (2) An authorization granting me the authority to submit this information on behalf of the Certifier is on file with the U.S. Department of Energy. (3) The basic models listed in this certification report comply with the applicable conservation standard(s); (4) All required testing has been conducted in conformance with the applicable test requirements prescribed in 10 CFR Parts 429, 430 and 431, as appropriate, or in accordance with the terms of an applicable test procedure waiver; (5) All information reported in this certification report is true, accurate, and complete; and (6) I am aware of the penalties associated with violations of the Energy Policy and Conservation Act (Pub. L. 94-163), as amended by Pub. L. 95-619, Pub. L. 100-12, Pub. L. 100-357, and Pub. L. 102-486 (the Act), the regulations thereunder, and 18 U.S.C. 1001 which prohibits knowingly making false statements to the Federal Government. | P24: 115
P25: 6
B26: Submitter Signature (Type your Full Legal Name) | E26: =IF(ISBLANK(D26),"Please enter required data",IF(ISNONTEXT(D26),"Please enter required data","")) -> Please enter required data | I26: Date (MM/DD/YYYY) | K26: =IF(ISNUMBER(J26),"","Please enter required data") -> Please enter required data | P26: 38
P27: 13
P28: 13
P29: 13
B30: OMB Control Number: 1910-1400 (Expiration Date: September 30, 2024) | P30: 13
P31: 13
B32: Paperwork Reduction Act Statement | P32: 13
B33: OMB Burden Disclosure Statement | P33: 13
P34: 13
B35: This data is being collected for manufacturers to certify compliance to DOE's energy conservation, water conservation, or design standards. The data you supply will be used by the Department to monitor compliance with the energy conservation, water conservation, and design standards and testing requirements for the consumer products and commercial and industrial equipment mandated by the Energy Policy and Conservation Act, as amended. Public reporting burden for this collection of information is estimated to average 35 hours per response, including the time for reviewing instructions, searching existing data sources, gathering and maintaining the data needed, and completing and reviewing the collection of information. Send comments regarding this burden estimate or any other aspect of this collection of information, including suggestions for reducing this burden, to Office of the Chief Information Officer, Records Management Division, IM-23, Paperwork Reduction Project (1910-1400), U.S. Department of Energy, 1000 Independence Ave SW, Washington, DC, 20585-1290; and to the Office of Management and Budget (OMB), OIRA, Paperwork Reduction Project (1910-1400), Washington, DC 20503. Notwithstanding any other provision of the law, no person is required to respond to, nor shall any person be subject to a penalty for failure to comply with a collection of information subject to the requirements of the Paperwork Reduction Act unless that collection of information displays a currently valid OMB control number. Submission of this data is mandatory. | P35: 185
P36: 13

Sheet Input
A1: =Certification!A3 -> Small Air-Cooled 3-Phase Commercial Package and Variable Refrigerant Flow Air Conditioners and Heat Pumps | B1: Small Air-Cooled 3-Phase Commercial Package and Variable Refrigerant Flow Air Conditioners and Heat Pumps | J1: =Certification!L1 -> Version 5.1 | L1: · Please enter your data in the columns shaded in gray below, using a separate line for each model. · Click on the column heading for instructions on how to complete cells in that column. · Cells highlighted in yellow indicate an "Error." "Error" means that information is missing or there is an issue with the entry. · If the "Status" for a row is "Error," you can see an explanation in the columns to the far right.
A2: =Certification!A4 -> 5.1
C3: Status of This Input Sheet | E3: =IF(COUNTA(INPUT)=0,"No Data",IF(COUNTIF(B11:B110,"Error")>0,"Error","OK")) -> No Data | H3: Overall Status of Template | J3: =Certification!K5 -> No Data
AF4: The maximum number of indoor units available for each basic model in this template is 5. If a basic model has more than 5 indoor units, please contact us at: https://www.regulations.doe.gov/contact-us.
B5: Certification Report | E5: Click here for instructions for completing this form | H5: If you are resubmitting a specific combination, you must enter data for the Indoor Units and Air Movers in the exact same order as in the original submission | BC5: The cells below provide an explanation for "Errors". | BG5: The cells below provide an explanation for "Errors". | BK5: The cells below provide an explanation for "Errors". | BO5: The cells below provide an explanation for "Errors". | BS5: The cells below provide an explanation for "Errors". | BW5: The cells below provide an explanation for "Errors". | CA5: The cells below provide an explanation for "Errors". | CE5: The cells below provide an explanation for "Errors". | CI5: The cells below provide an explanation for "Errors". | CM5: The cells below provide an explanation for "Errors". | CQ5: The cells below provide an explanation for "Errors". | CU5: The cells below provide an explanation for "Errors".
AU8: Entry in the Columns Below is Optional
A9: Line No. | B9: Status | C9: Manufacturer (Outdoor Unit or Single-Package Unit) | D9: Brand Name(s) (Outdoor Unit or Single-Package Unit) | E9: Basic Model Number | F9: Individual Model Number Covered by Basic Model (Outdoor Unit or Single-Package Unit) | G9: Product Group Code | H9: For Split-System or VRF Indoor Unit 1 Only | K9: For Split-System or VRF Air Mover 1 Only, if Applicable | N9: For Split-System or VRF Indoor Unit 2 Only, if Applicable | Q9: For Split-System or VRF Air Mover 2 Only, if Applicable | T9: For Split-System or VRF Indoor Unit 3 Only, if Applicable | W9: For Split-System or VRF Air Mover 3 Only, if Applicable | Z9: For Split-System or VRF Indoor Unit 4 Only, if Applicable | AC9: For Split-System or VRF Air Mover 4 Only, if Applicable | AF9: For Split-System or VRF Indoor Unit 5 Only, if Applicable | AI9: For Split-System or VRF Air Mover 5 Only, if Applicable | AL9: Have Any of the Model Numbers Been Identified as Private by the Manufacturer? | AM9: Action | AN9: Sample Size (Number of Units Tested) | AO9: Is the Certification for this Basic Model Based on a Waiver of DOE's Test Procedure Requirements? | AP9: Date of Test Procedure Waiver, if Applicable | AQ9: Is the Certification based upon any Exception Relief from an Applicable Standard by DOE's Office of Hearing and Appeals? | AR9: Date of Exception Relief, if Applicable | AS9: Is Certification Based on the use of an Alternative Efficiency Determination Method (AEDM)? | AT9: Name of AEDM (If Applicable) | AU9: Seasonal Energy Efficiency Ratio 2 (SEER2) | AV9: Heating Seasonal Performance Factor 2 (HSPF2) | AW9: Rated Cooling Capacity (Btu/hour) | AX9: Supplemental Testing Instructions PDF Filename | BC9: =C9&" Status" -> Manufacturer (Outdoor Unit or Single-Package Unit) Status | BD9: =D9&" Status" -> Brand Name(s) (Outdoor Unit or Single-Package Unit) Status | BE9: =E9&" Status" -> Basic Model Number Status | BF9: =F9&" Status" -> Individual Model Number Covered by Basic Model (Outdoor Unit or Single-Package Unit) Status | BG9: =G9&" Status" -> Product Group Code Status | BH9: =H9 -> For Split-System or VRF Indoor Unit 1 Only | BK9: =K9 -> For Split-System or VRF Air Mover 1 Only, if Applicable | BN9: =N9 -> For Split-System or VRF Indoor Unit 2 Only, if Applicable | BQ9: =Q9 -> For Split-System or VRF Air Mover 2 Only, if Applicable | BT9: =T9 -> For Split-System or VRF Indoor Unit 3 Only, if Applicable | BW9: =W9 -> For Split-System or VRF Air Mover 3 Only, if Applicable | BZ9: =Z9 -> For Split-System or VRF Indoor Unit 4 Only, if Applicable | CC9: =AC9 -> For Split-System or VRF Air Mover 4 Only, if Applicable | CF9: =AF9 -> For Split-System or VRF Indoor Unit 5 Only, if Applicable | CI9: =AI9 -> For Split-System or VRF Air Mover 5 Only, if Applicable | CL9: =AL9&" Status" -> Have Any of the Model Numbers Been Identified as Private by the Manufacturer? Status | CM9: =AM9&" Status" -> Action Status | CN9: =AN9&" Status" -> Sample Size (Number of Units Tested) Status | CO9: =AO9&" Status" -> Is the Certification for this Basic Model Based on a Waiver of DOE's Test Procedure Requirements? Status | CP9: =AP9&" Status" -> Date of Test Procedure Waiver, if Applicable Status | CQ9: =AQ9&" Status" -> Is the Certification based upon any Exception Relief from an Applicable Standard by DOE's Office of Hearing and Appeals? Status | CR9: =AR9&" Status" -> Date of Exception Relief, if Applicable Status | CS9: =AS9&" Status" -> Is Certification Based on the use of an Alternative Efficiency Determination Method (AEDM)? Status | ... CX9: =AX9&" Status" -> Supplemental Testing Instructions PDF Filename Status
H10: Manufacturer | I10: Brand(s) | J10: Individual Model Number | K10: Manufacturer | L10: Brand(s) | M10: Individual Model Number | N10: Manufacturer | O10: Brand | P10: Individual Model Number | Q10: Manufacturer | R10: Brand | S10: Individual Model Number | T10: Manufacturer | U10: Brand | V10: Individual Model Number | W10: Manufacturer | X10: Brand | Y10: Individual Model Number | Z10: Manufacturer | AA10: Brand | AB10: Individual Model Number | AC10: Manufacturer | AD10: Brand | AE10: Individual Model Number | AF10: Manufacturer | AG10: Brand | AH10: Individual Model Number | AI10: Manufacturer | AJ10: Brand | AK10: Individual Model Number | BH10: =H10&" Status" -> Manufacturer Status | BI10: =I10&" Status" -> Brand(s) Status | BJ10: =J10&" Status" -> Individual Model Number Status | BK10: =K10&" Status" -> Manufacturer Status | BL10: =L10&" Status" -> Brand(s) Status | BM10: =M10&" Status" -> Individual Model Number Status | BN10: =N10&" Status" -> Manufacturer Status | BO10: =O10&" Status" -> Brand Status | ... CK10: =AK10&" Status" -> Individual Model Number Status | DF10: The cells below will not be changeable or visible in the final version, but show the ability to modify template easily for additional product group codes for changes in required factors. | DI10: Product Group Code Description | DL10: Do not change this column's width. Entries below force row height to be at least 2 lines
A11: 1 | B11: =IF(COUNTIF(BC11:CX11,"")=No_of_Columns,"",IF(COUNTIF(BC11:CX11,"ok")=No_of_Columns,"ok","Error")) | BC11: =IF(COUNTA($C11:$AX11)=0,"",IF(ISBLANK($C11),"Empty cell","ok")) | BD11: =IF(COUNTA($C11:$AX11)=0,"",IF(ISBLANK(D11),"Empty cell","ok")) | BE11: =IF(COUNTA($C11:$AX11)=0,"",IF(ISBLANK(E11),"Empty cell","ok")) | BF11: =IF(COUNTA($C11:$AX11)=0,"",IF(ISBLANK(F11),"Empty cell","ok")) | BG11: =IF(COUNTA($C11:$AX11)=0,"",IF(ISBLANK($G11),"Empty cell",IF($G11<1,"Prod. Gr. Code should be an int. betw. 1 and "&No_of_Product_Classes,IF($G11>No_of_Product_Classes,"Prod. Gr. Code should be an int. betw. 1 and "&No_of_Product_Classes,IF($G11=INT($G11),"ok","Prod. Gr. Code should be an int. betw. 1 and "&No_of_Product_Classes))))) | BH11: =IF(COUNTA($C11:$AX11)=0,"",IF(OR(G11=1,G11=3,G11=5,G11=7,G11=9,G11=10,G11=11,G11=12),IF(ISBLANK(H11),"Empty cell",IF(ISBLANK(J11),"ok",IF(AND(H11="***",J11="***"),"ok",IF(AND(H11<>"***",J11<>"***"),"ok","Manufacturer & Indiv. Model No. must both or neither be ***")))),IF(ISBLANK(H11),"ok","No entry should be made"))) | BI11: =IF(COUNTA($C11:$AX11)=0,"",IF(OR(G11=1,G11=3,G11=5,G11=7,G11=9,G11=10,G11=11,G11=12),IF(ISBLANK(I11),"Empty cell","ok"),IF(ISBLANK(I11),"ok","No entry should be made"))) | BJ11: =IF(COUNTA($C11:$AX11)=0,"",IF(OR(G11=1,G11=3,G11=5,G11=7,G11=9,G11=10,G11=11,G11=12),IF(ISBLANK(J11),"Empty cell",IF(ISBLANK(H11),"ok",IF(AND(J11="***",H11="***"),"ok",IF(AND(J11<>"***",H11<>"***"),"ok","Manufacturer & Indiv. Model No. must both or neither be ***")))),IF(ISBLANK(J11),"ok","No entry should be made"))) | BK11: =IF(COUNTA($C11:$AX11)=0,"",IF(OR(G11=1,G11=3,G11=5,G11=7,G11=9,G11=10,G11=11,G11=12),IF(OR(H11="***",J11="***"),IF(ISBLANK(K11),"Empty cell",IF(K11="***","ok","Entry should be ***")),IF(K11="***","Entry should not be ***","ok")),IF(ISBLANK(K11),"ok","No entry should be made"))) | BL11: =IF(COUNTA($C11:$AX11)=0,"",IF(OR(G11=1,G11=3,G11=5,G11=7,G11=9,G11=10,G11=11,G11=12),IF(ISBLANK(K11),IF(ISBLANK(L11),IF(OR(H11="***",J11="***"),"Empty cell","ok"),"Manuf. Air Mover 1 column not completed"),IF(ISBLANK(L11),"Empty cell","ok")),IF(ISBLANK(L11),"ok","No entry should be made"))) | BM11: =IF(COUNTA($C11:$AX11)=0,"",IF(OR(G11=1,G11=3,G11=5,G11=7,G11=9,G11=10,G11=11,G11=12),IF(ISBLANK(K11),IF(ISBLANK(M11),IF(OR(H11="***",J11="***"),"Empty cell","ok"),"Manuf. Air Mover 1 column not completed"),IF(K11="***",IF(ISBLANK(M11),"Empty cell",IF(M11="***","ok","Entry should be ***")),IF(ISBLANK(M11),"Empty cell",IF(M11="***","Entry should not be ***","ok")))),IF(ISBLANK(M11),"ok","No entry should be made"))) | BN11: =IF(COUNTA($C11:$AX11)=0,"",IF(OR(G11=1,G11=3,G11=5,G11=7,G11=9,G11=10,G11=11,G11=12),IF(OR($H11="***",$J11="***"),IF(ISBLANK(N11),"ok","No entry should be made"),IF(N11="***","Entry cannot be ***","ok")),IF(ISBLANK(N11),"ok","No entry should be made"))) | BO11: =IF(COUNTA($C11:$AX11)=0,"",IF(OR(G11=1,G11=3,G11=5,G11=7,G11=9,G11=10,G11=11,G11=12),IF(ISBLANK(N11),IF(ISBLANK(O11),"ok","Manuf. Indoor Unit 2 not entered"),IF(ISBLANK(O11),"Empty cell","ok")),IF(ISBLANK(O11),"ok","No entry should be made"))) | BP11: =IF(COUNTA($C11:$AX11)=0,"",IF(OR(G11=1,G11=3,G11=5,G11=7,G11=9,G11=10,G11=11,G11=12),IF(ISBLANK(N11),IF(ISBLANK(P11),"ok","Manuf. Indoor Unit 2 not entered"),IF(ISBLANK(P11),"Empty cell",IF(P11="***","Entry cannot be ***","ok"))),IF(ISBLANK(P11),"ok","No entry should be made"))) | BQ11: =IF(COUNTA($C11:$AX11)=0,"",IF(OR(G11=1,G11=3,G11=5,G11=7,G11=9,G11=10,G11=11,G11=12),IF(ISBLANK(N11),IF(ISBLANK(Q11),"ok","Info for Indoor Unit 2 not entered"),IF(Q11="***","Entry cannot be ***","ok")),IF(ISBLANK(Q11),"ok","No entry should be made"))) | BR11: =IF(COUNTA($C11:$AX11)=0,"",IF(OR(G11=1,G11=3,G11=5,G11=7,G11=9,G11=10,G11=11,G11=12),IF(ISBLANK(Q11),IF(ISBLANK(R11),"ok","Manuf. Air Mover 2 not entered"),IF(ISBLANK(R11),"Empty cell","ok")),IF(ISBLANK(R11),"ok","No entry should be made"))) | BS11: =IF(COUNTA($C11:$AX11)=0,"",IF(OR(G11=1,G11=3,G11=5,G11=7,G11=9,G11=10,G11=11,G11=12),IF(ISBLANK(Q11),IF(ISBLANK(S11),"ok","Manuf. Air Mover 2 not entered"),IF(ISBLANK(S11),"Empty cell",IF(S11="***","Entry cannot be ***","ok"))),IF(ISBLANK(S11),"ok","No entry should be made"))) | BT11: =IF(COUNTA($C11:$AX11)=0,"",IF(OR(G11=1,G11=3,G11=5,G11=7,G11=9,G11=10,G11=11,G11=12),IF(ISBLANK(N11),IF(ISBLANK(T11),"ok","Info for Indoor Unit 2 not entered"),IF(T11="***","Entry cannot be ***","ok")),IF(ISBLANK(T11),"ok","No entry should be made"))) | BU11: =IF(COUNTA($C11:$AX11)=0,"",IF(OR(G11=1,G11=3,G11=5,G11=7,G11=9,G11=10,G11=11,G11=12),IF(ISBLANK(T11),IF(ISBLANK(U11),"ok","Manuf. Indoor Unit 3 not entered"),IF(ISBLANK(U11),"Empty cell","ok")),IF(ISBLANK(U11),"ok","No entry should be made"))) | BV11: =IF(COUNTA($C11:$AX11)=0,"",IF(OR(G11=1,G11=3,G11=5,G11=7,G11=9,G11=10,G11=11,G11=12),IF(ISBLANK(T11),IF(ISBLANK(V11),"ok","Manuf. Indoor Unit 3 not entered"),IF(ISBLANK(V11),"Empty cell",IF(V11="***","Entry cannot be ***","ok"))),IF(ISBLANK(V11),"ok","No entry should be made"))) | BW11: =IF(COUNTA($C11:$AX11)=0,"",IF(OR(G11=1,G11=3,G11=5,G11=7,G11=9,G11=10,G11=11,G11=12),IF(ISBLANK(T11),IF(ISBLANK(W11),"ok","Info for Indoor Unit 3 not entered"),IF(W11="***","Entry cannot be ***","ok")),IF(ISBLANK(W11),"ok","No entry should be made"))) | BX11: =IF(COUNTA($C11:$AX11)=0,"",IF(OR(G11=1,G11=3,G11=5,G11=7,G11=9,G11=10,G11=11,G11=12),IF(ISBLANK(W11),IF(ISBLANK(X11),"ok","Manuf. Air Mover 3 not entered"),IF(ISBLANK(X11),"Empty cell","ok")),IF(ISBLANK(X11),"ok","No entry should be made"))) | BY11: =IF(COUNTA($C11:$AX11)=0,"",IF(OR(G11=1,G11=3,G11=5,G11=7,G11=9,G11=10,G11=11,G11=12),IF(ISBLANK(W11),IF(ISBLANK(Y11),"ok","Manuf. Air Mover 3 not entered"),IF(ISBLANK(Y11),"Empty cell",IF(Y11="***","Entry cannot be ***","ok"))),IF(ISBLANK(Y11),"ok","No entry should be made"))) | BZ11: =IF(COUNTA($C11:$AX11)=0,"",IF(OR(G11=1,G11=3,G11=5,G11=7,G11=9,G11=10,G11=11,G11=12),IF(ISBLANK(T11),IF(ISBLANK(Z11),"ok","Info for Indoor Unit 3 not entered"),IF(Z11="***","Entry cannot be ***","ok")),IF(ISBLANK(Z11),"ok","No entry should be made"))) | CA11: =IF(COUNTA($C11:$AX11)=0,"",IF(OR(G11=1,G11=3,G11=5,G11=7,G11=9,G11=10,G11=11,G11=12),IF(ISBLANK(Z11),IF(ISBLANK(AA11),"ok","Manuf. Indoor Unit 4 not entered"),IF(ISBLANK(AA11),"Empty cell","ok")),IF(ISBLANK(AA11),"ok","No entry should be made"))) | CB11: =IF(COUNTA($C11:$AX11)=0,"",IF(OR(G11=1,G11=3,G11=5,G11=7,G11=9,G11=10,G11=11,G11=12),IF(ISBLANK(Z11),IF(ISBLANK(AB11),"ok","Manuf. Indoor Unit 4 not entered"),IF(ISBLANK(AB11),"Empty cell",IF(AB11="***","Entry cannot be ***","ok"))),IF(ISBLANK(AB11),"ok","No entry should be made"))) | CC11: =IF(COUNTA($C11:$AX11)=0,"",IF(OR(G11=1,G11=3,G11=5,G11=7,G11=9,G11=10,G11=11,G11=12),IF(ISBLANK(Z11),IF(ISBLANK(AC11),"ok","Info for Indoor Unit 4 not entered"),IF(AC11="***","Entry cannot be ***","ok")),IF(ISBLANK(AC11),"ok","No entry should be made"))) | CD11: =IF(COUNTA($C11:$AX11)=0,"",IF(OR(G11=1,G11=3,G11=5,G11=7,G11=9,G11=10,G11=11,G11=12),IF(ISBLANK(AC11),IF(ISBLANK(AD11),"ok","Manuf. Air Mover 4 not entered"),IF(ISBLANK(AD11),"Empty cell","ok")),IF(ISBLANK(AD11),"ok","No entry should be made"))) | CE11: =IF(COUNTA($C11:$AX11)=0,"",IF(OR(G11=1,G11=3,G11=5,G11=7,G11=9,G11=10,G11=11,G11=12),IF(ISBLANK(AC11),IF(ISBLANK(AE11),"ok","Manuf. Air Mover 4 not entered"),IF(ISBLANK(AE11),"Empty cell",IF(AE11="***","Entry cannot be ***","ok"))),IF(ISBLANK(AE11),"ok","No entry should be made"))) | CF11: =IF(COUNTA($C11:$AX11)=0,"",IF(OR(G11=1,G11=3,G11=5,G11=7,G11=9,G11=10,G11=11,G11=12),IF(ISBLANK(Z11),IF(ISBLANK(AF11),"ok","Info for Indoor Unit 4 not entered"),IF(AF11="***","Entry cannot be ***","ok")),IF(ISBLANK(AF11),"ok","No entry should be made"))) | CG11: =IF(COUNTA($C11:$AX11)=0,"",IF(OR(G11=1,G11=3,G11=5,G11=7,G11=9,G11=10,G11=11,G11=12),IF(ISBLANK(AF11),IF(ISBLANK(AG11),"ok","Manuf. Indoor Unit 5 not entered"),IF(ISBLANK(AG11),"Empty cell","ok")),IF(ISBLANK(AG11),"ok","No entry should be made"))) | CH11: =IF(COUNTA($C11:$AX11)=0,"",IF(OR(G11=1,G11=3,G11=5,G11=7,G11=9,G11=10,G11=11,G11=12),IF(ISBLANK(AF11),IF(ISBLANK(AH11),"ok","Manuf. Indoor Unit 5 not entered"),IF(ISBLANK(AH11),"Empty cell",IF(AH11="***","Entry cannot be ***","ok"))),IF(ISBLANK(AH11),"ok","No entry should be made"))) | CI11: =IF(COUNTA($C11:$AX11)=0,"",IF(OR(G11=1,G11=3,G11=5,G11=7,G11=9,G11=10,G11=11,G11=12),IF(ISBLANK(AF11),IF(ISBLANK(AI11),"ok","Info for Indoor Unit 5 not entered"),IF(AI11="***","Entry cannot be ***","ok")),IF(ISBLANK(AI11),"ok","No entry should be made"))) | CJ11: =IF(COUNTA($C11:$AX11)=0,"",IF(OR(G11=1,G11=3,G11=5,G11=7,G11=9,G11=10,G11=11,G11=12),IF(ISBLANK(AI11),IF(ISBLANK(AJ11),"ok","Manuf. Air Mover 5 not entered"),IF(ISBLANK(AJ11),"Empty cell","ok")),IF(ISBLANK(AJ11),"ok","No entry should be made"))) | CK11: =IF(COUNTA($C11:$AX11)=0,"",IF(OR(G11=1,G11=3,G11=5,G11=7,G11=9,G11=10,G11=11,G11=12),IF(ISBLANK(AI11),IF(ISBLANK(AK11),"ok","Manuf. Air Mover 5 not entered"),IF(ISBLANK(AK11),"Empty cell",IF(AK11="***","Entry cannot be ***","ok"))),IF(ISBLANK(AK11),"ok","No entry should be made"))) | CL11: =IF(COUNTA($C11:$AX11)=0,"",IF(ISBLANK(AL11),"Empty cell",IF(AL11="yes","ok",IF(AL11="y","ok",IF(AL11="no","ok",IF(AL11="n","ok","Entry should be either 'yes', 'y', 'no' or 'n'")))))) | CM11: =IF(COUNTA($C11:$AX11)=0,"",IF(ISBLANK($AM11),"Empty cell",IF(OR($AM11="n",$AM11="eto",$AM11="d",$AM11="c",$AM11="e",$AM11="f"),"ok","Should be n, eto, d, c, e, or f"))) | CN11: =IF(COUNTA($C11:$AX11)=0,"",IF(AM11="d","ok",IF(ISBLANK($AN11),"Empty cell",IF(OR(AS11="yes",AS11="y"),IF(AN11=0,"ok","Entry should be 0"),IF(OR(AS11="no",AS11="n"),IF(ISNUMBER(AN11),IF(INT(AN11)=AN11,IF(AN11>0,"ok","Entry should be a positive integer"),"Entry should be a positive integer"),"Entry should be a positive integer"),IF(ISNUMBER(AN11),IF(INT(AN11)=AN11,IF(AN11>=0,"ok","Need to answer AEDM question"),"Need to answer AEDM question"),"Need to answer AEDM question")))))) | CO11: =IF(COUNTA($C11:$AX11)=0,"",IF(AM11="d","ok",IF(ISBLANK(AO11),"Empty cell",IF(AO11="yes","ok",IF(AO11="y","ok",IF(AO11="no","ok",IF(AO11="n","ok","Entry should be either 'yes', 'y', 'no' or 'n'"))))))) | CP11: =IF(COUNTA($C11:$AX11)=0,"",IF(AM11="d","ok",IF(ISBLANK(AO11),IF(ISBLANK(AP11),"ok","Waiver question not answered"),IF(OR(AO11="yes",AO11="y"),IF(ISBLANK(AP11),"Empty cell",IF(ISNUMBER(AP11),IF(AP11<1,"Entry should be a date in M/D/YYYY format","ok"),"Entry should be a date in M/D/YYYY format")),IF(OR(AO11="no",AO11="n"),IF(ISBLANK(AP11),"ok","No entry should be made in cell"),IF(ISBLANK(AP11),"ok","No entry should be made in cell")))))) | CQ11: =IF(COUNTA($C11:$AX11)=0,"",IF(AM11="d","ok",IF(ISBLANK(AQ11),"Empty cell",IF(AQ11="yes","ok",IF(AQ11="y","ok",IF(AQ11="no","ok",IF(AQ11="n","ok","Entry should be either 'yes', 'y', 'no' or 'n'"))))))) | CR11: =IF(COUNTA($C11:$AX11)=0,"",IF(AM11="d","ok",IF(ISBLANK(AQ11),IF(ISBLANK(AR11),"ok","Exemption question not answered"),IF(OR(AQ11="yes",AQ11="y"),IF(ISBLANK(AR11),"Empty cell",IF(ISNUMBER(AR11),IF(AR11<1,"Entry should be a date in M/D/YYYY format","ok"),"Entry should be a date in M/D/YYYY format")),IF(OR(AQ11="no",AQ11="n"),IF(ISBLANK(AR11),"ok","No entry should be made in cell"),IF(ISBLANK(AR11),"ok","No entry should be made in cell")))))) | CS11: =IF(COUNTA($C11:$AX11)=0,"",IF(AM11="d","ok",IF(ISBLANK(AS11),"Empty cell",IF(AS11="yes","ok",IF(AS11="y","ok",IF(AS11="no","ok",IF(AS11="n","ok","Entry should be either 'yes', 'y', 'no' or 'n'"))))))) | CT11: =IF(COUNTA($C11:$AX11)=0,"",IF(AM11="d","ok",IF(ISBLANK(AS11),IF(ISBLANK(AT11),"ok","AEDM question not answered"),IF(OR(AS11="yes",AS11="y"),IF(ISBLANK(AT11),"Empty cell","ok"),IF(OR(AS11="no",AS11="n"),IF(ISBLANK(AT11),"ok","No entry should be made in cell"),IF(ISBLANK(AT11),"ok","No entry should be made in cell")))))) | CU11: =IF(COUNTA($C11:$AX11)=0,"",IF($AM11="d","ok",IF(ISBLANK(AU11),"ok",IF(ISNUMBER(AU11),IF(AU11>0,"ok","Entry should be greater than 0"),"Entry should be a number")))) | CV11: =IF(COUNTA($C11:$AX11)=0,"",IF($AM11="d","ok",IF(OR(G11=3,G11=4,G11=7,G11=8,G11=10,G11=12,G11=14),IF(ISBLANK(AV11),"ok",IF(ISNUMBER($AV11),IF($AV11>0,"ok","Entry should be greater than 0"),"Entry should be a number")),IF(ISBLANK(AV11),"ok","Model is not a heat pump")))) | CW11: =IF(COUNTA($C11:$AX11)=0,"",IF($AM11="d","ok",IF(ISBLANK(AW11),"ok",IF(ISNUMBER(AW11),IF(AW11>0,"ok","Entry should be greater than 0"),"Entry should be a number")))) | CX11: =IF(COUNTA($C11:$AX11)=0,"",IF($AM11="d","ok",IF(ISBLANK($AX11),"ok",IF(RIGHT(AX11,4)=".pdf",IF(LEFT(AX11,3)="DOE",IF(ISNUMBER(VALUE(MID(AX11,4,4))),"ok","Filename is not in correct format"),"Filename is not in correct format"),"Filename is not in correct format")))) | DF11: Number of Columns | DG11: 48 | DI11: =IF(BG11="ok",VLOOKUP(G11,PrClDesc,2),"") | DL11: aaaaaa
A12: 2 | B12: =IF(COUNTIF(BC12:CX12,"")=No_of_Columns,"",IF(COUNTIF(BC12:CX12,"ok")=No_of_Columns,"ok","Error")) | BC12: =IF(COUNTA($C12:$AX12)=0,"",IF(ISBLANK($C12),"Empty cell","ok")) | BD12: =IF(COUNTA($C12:$AX12)=0,"",IF(ISBLANK(D12),"Empty cell","ok")) | BE12: =IF(COUNTA($C12:$AX12)=0,"",IF(ISBLANK(E12),"Empty cell","ok")) | BF12: =IF(COUNTA($C12:$AX12)=0,"",IF(ISBLANK(F12),"Empty cell","ok")) | BG12: =IF(COUNTA($C12:$AX12)=0,"",IF(ISBLANK($G12),"Empty cell",IF($G12<1,"Prod. Gr. Code should be an int. betw. 1 and "&No_of_Product_Classes,IF($G12>No_of_Product_Classes,"Prod. Gr. Code should be an int. betw. 1 and "&No_of_Product_Classes,IF($G12=INT($G12),"ok","Prod. Gr. Code should be an int. betw. 1 and "&No_of_Product_Classes))))) | BH12: =IF(COUNTA($C12:$AX12)=0,"",IF(OR(G12=1,G12=3,G12=5,G12=7,G12=9,G12=10,G12=11,G12=12),IF(ISBLANK(H12),"Empty cell",IF(ISBLANK(J12),"ok",IF(AND(H12="***",J12="***"),"ok",IF(AND(H12<>"***",J12<>"***"),"ok","Manufacturer & Indiv. Model No. must both or neither be ***")))),IF(ISBLANK(H12),"ok","No entry should be made"))) | BI12: =IF(COUNTA($C12:$AX12)=0,"",IF(OR(G12=1,G12=3,G12=5,G12=7,G12=9,G12=10,G12=11,G12=12),IF(ISBLANK(I12),"Empty cell","ok"),IF(ISBLANK(I12),"ok","No entry should be made"))) | BJ12: =IF(COUNTA($C12:$AX12)=0,"",IF(OR(G12=1,G12=3,G12=5,G12=7,G12=9,G12=10,G12=11,G12=12),IF(ISBLANK(J12),"Empty cell",IF(ISBLANK(H12),"ok",IF(AND(J12="***",H12="***"),"ok",IF(AND(J12<>"***",H12<>"***"),"ok","Manufacturer & Indiv. Model No. must both or neither be ***")))),IF(ISBLANK(J12),"ok","No entry should be made"))) | BK12: =IF(COUNTA($C12:$AX12)=0,"",IF(OR(G12=1,G12=3,G12=5,G12=7,G12=9,G12=10,G12=11,G12=12),IF(OR(H12="***",J12="***"),IF(ISBLANK(K12),"Empty cell",IF(K12="***","ok","Entry should be ***")),IF(K12="***","Entry should not be ***","ok")),IF(ISBLANK(K12),"ok","No entry should be made"))) | BL12: =IF(COUNTA($C12:$AX12)=0,"",IF(OR(G12=1,G12=3,G12=5,G12=7,G12=9,G12=10,G12=11,G12=12),IF(ISBLANK(K12),IF(ISBLANK(L12),IF(OR(H12="***",J12="***"),"Empty cell","ok"),"Manuf. Air Mover 1 column not completed"),IF(ISBLANK(L12),"Empty cell","ok")),IF(ISBLANK(L12),"ok","No entry should be made"))) | BM12: =IF(COUNTA($C12:$AX12)=0,"",IF(OR(G12=1,G12=3,G12=5,G12=7,G12=9,G12=10,G12=11,G12=12),IF(ISBLANK(K12),IF(ISBLANK(M12),IF(OR(H12="***",J12="***"),"Empty cell","ok"),"Manuf. Air Mover 1 column not completed"),IF(K12="***",IF(ISBLANK(M12),"Empty cell",IF(M12="***","ok","Entry should be ***")),IF(ISBLANK(M12),"Empty cell",IF(M12="***","Entry should not be ***","ok")))),IF(ISBLANK(M12),"ok","No entry should be made"))) | BN12: =IF(COUNTA($C12:$AX12)=0,"",IF(OR(G12=1,G12=3,G12=5,G12=7,G12=9,G12=10,G12=11,G12=12),IF(OR($H12="***",$J12="***"),IF(ISBLANK(N12),"ok","No entry should be made"),IF(N12="***","Entry cannot be ***","ok")),IF(ISBLANK(N12),"ok","No entry should be made"))) | BO12: =IF(COUNTA($C12:$AX12)=0,"",IF(OR(G12=1,G12=3,G12=5,G12=7,G12=9,G12=10,G12=11,G12=12),IF(ISBLANK(N12),IF(ISBLANK(O12),"ok","Manuf. Indoor Unit 2 not entered"),IF(ISBLANK(O12),"Empty cell","ok")),IF(ISBLANK(O12),"ok","No entry should be made"))) | BP12: =IF(COUNTA($C12:$AX12)=0,"",IF(OR(G12=1,G12=3,G12=5,G12=7,G12=9,G12=10,G12=11,G12=12),IF(ISBLANK(N12),IF(ISBLANK(P12),"ok","Manuf. Indoor Unit 2 not entered"),IF(ISBLANK(P12),"Empty cell",IF(P12="***","Entry cannot be ***","ok"))),IF(ISBLANK(P12),"ok","No entry should be made"))) | BQ12: =IF(COUNTA($C12:$AX12)=0,"",IF(OR(G12=1,G12=3,G12=5,G12=7,G12=9,G12=10,G12=11,G12=12),IF(ISBLANK(N12),IF(ISBLANK(Q12),"ok","Info for Indoor Unit 2 not entered"),IF(Q12="***","Entry cannot be ***","ok")),IF(ISBLANK(Q12),"ok","No entry should be made"))) | BR12: =IF(COUNTA($C12:$AX12)=0,"",IF(OR(G12=1,G12=3,G12=5,G12=7,G12=9,G12=10,G12=11,G12=12),IF(ISBLANK(Q12),IF(ISBLANK(R12),"ok","Manuf. Air Mover 2 not entered"),IF(ISBLANK(R12),"Empty cell","ok")),IF(ISBLANK(R12),"ok","No entry should be made"))) | BS12: =IF(COUNTA($C12:$AX12)=0,"",IF(OR(G12=1,G12=3,G12=5,G12=7,G12=9,G12=10,G12=11,G12=12),IF(ISBLANK(Q12),IF(ISBLANK(S12),"ok","Manuf. Air Mover 2 not entered"),IF(ISBLANK(S12),"Empty cell",IF(S12="***","Entry cannot be ***","ok"))),IF(ISBLANK(S12),"ok","No entry should be made"))) | BT12: =IF(COUNTA($C12:$AX12)=0,"",IF(OR(G12=1,G12=3,G12=5,G12=7,G12=9,G12=10,G12=11,G12=12),IF(ISBLANK(N12),IF(ISBLANK(T12),"ok","Info for Indoor Unit 2 not entered"),IF(T12="***","Entry cannot be ***","ok")),IF(ISBLANK(T12),"ok","No entry should be made"))) | BU12: =IF(COUNTA($C12:$AX12)=0,"",IF(OR(G12=1,G12=3,G12=5,G12=7,G12=9,G12=10,G12=11,G12=12),IF(ISBLANK(T12),IF(ISBLANK(U12),"ok","Manuf. Indoor Unit 3 not entered"),IF(ISBLANK(U12),"Empty cell","ok")),IF(ISBLANK(U12),"ok","No entry should be made"))) | BV12: =IF(COUNTA($C12:$AX12)=0,"",IF(OR(G12=1,G12=3,G12=5,G12=7,G12=9,G12=10,G12=11,G12=12),IF(ISBLANK(T12),IF(ISBLANK(V12),"ok","Manuf. Indoor Unit 3 not entered"),IF(ISBLANK(V12),"Empty cell",IF(V12="***","Entry cannot be ***","ok"))),IF(ISBLANK(V12),"ok","No entry should be made"))) | BW12: =IF(COUNTA($C12:$AX12)=0,"",IF(OR(G12=1,G12=3,G12=5,G12=7,G12=9,G12=10,G12=11,G12=12),IF(ISBLANK(T12),IF(ISBLANK(W12),"ok","Info for Indoor Unit 3 not entered"),IF(W12="***","Entry cannot be ***","ok")),IF(ISBLANK(W12),"ok","No entry should be made"))) | BX12: =IF(COUNTA($C12:$AX12)=0,"",IF(OR(G12=1,G12=3,G12=5,G12=7,G12=9,G12=10,G12=11,G12=12),IF(ISBLANK(W12),IF(ISBLANK(X12),"ok","Manuf. Air Mover 3 not entered"),IF(ISBLANK(X12),"Empty cell","ok")),IF(ISBLANK(X12),"ok","No entry should be made"))) | BY12: =IF(COUNTA($C12:$AX12)=0,"",IF(OR(G12=1,G12=3,G12=5,G12=7,G12=9,G12=10,G12=11,G12=12),IF(ISBLANK(W12),IF(ISBLANK(Y12),"ok","Manuf. Air Mover 3 not entered"),IF(ISBLANK(Y12),"Empty cell",IF(Y12="***","Entry cannot be ***","ok"))),IF(ISBLANK(Y12),"ok","No entry should be made"))) | BZ12: =IF(COUNTA($C12:$AX12)=0,"",IF(OR(G12=1,G12=3,G12=5,G12=7,G12=9,G12=10,G12=11,G12=12),IF(ISBLANK(T12),IF(ISBLANK(Z12),"ok","Info for Indoor Unit 3 not entered"),IF(Z12="***","Entry cannot be ***","ok")),IF(ISBLANK(Z12),"ok","No entry should be made"))) | CA12: =IF(COUNTA($C12:$AX12)=0,"",IF(OR(G12=1,G12=3,G12=5,G12=7,G12=9,G12=10,G12=11,G12=12),IF(ISBLANK(Z12),IF(ISBLANK(AA12),"ok","Manuf. Indoor Unit 4 not entered"),IF(ISBLANK(AA12),"Empty cell","ok")),IF(ISBLANK(AA12),"ok","No entry should be made"))) | CB12: =IF(COUNTA($C12:$AX12)=0,"",IF(OR(G12=1,G12=3,G12=5,G12=7,G12=9,G12=10,G12=11,G12=12),IF(ISBLANK(Z12),IF(ISBLANK(AB12),"ok","Manuf. Indoor Unit 4 not entered"),IF(ISBLANK(AB12),"Empty cell",IF(AB12="***","Entry cannot be ***","ok"))),IF(ISBLANK(AB12),"ok","No entry should be made"))) | CC12: =IF(COUNTA($C12:$AX12)=0,"",IF(OR(G12=1,G12=3,G12=5,G12=7,G12=9,G12=10,G12=11,G12=12),IF(ISBLANK(Z12),IF(ISBLANK(AC12),"ok","Info for Indoor Unit 4 not entered"),IF(AC12="***","Entry cannot be ***","ok")),IF(ISBLANK(AC12),"ok","No entry should be made"))) | CD12: =IF(COUNTA($C12:$AX12)=0,"",IF(OR(G12=1,G12=3,G12=5,G12=7,G12=9,G12=10,G12=11,G12=12),IF(ISBLANK(AC12),IF(ISBLANK(AD12),"ok","Manuf. Air Mover 4 not entered"),IF(ISBLANK(AD12),"Empty cell","ok")),IF(ISBLANK(AD12),"ok","No entry should be made"))) | CE12: =IF(COUNTA($C12:$AX12)=0,"",IF(OR(G12=1,G12=3,G12=5,G12=7,G12=9,G12=10,G12=11,G12=12),IF(ISBLANK(AC12),IF(ISBLANK(AE12),"ok","Manuf. Air Mover 4 not entered"),IF(ISBLANK(AE12),"Empty cell",IF(AE12="***","Entry cannot be ***","ok"))),IF(ISBLANK(AE12),"ok","No entry should be made"))) | CF12: =IF(COUNTA($C12:$AX12)=0,"",IF(OR(G12=1,G12=3,G12=5,G12=7,G12=9,G12=10,G12=11,G12=12),IF(ISBLANK(Z12),IF(ISBLANK(AF12),"ok","Info for Indoor Unit 4 not entered"),IF(AF12="***","Entry cannot be ***","ok")),IF(ISBLANK(AF12),"ok","No entry should be made"))) | CG12: =IF(COUNTA($C12:$AX12)=0,"",IF(OR(G12=1,G12=3,G12=5,G12=7,G12=9,G12=10,G12=11,G12=12),IF(ISBLANK(AF12),IF(ISBLANK(AG12),"ok","Manuf. Indoor Unit 5 not entered"),IF(ISBLANK(AG12),"Empty cell","ok")),IF(ISBLANK(AG12),"ok","No entry should be made"))) | CH12: =IF(COUNTA($C12:$AX12)=0,"",IF(OR(G12=1,G12=3,G12=5,G12=7,G12=9,G12=10,G12=11,G12=12),IF(ISBLANK(AF12),IF(ISBLANK(AH12),"ok","Manuf. Indoor Unit 5 not entered"),IF(ISBLANK(AH12),"Empty cell",IF(AH12="***","Entry cannot be ***","ok"))),IF(ISBLANK(AH12),"ok","No entry should be made"))) | CI12: =IF(COUNTA($C12:$AX12)=0,"",IF(OR(G12=1,G12=3,G12=5,G12=7,G12=9,G12=10,G12=11,G12=12),IF(ISBLANK(AF12),IF(ISBLANK(AI12),"ok","Info for Indoor Unit 5 not entered"),IF(AI12="***","Entry cannot be ***","ok")),IF(ISBLANK(AI12),"ok","No entry should be made"))) | CJ12: =IF(COUNTA($C12:$AX12)=0,"",IF(OR(G12=1,G12=3,G12=5,G12=7,G12=9,G12=10,G12=11,G12=12),IF(ISBLANK(AI12),IF(ISBLANK(AJ12),"ok","Manuf. Air Mover 5 not entered"),IF(ISBLANK(AJ12),"Empty cell","ok")),IF(ISBLANK(AJ12),"ok","No entry should be made"))) | CK12: =IF(COUNTA($C12:$AX12)=0,"",IF(OR(G12=1,G12=3,G12=5,G12=7,G12=9,G12=10,G12=11,G12=12),IF(ISBLANK(AI12),IF(ISBLANK(AK12),"ok","Manuf. Air Mover 5 not entered"),IF(ISBLANK(AK12),"Empty cell",IF(AK12="***","Entry cannot be ***","ok"))),IF(ISBLANK(AK12),"ok","No entry should be made"))) | CL12: =IF(COUNTA($C12:$AX12)=0,"",IF(ISBLANK(AL12),"Empty cell",IF(AL12="yes","ok",IF(AL12="y","ok",IF(AL12="no","ok",IF(AL12="n","ok","Entry should be either 'yes', 'y', 'no' or 'n'")))))) | CM12: =IF(COUNTA($C12:$AX12)=0,"",IF(ISBLANK($AM12),"Empty cell",IF(OR($AM12="n",$AM12="eto",$AM12="d",$AM12="c",$AM12="e",$AM12="f"),"ok","Should be n, eto, d, c, e, or f"))) | CN12: =IF(COUNTA($C12:$AX12)=0,"",IF(AM12="d","ok",IF(ISBLANK($AN12),"Empty cell",IF(OR(AS12="yes",AS12="y"),IF(AN12=0,"ok","Entry should be 0"),IF(OR(AS12="no",AS12="n"),IF(ISNUMBER(AN12),IF(INT(AN12)=AN12,IF(AN12>0,"ok","Entry should be a positive integer"),"Entry should be a positive integer"),"Entry should be a positive integer"),IF(ISNUMBER(AN12),IF(INT(AN12)=AN12,IF(AN12>=0,"ok","Need to answer AEDM question"),"Need to answer AEDM question"),"Need to answer AEDM question")))))) | CO12: =IF(COUNTA($C12:$AX12)=0,"",IF(AM12="d","ok",IF(ISBLANK(AO12),"Empty cell",IF(AO12="yes","ok",IF(AO12="y","ok",IF(AO12="no","ok",IF(AO12="n","ok","Entry should be either 'yes', 'y', 'no' or 'n'"))))))) | CP12: =IF(COUNTA($C12:$AX12)=0,"",IF(AM12="d","ok",IF(ISBLANK(AO12),IF(ISBLANK(AP12),"ok","Waiver question not answered"),IF(OR(AO12="yes",AO12="y"),IF(ISBLANK(AP12),"Empty cell",IF(ISNUMBER(AP12),IF(AP12<1,"Entry should be a date in M/D/YYYY format","ok"),"Entry should be a date in M/D/YYYY format")),IF(OR(AO12="no",AO12="n"),IF(ISBLANK(AP12),"ok","No entry should be made in cell"),IF(ISBLANK(AP12),"ok","No entry should be made in cell")))))) | CQ12: =IF(COUNTA($C12:$AX12)=0,"",IF(AM12="d","ok",IF(ISBLANK(AQ12),"Empty cell",IF(AQ12="yes","ok",IF(AQ12="y","ok",IF(AQ12="no","ok",IF(AQ12="n","ok","Entry should be either 'yes', 'y', 'no' or 'n'"))))))) | CR12: =IF(COUNTA($C12:$AX12)=0,"",IF(AM12="d","ok",IF(ISBLANK(AQ12),IF(ISBLANK(AR12),"ok","Exemption question not answered"),IF(OR(AQ12="yes",AQ12="y"),IF(ISBLANK(AR12),"Empty cell",IF(ISNUMBER(AR12),IF(AR12<1,"Entry should be a date in M/D/YYYY format","ok"),"Entry should be a date in M/D/YYYY format")),IF(OR(AQ12="no",AQ12="n"),IF(ISBLANK(AR12),"ok","No entry should be made in cell"),IF(ISBLANK(AR12),"ok","No entry should be made in cell")))))) | CS12: =IF(COUNTA($C12:$AX12)=0,"",IF(AM12="d","ok",IF(ISBLANK(AS12),"Empty cell",IF(AS12="yes","ok",IF(AS12="y","ok",IF(AS12="no","ok",IF(AS12="n","ok","Entry should be either 'yes', 'y', 'no' or 'n'"))))))) | CT12: =IF(COUNTA($C12:$AX12)=0,"",IF(AM12="d","ok",IF(ISBLANK(AS12),IF(ISBLANK(AT12),"ok","AEDM question not answered"),IF(OR(AS12="yes",AS12="y"),IF(ISBLANK(AT12),"Empty cell","ok"),IF(OR(AS12="no",AS12="n"),IF(ISBLANK(AT12),"ok","No entry should be made in cell"),IF(ISBLANK(AT12),"ok","No entry should be made in cell")))))) | CU12: =IF(COUNTA($C12:$AX12)=0,"",IF($AM12="d","ok",IF(ISBLANK(AU12),"ok",IF(ISNUMBER(AU12),IF(AU12>0,"ok","Entry should be greater than 0"),"Entry should be a number")))) | CV12: =IF(COUNTA($C12:$AX12)=0,"",IF($AM12="d","ok",IF(OR(G12=3,G12=4,G12=7,G12=8,G12=10,G12=12,G12=14),IF(ISBLANK(AV12),"ok",IF(ISNUMBER($AV12),IF($AV12>0,"ok","Entry should be greater than 0"),"Entry should be a number")),IF(ISBLANK(AV12),"ok","Model is not a heat pump")))) | CW12: =IF(COUNTA($C12:$AX12)=0,"",IF($AM12="d","ok",IF(ISBLANK(AW12),"ok",IF(ISNUMBER(AW12),IF(AW12>0,"ok","Entry should be greater than 0"),"Entry should be a number")))) | CX12: =IF(COUNTA($C12:$AX12)=0,"",IF($AM12="d","ok",IF(ISBLANK($AX12),"ok",IF(RIGHT(AX12,4)=".pdf",IF(LEFT(AX12,3)="DOE",IF(ISNUMBER(VALUE(MID(AX12,4,4))),"ok","Filename is not in correct format"),"Filename is not in correct format"),"Filename is not in correct format")))) | DF12: Number of Product Group Codes | DG12: 14 | DI12: =IF(BG12="ok",VLOOKUP(G12,PrClDesc,2),"") | DL12: aaaaaa
A13: 3 | B13: =IF(COUNTIF(BC13:CX13,"")=No_of_Columns,"",IF(COUNTIF(BC13:CX13,"ok")=No_of_Columns,"ok","Error")) | BC13: =IF(COUNTA($C13:$AX13)=0,"",IF(ISBLANK($C13),"Empty cell","ok")) | BD13: =IF(COUNTA($C13:$AX13)=0,"",IF(ISBLANK(D13),"Empty cell","ok")) | BE13: =IF(COUNTA($C13:$AX13)=0,"",IF(ISBLANK(E13),"Empty cell","ok")) | BF13: =IF(COUNTA($C13:$AX13)=0,"",IF(ISBLANK(F13),"Empty cell","ok")) | BG13: =IF(COUNTA($C13:$AX13)=0,"",IF(ISBLANK($G13),"Empty cell",IF($G13<1,"Prod. Gr. Code should be an int. betw. 1 and "&No_of_Product_Classes,IF($G13>No_of_Product_Classes,"Prod. Gr. Code should be an int. betw. 1 and "&No_of_Product_Classes,IF($G13=INT($G13),"ok","Prod. Gr. Code should be an int. betw. 1 and "&No_of_Product_Classes))))) | BH13: =IF(COUNTA($C13:$AX13)=0,"",IF(OR(G13=1,G13=3,G13=5,G13=7,G13=9,G13=10,G13=11,G13=12),IF(ISBLANK(H13),"Empty cell",IF(ISBLANK(J13),"ok",IF(AND(H13="***",J13="***"),"ok",IF(AND(H13<>"***",J13<>"***"),"ok","Manufacturer & Indiv. Model No. must both or neither be ***")))),IF(ISBLANK(H13),"ok","No entry should be made"))) | BI13: =IF(COUNTA($C13:$AX13)=0,"",IF(OR(G13=1,G13=3,G13=5,G13=7,G13=9,G13=10,G13=11,G13=12),IF(ISBLANK(I13),"Empty cell","ok"),IF(ISBLANK(I13),"ok","No entry should be made"))) | BJ13: =IF(COUNTA($C13:$AX13)=0,"",IF(OR(G13=1,G13=3,G13=5,G13=7,G13=9,G13=10,G13=11,G13=12),IF(ISBLANK(J13),"Empty cell",IF(ISBLANK(H13),"ok",IF(AND(J13="***",H13="***"),"ok",IF(AND(J13<>"***",H13<>"***"),"ok","Manufacturer & Indiv. Model No. must both or neither be ***")))),IF(ISBLANK(J13),"ok","No entry should be made"))) | BK13: =IF(COUNTA($C13:$AX13)=0,"",IF(OR(G13=1,G13=3,G13=5,G13=7,G13=9,G13=10,G13=11,G13=12),IF(OR(H13="***",J13="***"),IF(ISBLANK(K13),"Empty cell",IF(K13="***","ok","Entry should be ***")),IF(K13="***","Entry should not be ***","ok")),IF(ISBLANK(K13),"ok","No entry should be made"))) | BL13: =IF(COUNTA($C13:$AX13)=0,"",IF(OR(G13=1,G13=3,G13=5,G13=7,G13=9,G13=10,G13=11,G13=12),IF(ISBLANK(K13),IF(ISBLANK(L13),IF(OR(H13="***",J13="***"),"Empty cell","ok"),"Manuf. Air Mover 1 column not completed"),IF(ISBLANK(L13),"Empty cell","ok")),IF(ISBLANK(L13),"ok","No entry should be made"))) | BM13: =IF(COUNTA($C13:$AX13)=0,"",IF(OR(G13=1,G13=3,G13=5,G13=7,G13=9,G13=10,G13=11,G13=12),IF(ISBLANK(K13),IF(ISBLANK(M13),IF(OR(H13="***",J13="***"),"Empty cell","ok"),"Manuf. Air Mover 1 column not completed"),IF(K13="***",IF(ISBLANK(M13),"Empty cell",IF(M13="***","ok","Entry should be ***")),IF(ISBLANK(M13),"Empty cell",IF(M13="***","Entry should not be ***","ok")))),IF(ISBLANK(M13),"ok","No entry should be made"))) | BN13: =IF(COUNTA($C13:$AX13)=0,"",IF(OR(G13=1,G13=3,G13=5,G13=7,G13=9,G13=10,G13=11,G13=12),IF(OR($H13="***",$J13="***"),IF(ISBLANK(N13),"ok","No entry should be made"),IF(N13="***","Entry cannot be ***","ok")),IF(ISBLANK(N13),"ok","No entry should be made"))) | BO13: =IF(COUNTA($C13:$AX13)=0,"",IF(OR(G13=1,G13=3,G13=5,G13=7,G13=9,G13=10,G13=11,G13=12),IF(ISBLANK(N13),IF(ISBLANK(O13),"ok","Manuf. Indoor Unit 2 not entered"),IF(ISBLANK(O13),"Empty cell","ok")),IF(ISBLANK(O13),"ok","No entry should be made"))) | BP13: =IF(COUNTA($C13:$AX13)=0,"",IF(OR(G13=1,G13=3,G13=5,G13=7,G13=9,G13=10,G13=11,G13=12),IF(ISBLANK(N13),IF(ISBLANK(P13),"ok","Manuf. Indoor Unit 2 not entered"),IF(ISBLANK(P13),"Empty cell",IF(P13="***","Entry cannot be ***","ok"))),IF(ISBLANK(P13),"ok","No entry should be made"))) | BQ13: =IF(COUNTA($C13:$AX13)=0,"",IF(OR(G13=1,G13=3,G13=5,G13=7,G13=9,G13=10,G13=11,G13=12),IF(ISBLANK(N13),IF(ISBLANK(Q13),"ok","Info for Indoor Unit 2 not entered"),IF(Q13="***","Entry cannot be ***","ok")),IF(ISBLANK(Q13),"ok","No entry should be made"))) | BR13: =IF(COUNTA($C13:$AX13)=0,"",IF(OR(G13=1,G13=3,G13=5,G13=7,G13=9,G13=10,G13=11,G13=12),IF(ISBLANK(Q13),IF(ISBLANK(R13),"ok","Manuf. Air Mover 2 not entered"),IF(ISBLANK(R13),"Empty cell","ok")),IF(ISBLANK(R13),"ok","No entry should be made"))) | BS13: =IF(COUNTA($C13:$AX13)=0,"",IF(OR(G13=1,G13=3,G13=5,G13=7,G13=9,G13=10,G13=11,G13=12),IF(ISBLANK(Q13),IF(ISBLANK(S13),"ok","Manuf. Air Mover 2 not entered"),IF(ISBLANK(S13),"Empty cell",IF(S13="***","Entry cannot be ***","ok"))),IF(ISBLANK(S13),"ok","No entry should be made"))) | BT13: =IF(COUNTA($C13:$AX13)=0,"",IF(OR(G13=1,G13=3,G13=5,G13=7,G13=9,G13=10,G13=11,G13=12),IF(ISBLANK(N13),IF(ISBLANK(T13),"ok","Info for Indoor Unit 2 not entered"),IF(T13="***","Entry cannot be ***","ok")),IF(ISBLANK(T13),"ok","No entry should be made"))) | BU13: =IF(COUNTA($C13:$AX13)=0,"",IF(OR(G13=1,G13=3,G13=5,G13=7,G13=9,G13=10,G13=11,G13=12),IF(ISBLANK(T13),IF(ISBLANK(U13),"ok","Manuf. Indoor Unit 3 not entered"),IF(ISBLANK(U13),"Empty cell","ok")),IF(ISBLANK(U13),"ok","No entry should be made"))) | BV13: =IF(COUNTA($C13:$AX13)=0,"",IF(OR(G13=1,G13=3,G13=5,G13=7,G13=9,G13=10,G13=11,G13=12),IF(ISBLANK(T13),IF(ISBLANK(V13),"ok","Manuf. Indoor Unit 3 not entered"),IF(ISBLANK(V13),"Empty cell",IF(V13="***","Entry cannot be ***","ok"))),IF(ISBLANK(V13),"ok","No entry should be made"))) | BW13: =IF(COUNTA($C13:$AX13)=0,"",IF(OR(G13=1,G13=3,G13=5,G13=7,G13=9,G13=10,G13=11,G13=12),IF(ISBLANK(T13),IF(ISBLANK(W13),"ok","Info for Indoor Unit 3 not entered"),IF(W13="***","Entry cannot be ***","ok")),IF(ISBLANK(W13),"ok","No entry should be made"))) | BX13: =IF(COUNTA($C13:$AX13)=0,"",IF(OR(G13=1,G13=3,G13=5,G13=7,G13=9,G13=10,G13=11,G13=12),IF(ISBLANK(W13),IF(ISBLANK(X13),"ok","Manuf. Air Mover 3 not entered"),IF(ISBLANK(X13),"Empty cell","ok")),IF(ISBLANK(X13),"ok","No entry should be made"))) | BY13: =IF(COUNTA($C13:$AX13)=0,"",IF(OR(G13=1,G13=3,G13=5,G13=7,G13=9,G13=10,G13=11,G13=12),IF(ISBLANK(W13),IF(ISBLANK(Y13),"ok","Manuf. Air Mover 3 not entered"),IF(ISBLANK(Y13),"Empty cell",IF(Y13="***","Entry cannot be ***","ok"))),IF(ISBLANK(Y13),"ok","No entry should be made"))) | BZ13: =IF(COUNTA($C13:$AX13)=0,"",IF(OR(G13=1,G13=3,G13=5,G13=7,G13=9,G13=10,G13=11,G13=12),IF(ISBLANK(T13),IF(ISBLANK(Z13),"ok","Info for Indoor Unit 3 not entered"),IF(Z13="***","Entry cannot be ***","ok")),IF(ISBLANK(Z13),"ok","No entry should be made"))) | CA13: =IF(COUNTA($C13:$AX13)=0,"",IF(OR(G13=1,G13=3,G13=5,G13=7,G13=9,G13=10,G13=11,G13=12),IF(ISBLANK(Z13),IF(ISBLANK(AA13),"ok","Manuf. Indoor Unit 4 not entered"),IF(ISBLANK(AA13),"Empty cell","ok")),IF(ISBLANK(AA13),"ok","No entry should be made"))) | CB13: =IF(COUNTA($C13:$AX13)=0,"",IF(OR(G13=1,G13=3,G13=5,G13=7,G13=9,G13=10,G13=11,G13=12),IF(ISBLANK(Z13),IF(ISBLANK(AB13),"ok","Manuf. Indoor Unit 4 not entered"),IF(ISBLANK(AB13),"Empty cell",IF(AB13="***","Entry cannot be ***","ok"))),IF(ISBLANK(AB13),"ok","No entry should be made"))) | CC13: =IF(COUNTA($C13:$AX13)=0,"",IF(OR(G13=1,G13=3,G13=5,G13=7,G13=9,G13=10,G13=11,G13=12),IF(ISBLANK(Z13),IF(ISBLANK(AC13),"ok","Info for Indoor Unit 4 not entered"),IF(AC13="***","Entry cannot be ***","ok")),IF(ISBLANK(AC13),"ok","No entry should be made"))) | CD13: =IF(COUNTA($C13:$AX13)=0,"",IF(OR(G13=1,G13=3,G13=5,G13=7,G13=9,G13=10,G13=11,G13=12),IF(ISBLANK(AC13),IF(ISBLANK(AD13),"ok","Manuf. Air Mover 4 not entered"),IF(ISBLANK(AD13),"Empty cell","ok")),IF(ISBLANK(AD13),"ok","No entry should be made"))) | CE13: =IF(COUNTA($C13:$AX13)=0,"",IF(OR(G13=1,G13=3,G13=5,G13=7,G13=9,G13=10,G13=11,G13=12),IF(ISBLANK(AC13),IF(ISBLANK(AE13),"ok","Manuf. Air Mover 4 not entered"),IF(ISBLANK(AE13),"Empty cell",IF(AE13="***","Entry cannot be ***","ok"))),IF(ISBLANK(AE13),"ok","No entry should be made"))) | CF13: =IF(COUNTA($C13:$AX13)=0,"",IF(OR(G13=1,G13=3,G13=5,G13=7,G13=9,G13=10,G13=11,G13=12),IF(ISBLANK(Z13),IF(ISBLANK(AF13),"ok","Info for Indoor Unit 4 not entered"),IF(AF13="***","Entry cannot be ***","ok")),IF(ISBLANK(AF13),"ok","No entry should be made"))) | CG13: =IF(COUNTA($C13:$AX13)=0,"",IF(OR(G13=1,G13=3,G13=5,G13=7,G13=9,G13=10,G13=11,G13=12),IF(ISBLANK(AF13),IF(ISBLANK(AG13),"ok","Manuf. Indoor Unit 5 not entered"),IF(ISBLANK(AG13),"Empty cell","ok")),IF(ISBLANK(AG13),"ok","No entry should be made"))) | CH13: =IF(COUNTA($C13:$AX13)=0,"",IF(OR(G13=1,G13=3,G13=5,G13=7,G13=9,G13=10,G13=11,G13=12),IF(ISBLANK(AF13),IF(ISBLANK(AH13),"ok","Manuf. Indoor Unit 5 not entered"),IF(ISBLANK(AH13),"Empty cell",IF(AH13="***","Entry cannot be ***","ok"))),IF(ISBLANK(AH13),"ok","No entry should be made"))) | CI13: =IF(COUNTA($C13:$AX13)=0,"",IF(OR(G13=1,G13=3,G13=5,G13=7,G13=9,G13=10,G13=11,G13=12),IF(ISBLANK(AF13),IF(ISBLANK(AI13),"ok","Info for Indoor Unit 5 not entered"),IF(AI13="***","Entry cannot be ***","ok")),IF(ISBLANK(AI13),"ok","No entry should be made"))) | CJ13: =IF(COUNTA($C13:$AX13)=0,"",IF(OR(G13=1,G13=3,G13=5,G13=7,G13=9,G13=10,G13=11,G13=12),IF(ISBLANK(AI13),IF(ISBLANK(AJ13),"ok","Manuf. Air Mover 5 not entered"),IF(ISBLANK(AJ13),"Empty cell","ok")),IF(ISBLANK(AJ13),"ok","No entry should be made"))) | CK13: =IF(COUNTA($C13:$AX13)=0,"",IF(OR(G13=1,G13=3,G13=5,G13=7,G13=9,G13=10,G13=11,G13=12),IF(ISBLANK(AI13),IF(ISBLANK(AK13),"ok","Manuf. Air Mover 5 not entered"),IF(ISBLANK(AK13),"Empty cell",IF(AK13="***","Entry cannot be ***","ok"))),IF(ISBLANK(AK13),"ok","No entry should be made"))) | CL13: =IF(COUNTA($C13:$AX13)=0,"",IF(ISBLANK(AL13),"Empty cell",IF(AL13="yes","ok",IF(AL13="y","ok",IF(AL13="no","ok",IF(AL13="n","ok","Entry should be either 'yes', 'y', 'no' or 'n'")))))) | CM13: =IF(COUNTA($C13:$AX13)=0,"",IF(ISBLANK($AM13),"Empty cell",IF(OR($AM13="n",$AM13="eto",$AM13="d",$AM13="c",$AM13="e",$AM13="f"),"ok","Should be n, eto, d, c, e, or f"))) | CN13: =IF(COUNTA($C13:$AX13)=0,"",IF(AM13="d","ok",IF(ISBLANK($AN13),"Empty cell",IF(OR(AS13="yes",AS13="y"),IF(AN13=0,"ok","Entry should be 0"),IF(OR(AS13="no",AS13="n"),IF(ISNUMBER(AN13),IF(INT(AN13)=AN13,IF(AN13>0,"ok","Entry should be a positive integer"),"Entry should be a positive integer"),"Entry should be a positive integer"),IF(ISNUMBER(AN13),IF(INT(AN13)=AN13,IF(AN13>=0,"ok","Need to answer AEDM question"),"Need to answer AEDM question"),"Need to answer AEDM question")))))) | CO13: =IF(COUNTA($C13:$AX13)=0,"",IF(AM13="d","ok",IF(ISBLANK(AO13),"Empty cell",IF(AO13="yes","ok",IF(AO13="y","ok",IF(AO13="no","ok",IF(AO13="n","ok","Entry should be either 'yes', 'y', 'no' or 'n'"))))))) | CP13: =IF(COUNTA($C13:$AX13)=0,"",IF(AM13="d","ok",IF(ISBLANK(AO13),IF(ISBLANK(AP13),"ok","Waiver question not answered"),IF(OR(AO13="yes",AO13="y"),IF(ISBLANK(AP13),"Empty cell",IF(ISNUMBER(AP13),IF(AP13<1,"Entry should be a date in M/D/YYYY format","ok"),"Entry should be a date in M/D/YYYY format")),IF(OR(AO13="no",AO13="n"),IF(ISBLANK(AP13),"ok","No entry should be made in cell"),IF(ISBLANK(AP13),"ok","No entry should be made in cell")))))) | CQ13: =IF(COUNTA($C13:$AX13)=0,"",IF(AM13="d","ok",IF(ISBLANK(AQ13),"Empty cell",IF(AQ13="yes","ok",IF(AQ13="y","ok",IF(AQ13="no","ok",IF(AQ13="n","ok","Entry should be either 'yes', 'y', 'no' or 'n'"))))))) | CR13: =IF(COUNTA($C13:$AX13)=0,"",IF(AM13="d","ok",IF(ISBLANK(AQ13),IF(ISBLANK(AR13),"ok","Exemption question not answered"),IF(OR(AQ13="yes",AQ13="y"),IF(ISBLANK(AR13),"Empty cell",IF(ISNUMBER(AR13),IF(AR13<1,"Entry should be a date in M/D/YYYY format","ok"),"Entry should be a date in M/D/YYYY format")),IF(OR(AQ13="no",AQ13="n"),IF(ISBLANK(AR13),"ok","No entry should be made in cell"),IF(ISBLANK(AR13),"ok","No entry should be made in cell")))))) | CS13: =IF(COUNTA($C13:$AX13)=0,"",IF(AM13="d","ok",IF(ISBLANK(AS13),"Empty cell",IF(AS13="yes","ok",IF(AS13="y","ok",IF(AS13="no","ok",IF(AS13="n","ok","Entry should be either 'yes', 'y', 'no' or 'n'"))))))) | CT13: =IF(COUNTA($C13:$AX13)=0,"",IF(AM13="d","ok",IF(ISBLANK(AS13),IF(ISBLANK(AT13),"ok","AEDM question not answered"),IF(OR(AS13="yes",AS13="y"),IF(ISBLANK(AT13),"Empty cell","ok"),IF(OR(AS13="no",AS13="n"),IF(ISBLANK(AT13),"ok","No entry should be made in cell"),IF(ISBLANK(AT13),"ok","No entry should be made in cell")))))) | CU13: =IF(COUNTA($C13:$AX13)=0,"",IF($AM13="d","ok",IF(ISBLANK(AU13),"ok",IF(ISNUMBER(AU13),IF(AU13>0,"ok","Entry should be greater than 0"),"Entry should be a number")))) | CV13: =IF(COUNTA($C13:$AX13)=0,"",IF($AM13="d","ok",IF(OR(G13=3,G13=4,G13=7,G13=8,G13=10,G13=12,G13=14),IF(ISBLANK(AV13),"ok",IF(ISNUMBER($AV13),IF($AV13>0,"ok","Entry should be greater than 0"),"Entry should be a number")),IF(ISBLANK(AV13),"ok","Model is not a heat pump")))) | CW13: =IF(COUNTA($C13:$AX13)=0,"",IF($AM13="d","ok",IF(ISBLANK(AW13),"ok",IF(ISNUMBER(AW13),IF(AW13>0,"ok","Entry should be greater than 0"),"Entry should be a number")))) | CX13: =IF(COUNTA($C13:$AX13)=0,"",IF($AM13="d","ok",IF(ISBLANK($AX13),"ok",IF(RIGHT(AX13,4)=".pdf",IF(LEFT(AX13,3)="DOE",IF(ISNUMBER(VALUE(MID(AX13,4,4))),"ok","Filename is not in correct format"),"Filename is not in correct format"),"Filename is not in correct format")))) | DI13: =IF(BG13="ok",VLOOKUP(G13,PrClDesc,2),"") | DL13: aaaaaa
